Workbook

Sheet Cover Page
A1: Version | B1: Description | C1: Update By | D1: Update Date
A2: 1 | B2: Initial Version | C2: Derek Wong, Kyle Ling
A3: 1.1 | B3: Start SIT | C3: Tester | D3: 45727

Sheet Legend
A1: Status | C1: Total Number of Test Case | D1: =SUM(MAX('Signup+My Account'!A:A),MAX('Signin+Reset Password'!A:A),MAX('Home Page+Menu'!A:A),MAX('New Repair Request'!A:A),MAX('My+BD Repair Request'!A:A), MAX('User Verification+Invite'!A:A), MAX('Group Maintenance'!A:A), MAX('BD Report Download'!A:A),MAX('Search RRF (DS)'!A:A),MAX('Monitor Screen (DS)'!A:A),MAX(Dashboard!A:A),MAX('Admin Approval'!A:A),MAX('Sys Setting+Static Page '!A:A),MAX(Notification!A:A),MAX(Annoucement!A:A),MAX('DA+FEHD API Enhancement'!A:A),MAX('MTC Data Exchange'!A:A)) -> 468 | H1: Broswer Version
A2: Tested | C2: Total Oustanding Test Case | D2: =SUM(COUNTIFS('Signup+My Account'!A:A, ">0",'Signup+My Account'!S:S,""),COUNTIFS('Signin+Reset Password'!A:A, ">0",'Signin+Reset Password'!S:S,""),COUNTIFS('Home Page+Menu'!A:A, ">0",'Home Page+Menu'!S:S,""),COUNTIFS('New Repair Request'!A:A, ">0",'New Repair Request'!S:S,""),COUNTIFS('My+BD Repair Request'!A:A, ">0",'My+BD Repair Request'!S:S,""),COUNTIFS('User Verification+Invite'!A:A, ">0",'User Verification+Invite'!S:S,""),COUNTIFS('Group Maintenance'!A:A, ">0",'Group Maintenance'!S:S,""),COUNTIFS('BD Report Download'!A:A, ">0",'BD Report Download'!S:S,""),COUNTIFS('Search RRF (DS)'!A:A, ">0",'Search RRF (DS)'!S:S,""),COUNTIFS('Monitor Screen (DS)'!A:A, ">0",'Monitor Screen (DS)'!S:S,""),COUNTIFS(Dashboard!A:A, ">0",Dashboard!S:S,""),COUNTIFS('Admin Approval'!A:A, ">0",'Admin Approval'!S:S,""),COUNTIFS('Sys Setting+Static Page '!A:A, ">0",'Sys Setting+Static Page '!S:S,""),COUNTIFS(Notification!A:A, ">0",Notification!S:S,""),COUNTIFS(Annoucement!A:A, ">0",Annoucement!S:S,""),COUNTIFS('DA+FEHD API Enhancement'!A:A, ">0",'DA+FEHD API Enhancement'!J:J,""),COUNTIFS('MTC Data Exchange'!A:A, ">0",'MTC Data Exchange'!J:J,"") ) -> 38 | E2: =D2/$D$1 -> 0.081196581 | H2: Chrome | I2: 142.0.7444.163
A3: To Be Fixed | C3: Total Tested Test Case | D3: =SUM(COUNTIFS('Signup+My Account'!A:A, ">0",'Signup+My Account'!S:S,A2),COUNTIFS('Signin+Reset Password'!A:A, ">0",'Signin+Reset Password'!S:S,A2),COUNTIFS('Home Page+Menu'!A:A, ">0",'Home Page+Menu'!S:S,A2),COUNTIFS('New Repair Request'!A:A, ">0",'New Repair Request'!S:S,A2),COUNTIFS('My+BD Repair Request'!A:A, ">0",'My+BD Repair Request'!S:S,A2),COUNTIFS('User Verification+Invite'!A:A, ">0",'User Verification+Invite'!S:S,A2),COUNTIFS('Group Maintenance'!A:A, ">0",'Group Maintenance'!S:S,A2),COUNTIFS('BD Report Download'!A:A, ">0",'BD Report Download'!S:S,A2),COUNTIFS('Search RRF (DS)'!A:A, ">0",'Search RRF (DS)'!S:S,A2),COUNTIFS('Monitor Screen (DS)'!A:A, ">0",'Monitor Screen (DS)'!S:S,A2),COUNTIFS(Dashboard!A:A, ">0",Dashboard!S:S,A2),COUNTIFS('Admin Approval'!A:A, ">0",'Admin Approval'!S:S,A2),COUNTIFS('Sys Setting+Static Page '!A:A, ">0",'Sys Setting+Static Page '!S:S,A2),COUNTIFS(Notification!A:A, ">0",Notification!S:S,A2),COUNTIFS(Annoucement!A:A, ">0",Annoucement!S:S,A2),COUNTIFS('DA+FEHD API Enhancement'!A:A, ">0",'DA+FEHD API Enhancement'!J:J,A2),COUNTIFS('MTC Data Exchange'!A:A, ">0",'MTC Data Exchange'!J:J,A2) ) -> 401 | E3: =D3/$D$1 -> 0.85683761 | H3: FireFox | I3: 145
A4: Fixed | C4: Total To Be Fixed Test Case | D4: =SUM(COUNTIFS('Signup+My Account'!A:A, ">0",'Signup+My Account'!S:S,A3),COUNTIFS('Signin+Reset Password'!A:A, ">0",'Signin+Reset Password'!S:S,A3),COUNTIFS('Home Page+Menu'!A:A, ">0",'Home Page+Menu'!S:S,A3),COUNTIFS('New Repair Request'!A:A, ">0",'New Repair Request'!S:S,A3),COUNTIFS('My+BD Repair Request'!A:A, ">0",'My+BD Repair Request'!S:S,A3),COUNTIFS('User Verification+Invite'!A:A, ">0",'User Verification+Invite'!S:S,A3),COUNTIFS('Group Maintenance'!A:A, ">0",'Group Maintenance'!S:S,A3),COUNTIFS('BD Report Download'!A:A, ">0",'BD Report Download'!S:S,A3),COUNTIFS('Search RRF (DS)'!A:A, ">0",'Search RRF (DS)'!S:S,A3),COUNTIFS('Monitor Screen (DS)'!A:A, ">0",'Monitor Screen (DS)'!S:S,A3),COUNTIFS(Dashboard!A:A, ">0",Dashboard!S:S,A3),COUNTIFS('Admin Approval'!A:A, ">0",'Admin Approval'!S:S,A3),COUNTIFS('Sys Setting+Static Page '!A:A, ">0",'Sys Setting+Static Page '!S:S,A3),COUNTIFS(Notification!A:A, ">0",Notification!S:S,A3),COUNTIFS(Annoucement!A:A, ">0",Annoucement!S:S,A3),COUNTIFS('DA+FEHD API Enhancement'!A:A, ">0",'DA+FEHD API Enhancement'!J:J,A3),COUNTIFS('MTC Data Exchange'!A:A, ">0",'MTC Data Exchange'!J:J,A3) ) -> 14 | E4: =D4/$D$1 -> 0.02991453 | H4: Edge | I4: 142.0.3595.80
A5: To Be Retested | C5: Total Fixing Test Case | D5: =SUM(COUNTIFS('Signup+My Account'!A:A, ">0",'Signup+My Account'!S:S,A6),COUNTIFS('Signin+Reset Password'!A:A, ">0",'Signin+Reset Password'!S:S,A6),COUNTIFS('Home Page+Menu'!A:A, ">0",'Home Page+Menu'!S:S,A6),COUNTIFS('New Repair Request'!A:A, ">0",'New Repair Request'!S:S,A6),COUNTIFS('My+BD Repair Request'!A:A, ">0",'My+BD Repair Request'!S:S,A6),COUNTIFS('User Verification+Invite'!A:A, ">0",'User Verification+Invite'!S:S,A6),COUNTIFS('Group Maintenance'!A:A, ">0",'Group Maintenance'!S:S,A6),COUNTIFS('BD Report Download'!A:A, ">0",'BD Report Download'!S:S,A6),COUNTIFS('Search RRF (DS)'!A:A, ">0",'Search RRF (DS)'!S:S,A6),COUNTIFS('Monitor Screen (DS)'!A:A, ">0",'Monitor Screen (DS)'!S:S,A6),COUNTIFS(Dashboard!A:A, ">0",Dashboard!S:S,A6),COUNTIFS('Admin Approval'!A:A, ">0",'Admin Approval'!S:S,A6),COUNTIFS('Sys Setting+Static Page '!A:A, ">0",'Sys Setting+Static Page '!S:S,A6),COUNTIFS(Notification!A:A, ">0",Notification!S:S,A6),COUNTIFS(Annoucement!A:A, ">0",Annoucement!S:S,A6),COUNTIFS('DA+FEHD API Enhancement'!A:A, ">0",'DA+FEHD API Enhancement'!J:J,A6),COUNTIFS('MTC Data Exchange'!A:A, ">0",'MTC Data Exchange'!J:J,A6) ) -> 0 | E5: =D5/$D$1 -> 0 | H5: Safari - MAC login: - test / test | I5: - MAC login: - test / test
A6: Fixing | C6: Total Fixed Test Case | D6: =SUM(COUNTIFS('Signup+My Account'!A:A, ">0",'Signup+My Account'!S:S,A4),COUNTIFS('Signin+Reset Password'!A:A, ">0",'Signin+Reset Password'!S:S,A4),COUNTIFS('Home Page+Menu'!A:A, ">0",'Home Page+Menu'!S:S,A4),COUNTIFS('New Repair Request'!A:A, ">0",'New Repair Request'!S:S,A4),COUNTIFS('My+BD Repair Request'!A:A, ">0",'My+BD Repair Request'!S:S,A4),COUNTIFS('User Verification+Invite'!A:A, ">0",'User Verification+Invite'!S:S,A4),COUNTIFS('Group Maintenance'!A:A, ">0",'Group Maintenance'!S:S,A4),COUNTIFS('BD Report Download'!A:A, ">0",'BD Report Download'!S:S,A4),COUNTIFS('Search RRF (DS)'!A:A, ">0",'Search RRF (DS)'!S:S,A4),COUNTIFS('Monitor Screen (DS)'!A:A, ">0",'Monitor Screen (DS)'!S:S,A4),COUNTIFS(Dashboard!A:A, ">0",Dashboard!S:S,A4),COUNTIFS('Admin Approval'!A:A, ">0",'Admin Approval'!S:S,A4),COUNTIFS('Sys Setting+Static Page '!A:A, ">0",'Sys Setting+Static Page '!S:S,A4),COUNTIFS(Notification!A:A, ">0",Notification!S:S,A4),COUNTIFS(Annoucement!A:A, ">0",Annoucement!S:S,A4),COUNTIFS('DA+FEHD API Enhancement'!A:A, ">0",'DA+FEHD API Enhancement'!J:J,A4),COUNTIFS('MTC Data Exchange'!A:A, ">0",'MTC Data Exchange'!J:J,A4) ) -> 0 | E6: =D6/$D$1 -> 0
C7: Total Retested Test Case | D7: =SUM(COUNTIFS('Signup+My Account'!A:A, ">0",'Signup+My Account'!S:S,A5),COUNTIFS('Signin+Reset Password'!A:A, ">0",'Signin+Reset Password'!S:S,A5),COUNTIFS('Home Page+Menu'!A:A, ">0",'Home Page+Menu'!S:S,A5),COUNTIFS('New Repair Request'!A:A, ">0",'New Repair Request'!S:S,A5),COUNTIFS('My+BD Repair Request'!A:A, ">0",'My+BD Repair Request'!S:S,A5),COUNTIFS('User Verification+Invite'!A:A, ">0",'User Verification+Invite'!S:S,A5),COUNTIFS('Group Maintenance'!A:A, ">0",'Group Maintenance'!S:S,A5),COUNTIFS('BD Report Download'!A:A, ">0",'BD Report Download'!S:S,A5),COUNTIFS('Search RRF (DS)'!A:A, ">0",'Search RRF (DS)'!S:S,A5),COUNTIFS('Monitor Screen (DS)'!A:A, ">0",'Monitor Screen (DS)'!S:S,A5),COUNTIFS(Dashboard!A:A, ">0",Dashboard!S:S,A5),COUNTIFS('Admin Approval'!A:A, ">0",'Admin Approval'!S:S,A5),COUNTIFS('Sys Setting+Static Page '!A:A, ">0",'Sys Setting+Static Page '!S:S,A5),COUNTIFS(Notification!A:A, ">0",Notification!S:S,A5),COUNTIFS(Annoucement!A:A, ">0",Annoucement!S:S,A5),COUNTIFS('DA+FEHD API Enhancement'!A:A, ">0",'DA+FEHD API Enhancement'!J:J,A5),COUNTIFS('MTC Data Exchange'!A:A, ">0",'MTC Data Exchange'!J:J,A5) ) -> 15 | E7: =D7/$D$1 -> 0.032051282
H11: Testing URL
H12: Revamped CyberRCC | I12: https://iamsmart.itapps.com/#/signin | J12: C:\Windows\System32\drivers\etc\host 113.28.105.210
H13: DA | I13: https://172.16.3.65/da_Mobility0220/main.zul
I14: RCC Supervisor Login: itapps2 / itapps itapps3 / itapps DS Login: wongcw5 / itapps
H15: CCE Agent | I15: 172.16.3.106 a\admnistrator P@ssw0rd
H16: Check Email (2FA, Notification etc) | I16: \\CCEDB\mail
H20: Account ID | I20: Login | J20: Role | L20: Account ID | M20: Login | N20: Role
H21: Z0001 | I21: test10@test.gov.hk | J21: B/D User | L21: Z0007 | M21: test9@test.gov.hk | N21: B/D User
H22: Z0006 | I22: test11@test.gov.hk | J22: B/D Group Admin | L22: T1235 | M22: test4@test.gov.hk | N22: B/D Group Admin
H23: Z0005 | I23: test13@test.gov.hk | J23: B/D Admin | L23: T1233 | M23: test5@test.gov.hk | N23: B/D Admin
H24: C1006 | I24: test14@test.gov.hk | J24: B/D Report User | L24: C1003 | M24: test6@test.gov.hk | N24: B/D Report User
I25: test@email.SStaff | J25: DS
I26: test@email.SSS | J26: RCC Admin / Supervisor

Sheet Signup+My Account
A1: Case No | B1: Seg. | C1: Description | D1: Test Procedure | E1: Test Data/ Prerequisite | F1: Expected Result | G1: Date | H1: Tester | I1: Result | S1: Status | T1: Remarks
I2: Language | L2: Desktop | P2: Tablet | Q2: Mobile
I3: English | J3: Trad Chi | K3: Simp Chi | L3: Chrome | M3: FireFox | N3: Edge | O3: Safari | P3: Pad | Q3: Android | R3: IOS
A4: Scenario 1: | B4: Signup UI
A5: =MAX($A$1:A4) + 1 -> 1 | C5: Test Sign Up UI in different browser and device | D5: 1. Open Revamped CyberRCC in Chrome Browser 2. Click "Sign Up" in the menu 3. Enter all compulsory information 4. Click "Add Address" button 5. Enter all compulsory address information and click Confirm button 6. Click "Sign Up" Button 7. Click "Submit" button 8. Repeat Step1-7 in FireFox Browser 9. Repeat Step1-7 in Edge Browser 10. Repeat Step1-7 in Safari Browser 11. Repeat Step1-7 in tablet Chrome Browser 12. Repeat Step1-7 in Andoid Chrome Browser 13. Repeat Step1-7 in iOS Safari Browser | F5: 2. Sign Up Form Display Properly 4. Display Add Address Pop Up Properly 6. Preview Sign Up Display Properly 7. Submit Successful Page Display Properly 8 - 13: Same Page Layout Display as Chrome in Step 2, 4, 6 & 7 | G5: 46008 | H5: Oscar | L5: Passed | M5: Passed | N5: Passed | O5: Passed | P5: Passed | Q5: Passed | R5: Passed | S5: Tested | T5: Firefox: password field eyes icon not in the text field (fixed) eye icon seems not work in mobile (fixed) | U5: update: 2025/12/15
A6: =MAX($A$1:A5) + 1 -> 2 | C6: Test Sign Up UI in different language | D6: 1. Open Revamped CyberRCC with English in Chrome Browser 2. Click "Sign Up" in the menu 3. Select Traditional Chinese 4. Select Simplifed Chinese 5. Enter all compulsory information 6. Click "Add Address" button 7. Enter all compulsory address information and click Confirm button 8. Select Traditional Chinese 9. Click "Add Address" button 10. Click Cancel Button 11. Select English 12. Click "Add Address" button 13. Clcik Cancel Button 14. Click "Sign Up" Button 15. Select Traditional Chinese 16. Select Simplifed Chinese 17. Click "Submit" button 18. Select Traditional Chinese 19. Select English | F6: 2, 12, 14, 19: Display correct label in English 3, 9, 15, 18: Display correct label in Traditional Chinese 5, 6, 16, 17: Display correct label in Simplified Chinese | G6: 46008 | H6: Oscar | I6: Passed | J6: Passed | K6: Passed | S6: Tested | T6: Tc: ?生署 | U6: update: 2025/12/15
A7: Scenario 2: | B7: My Account UI
A8: =MAX($A$1:A7) + 1 -> 3 | C8: Test My Account UI in different browser and device | D8: 1. Open Revamped CyberRCC in Chrome Browser 2. Login As BD User 3. Click My Account Page 4. Click Edit a address Page 5. Repeat Step 1 - 4 in FireFox Browser 6. Repeat Step 1-4 in Edge Browser 7. Repeat Step 1-4 in Safari Browser 8. Repeat Step 1-4 in tablet Chrome Browser 9. Repeat Step 1-4 in Andoid Chrome Browser 10. Repeat Step 1-4 in iOS Safari Browser | F8: 3: Display My Account Page Properly 4: Display Add/Edit Address Pop Up Properly 5 -10: Same Page Layout as Chrome Browser | G8: 46008 | H8: Oscar | L8: Passed | M8: Passed | N8: Passed | O8: Passed | P8: Passed | Q8: Passed | R8: Passed | S8: Tested | T8: when try to delete new added address, message show can't delete approved address. (fixed)
A9: =MAX($A$1:A8) + 1 -> 4 | C9: Test My Account UI in different language | D9: 1. Open Revamped CyberRCC in English in Chrome Browser 2. Login As BD User 3. Click My Account Page 4. Click Edit a address Page 5. Click Cancel button 6. Select Traditional Chinese and repeat Step 3 - 4 7. Select Simplified Chinese and repeat Step 3 - 4 | F9: 3 - 4: Display correct label in English 6: Display correct label in Traditional Chinese 7: Display correct label in Simplified Chinese | G9: 46008 | H9: Oscar | I9: Passed | J9: Passed | K9: Passed | S9: Tested
A10: Scenario 3: | B10: Signup Function
A11: =MAX($A$1:A10) + 1 -> 5 | C11: iAMSmart Form Filling | D11: 1. Open Revamped CyberRCC 2. Select Sign Up in Menu 3. Click Sign with iAM Smart Button 4. Scan QR Code with iAMSmart Application | F11: 3: Page with iAMSmart QR Code will be poped up 4: Redirect to Sign Up Page and following field will be marked as form filled by iAMSmart: -Title -First Name (Eng) -Last Name (Eng) -First Name (Chi) -Last Name (Chi) -Primary Contact Number | G11: 46008 | H11: Kyle | L11: Passed | M11: Passed | N11: Passed | O11: Passed | S11: Tested
A12: =MAX($A$1:A11) + 1 -> 6 | C12: Verify Login Email As Government Email Only | D12: 1. Open Revamped CyberRCC 2. Select Sign Up in Menu 3. Enter a email without .gov.hk and click Send Code button 4. Enter another email with .gov.hk and click Send Code Button 5. Enter a random code in Email Verification Code and click Verify Button 6. Copy the code from email to Email Verification Code and click Verify Button | F12: 3: Error Message for non government email is be shown 4: an email with verification code is received in inputted email address 5: Error Message for incorrect code will be shown 6: Login Email will marked as Verified, Button Resend Code, filling field Email Verification Code will be disappeared | G12: 45979 | H12: Vincent | L12: Passed | M12: Passed | N12: Passed | O12: Passed | S12: Tested | U12: Chrome version: 142.0.7444.176 Firefox version: 145 Edge version: 142.0.3595.80
A13: =MAX($A$1:A12) + 1 -> 7 | C13: Resend Code for Verification | D13: 1. Open Revamped CyberRCC 2. Select Sign Up in Menu 3. Enter a email with .gov.hk and click Send Code Button 4. Click Resend Code button | F13: 4: Another Email with new verification code is received | G13: 45979 | H13: Vincent | L13: Passed | M13: Passed | N13: Passed | O13: Passed | S13: Tested
A14: =MAX($A$1:A13) + 1 -> 8 | C14: Add Quarter Address Successfully | D14: 1. Open Revamped CyberRCC 2. Select Sign Up in Menu 3. Click Add New Button 4. Enter all compulsory address information and mark as quarter 5. Click Confirm | F14: 5: A address record with quarter label is shown under Address | G14: 45979 | H14: Vincent | L14: Passed | M14: Passed | N14: Passed | O14: Passed | S14: Tested
A15: =MAX($A$1:A14) + 1 -> 9 | C15: Add Non Quarter Address Successfully | D15: 1. Open Revamped CyberRCC 2. Select Sign Up in Menu 3. Click Add New Button 4. Enter all compulsory address information and mark as non quarter 5. Click Confirm | F15: 5: A address record without quarter label is shown under Address | G15: 45979 | H15: Vincent | L15: Passed | M15: Passed | N15: Passed | O15: Passed | S15: Tested
A16: =MAX($A$1:A15) + 1 -> 10 | C16: Address Suggestion | D16: 1. Open Revamped CyberRCC 2. Select Sign Up in Menu 3. Click Add New Button 4. Enter "Morse" 5. Select "Morse Swimming Pool" | F16: 4: Show list of Address with Morse 5: Morse Swimming Pool address is autofilled, the district and area will be auto selected and cannot be changed | G16: 45979 | H16: Vincent | L16: Passed | M16: Passed | N16: Passed | O16: Passed | S16: Tested
A17: =MAX($A$1:A16) + 1 -> 11 | C17: Validation on adding Address | D17: 1. Open Revamped CyberRCC 2. Select Sign Up in Menu 3. Click Add New Button 4. Leave all the fields empty and click Confirm 5. Enter all compulsory address information and enter invalid date for effective start date and effective end date 6. Enter valid date for effective start date and effective end date but end date is earlier than start date | F17: 4: Error Message for mandatory field will be shown, including: - District - Area - Effective Start Date - Street/Estate/Village/Building 5: Error Message for incorrect format of effective start date and end date 6: Error Message for end date cannot be earlier than start date | G17: 45993 | H17: Vincent | L17: Passed | M17: Passed | N17: Passed | O17: Passed | S17: Tested
A18: =MAX($A$1:A17) + 1 -> 12 | C18: Submit Signup Succesfully | D18: 1. Open Revamped CyberRCC 2. Select Sign Up in Menu 3. Input Correct Login Email and click send Verification Code 4. Copy Code from email and click Verify 5. Input all fields 6. Click Add New Button 7. Enter all address information and mark as quarter 8. Click Confirm 9. Tick I agree to the Terms and Conditions and Privacy Policy 10. Click Sign Up 11. Click Submit | F18: 10: Preview Page for Previous Input Information will be displayed 11: Sign Up Completion will be shown and a email will be received with header "Account create successfully for CyberRCC" | G18: 45994 | H18: Vincent | L18: Passed | M18: Passed | N18: Passed | O18: Passed | S18: Tested
A19: =MAX($A$1:A18) + 1 -> 13 | C19: Department Dropdown and Group Dropdown | D19: 1. Open Revamped CyberRCC 2. Select Sign Up in Menu 3. Click Bureau\Department Dropdown 4. Select AFCD 5. Click Group Dropdown | F19: 3: Show Bureau/Department List 5: Show all Groups under AFCD | G19: 45979 | H19: Vincent | L19: Passed | M19: Passed | N19: Passed | O19: Passed | S19: Tested
A20: =MAX($A$1:A19) + 1 -> 14 | C20: Validation on submit signup | D20: 1. Open Revamped CyberRCC 2. Select Sign Up in Menu 3. Click Sign Up Button 4. Input Correct Login Email and click send Verification Code 5. Copy Code from email and click Verify 6. Input all mandatory fields and click Sign Up 7. Click Add New Button 8. Enter all address information and mark as quarter 9. Click Confirm 10. Click Sign Up 11. Tick I agree to the Terms and Conditions and Privacy Policy 12. Set Password, Confirm Password to abcd1234 and Click Sign Up 13. Set Password to P@ssw0rd, Confirm Password to abcd1234 and click Sign Up 14. Set Primary Contact Number to non 8 digit number and click Sign Up 15. Set Secondary Contact Number to non 8 digit number and click Sign Up | F20: 3: Error Message for mandatory field will be shown, including: - Login Email - Password - Confirm Password - First Name (Eng) - Last Name (Eng) - Primary Contact No - Bureau/Department - Post 6: Error Message for At least one Address is required 10: Error Message for ticking T and C and Privacy Policy 12: Error Message for Password Policy 13: Error Message for Confirm Password not Match 14: Error Message for Incorrect format for primary contact number 15: Error Message for Incorrect format for secondary contact number | G20: 45979 | H20: Vincent | L20: Passed | M20: Passed | N20: Passed | O20: Passed | S20: Tested | T20: In Firefox, the show eye button with Password is wrong location In Edge, the show eye button with Confirm Password is weird when input the password
A21: Scenario 4: | B21: My Account Function
A22: =MAX($A$1:A21) + 1 -> 15 | C22: Display Account Information | D22: 1. Open Revamped CyberRCC 2. Login as BD User 3. Select My Account in Menu | F22: 3: My Account with correct account information is displayed | G22: 45980 | H22: Vincent | L22: Passed | M22: Passed | N22: Passed | O22: Passed | S22: Tested
A23: =MAX($A$1:A22) + 1 -> 16 | C23: Update Password Successfully | D23: 1. Open Revamped CyberRCC 2. Login as BD User 3. Select My Account in Menu 4. Update Password with correct password policy 5. Input Confirm Password same as Password 6. Click Save 7. Logout and Login with new Password again | F23: 6: Password Updated Successfully 7: Can Login with new password successfully | G23: 45980 | H23: Vincent | L23: Passed | M23: Passed | N23: Passed | O23: Passed | S23: Tested
A24: =MAX($A$1:A23) + 1 -> 17 | C24: Link with iAMSmart | D24: 1. Open Revamped CyberRCC 2. Login as BD User without linkage with iAM Smart 3. Select My Account in Menu 4. Click Continue with iAM Smart 5. Scan iAM Smart QR Code 6. Logout and Login with iAMSmart | F24: 4: iAM Smart QR Code will be poped 5: Redirect back to My Account and the account is linked with iAM Smart. "De-linkage with iAM Smart Account" is shown 6: Login with iAMSmart Successfully | G24: 46008 | H24: Kyle | L24: Passed | M24: Passed | N24: Passed | O24: Passed | S24: Tested | T24: After link, the button "Link with iAM …" do not change to "De-linkage .." | U24: update: 2026/1/5
A25: =MAX($A$1:A24) + 1 -> 18 | C25: Delink with iAMSmart | D25: 1. Open Revamped CyberRCC 2. Login as BD User with linkage with iAM Smart 3. Select My Account in Menu 4. Click De-linkage with iAM Smart Account 5. Logout and Login with iAMSmart | F25: 4: The account is delinked with iAM Smart. "Continue with iAM Smart" is shown 5: Cannot Login with iAM Smart Account | G25: 46008 | H25: Kyle | L25: Passed | M25: Passed | N25: Passed | O25: Passed | S25: Tested
A26: =MAX($A$1:A25) + 1 -> 19 | C26: Update Account Information Successfully | D26: 1. Open Revamped CyberRCC 2. Login as BD User 3. Select My Account in Menu 4. Update Primary Contact Number and Secondary Contact Number, Post and Comm. Language 5. Click Save | F26: 5. All Updated Information is saved and displayed | G26: 45980 | H26: Vincent | L26: Passed | M26: Passed | N26: Passed | O26: Passed | S26: Tested
A27: =MAX($A$1:A26) + 1 -> 20 | C27: Add Address Successfully | D27: 1. Open Revamped CyberRCC 2. Login as BD User 3. Select My Account in Menu 4. Click Add New 5. Enter all compulsory address information and mark as quarter 6. Click Confirm 7. Click Save | F27: 4: Add Address Pop up 6: A new address record show under Address 7: The new address is saved and displayed in My Account | G27: 45980 | H27: Vincent | L27: Passed | M27: Passed | N27: Passed | O27: Passed | S27: Tested
A28: =MAX($A$1:A27) + 1 -> 21 | C28: Edit Non Approved Address Successfully | D28: 1. Open Revamped CyberRCC 2. Login as BD User 3. Select My Account in Menu 4. Click Edit Icon for Address without Approved Date 5. Update the effective start date and Street/Estate/Village/Building 6. Click Confirm 7. Click Save | F28: 4: Edit Address Pop Up. Address Detail will be shown in the pop up. All fields can be updated. 5: Both Fields can be updated 6: The address info under Address is updated 7: The updated address is saved and displayed | G28: 45980 | H28: Vincent | L28: Passed | M28: Passed | N28: Passed | O28: Passed | S28: Tested
A29: =MAX($A$1:A28) + 1 -> 22 | C29: Edit Approved Address Successfully | D29: 1. Open Revamped CyberRCC 2. Login as BD User 3. Select My Account in Menu 4. Click Edit Icon for Address with Approved Date 5. Update the effective start date 6. Click Confirm 7. Click Save | E29: BD Admins has approved BD User address before | F29: 4: Edit Address Pop Up. Address Detail will be shown in the pop up. Only Other Description, Effective Start Date and Effective End Date can be updated. 5: Field can be updated 6: The address info under Address is updated 7: The updated address is saved and marked is not approved and it is displayed without approved date | G29: 46024 | H29: Vincent | L29: Passed | M29: Passed | N29: Passed | O29: Passed | S29: Tested
A30: =MAX($A$1:A29) + 1 -> 23 | C30: Delete Address Successfully | D30: 1. Open Revamped CyberRCC 2. Login as BD User 3. Select My Account in Menu 4. Click Delete Icon for Address without Approved Date 5. Click Confirm for the pop up 6. Click Save | F30: 5: The Address has shown cancel delete button 6: Removed Action is save and the address will not be shown again | G30: 45993 | H30: Vincent | L30: Passed | M30: Passed | N30: Passed | O30: Passed | S30: Tested
A31: =MAX($A$1:A30) + 1 -> 24 | C31: Delete Approved and Effective Address | D31: 1. Open Revamped CyberRCC 2. Login as BD User 3. Select My Account in Menu 4. Click Delete Icon for Address with Approved Date and within effective date | E31: BD Admins has approved BD User address before | F31: 4: Error Message - Cannot delete approved effective address will be shown | G31: 45980 | H31: Vincent | L31: Passed | M31: Passed | N31: Passed | O31: Passed | S31: Tested
A32: =MAX($A$1:A31) + 1 -> 25 | C32: Validation on adding new address | D32: 1. Open Revamped CyberRCC 2. Login as BD User 3. Select My Account in Menu 4. Click Add New 5. Leave all the fields empty and click Confirm 6. Enter all compulsory address information and enter invalid date for effective start date and effective end date and click Confirm 7. Enter valid date for effective start date and effective end date but end date is earlier than start date and click Confirm | F32: 5: Error Message for mandatory field will be shown, including: - District - Area - Effective Start Date - Street/Estate/Village/Building 6: Error Message for incorrect format of effective start date and end date 7: Error Message for end date cannot be earlier than start date | G32: 45993 | H32: Vincent | L32: Passed | M32: Passed | N32: Passed | O32: Passed | S32: Tested
A33: =MAX($A$1:A32) + 1 -> 26 | C33: Validation on updating account information | D33: 1. Open Revamped CyberRCC 2. Login as BD User 3. Select My Account in Menu 4. Remove all info in Primary Contact and Post and click save 5. Enter Post and Non 8 digit number for primary contact and secondary contact and clicm Save 6. Enter | F33: 4: Error Message for mandatory field will be shown, including: - Post - Primary Contact 5: Error Message for incorrect format of primary contact and secondary contact | G33: 45993 | H33: Vincent | L33: Passed | M33: Passed | N33: Passed | O33: Passed | S33: Tested
A34: =MAX($A$1:A33) + 1 -> 27 | C34: Validation on updating password | D34: 1. Open Revamped CyberRCC 2. Login as BD User 3. Select My Account in Menu 4. Set Password, Confirm Password to abcd1234 and Click Save 5. Set Password to P@ssw0rd, Confirm Password to abcd1234 and click Save | F34: 4: Error Message for violation Password Policy 5: Error Message for Confirm Password not same as Password | G34: 45980 | H34: Vincent | L34: Passed | M34: Passed | N34: Passed | O34: Passed | S34: Tested

Sheet Signin+Reset Password
A1: Case No | B1: Seg. | C1: Description | D1: Test Procedure | E1: Test Data/ Prerequisite | F1: Expected Result | G1: Date | H1: Tester | I1: Result | S1: Status | T1: Remarks
I2: Language | L2: Desktop | P2: Tablet | Q2: Mobile
I3: English | J3: Trad Chi | K3: Simp Chi | L3: Chrome | M3: FireFox | N3: Edge | O3: Safari | P3: Pad | Q3: Android | R3: IOS
A4: Scenario 1: | B4: Login Page UI
A5: =MAX($A$1:A4) + 1 -> 1 | C5: Test Login Page UI Component in all Desktop Browsers, Tablet and Mobile | D5: 1. Open Login Page of revamped CyberRCC in Chrome Browser 2. Repeat Step1 in FireFox Browser 3. Repeat Step1 in Edge Browser 4. Repeat Step1 in Safari Browser 5. Repeat Step1 in tablet Chrome Browser 6. Repeat Step1 in Andoid Chrome Browser 7. Repeat Step1 in iOS Safari Browser | F5: 1: Display Login Page properly 2 - 7: Same page layout as step 1 | G5: 6/11/2025 14/11/2025 | H5: Derek | L5: Pass | M5: Pass | N5: Pass | O5: Pass | P5: Fail | Q5: Fail | R5: Fail | S5: Tested | T5: (1) The Arror in For Welcome to cyber repair call centre is non function, please remove it (2) The Icon is not in a good ratio
A6: =MAX($A$1:A5) + 1 -> 2 | C6: Test Login Page UI Langugae | D6: 1. Open Login Page of revamped CyberRCC in Chrome Browser 2. Select Tradition Chinese for language 3. Select Simplified Chinese for language | F6: 1: Display with English Label 2: Display with Tradition Chinese Label 3: Display with Simplified Chinese Label | G6: 45975 | H6: Derek | I6: Pass | J6: Pass | K6: Pass | S6: Tested
A7: Scenario 2: | B7: Forget Password Page UI
A8: =MAX($A$1:A7) + 1 -> 3 | C8: Test Forget Password UI Component in all Desktop Browsers, Tablet and Mobile | D8: 1. Open Login Page of revamped CyberRCC in Chrome Browser 2. Click "Forget Password" Button 3. Field in all mandatory fields and click "Reset Password" Button 4. Repeat Step 1 - 3 in FireFox Browser 5. Repeat Step 1 - 3 in Edge Browser 6. Repeat Step 1 - 3 in Safari Browser 7. Repeat Step 1 - 3 in tablet Chrome Browser 8. Repeat Step 1 - 3 in Andoid Chrome Browser 9. Repeat Step 1 - 3 in iOS Safari Browser | F8: 2: Display Forget Password Page properly 3: Display Forget Password Completion Page properly 4 - 9: Same Page layout result as step 2 & 3 | G8: 46008 | H8: Oscar | L8: Pass | M8: Pass | N8: Pass | O8: Pass | S8: Tested | T8: When click didn't receie the email, redirect to signin page. (fixed)
A9: =MAX($A$1:A8) + 1 -> 4 | C9: Test Forget Password UI Language | D9: 1. Open Login Page of revamped CyberRCC in Chrome Browser 2. Click "Forget Password" Button 3. Select Tradition Chinese for language 4. Select Simplified Chinese for language 5. Field in all mandatory fields and click "Reset Password" Button 6. Select Tradition Chinese for language 7. Select English for language | F9: 2 & 7: Display with English Label 3 & 6: Display with Tradition Chinese Label 4 & 5: Display with Simplified Chinese Label | G9: 46008 | H9: Oscar | I9: Pass | J9: Pass | K9: Pass | S9: Tested
A10: Scenario 3: | B10: Reset Password Page UI
A11: =MAX($A$1:A10) + 1 -> 5 | C11: Test Reset Password UI Component in all Desktop Browsers, Tablet and Mobile | D11: 1. Open Login Page of revamped CyberRCC in Chrome Browser 2. Click "Forget Password" Button 3. Field in all mandatory fields and click "Reset Password" Button 4. Check the email and copied the link to Chrome Browser 5. Fill in the mandatory field and click "Reset Password" Button 6. Repeat Step 4 - 5 in FireFox Browser 7. Repeat Step 4 - 5 in Edge Browser 8. Repeat Step 4 - 5 in Safari Browser 9. Repeat Step 4 - 5 in tablet Chrome Browser 10. Repeat Step 4 - 5 in Andoid Chrome Browser 11. Repeat Step 4 - 5 in iOS Safari Browser | F11: 4: Display Reset Password Layout properly 5. Display Reset Page Successfully Layout properly 6 - 11: Same Page layout result as step 4 & 5 | G11: 46008 | H11: Oscar | L11: Pass | M11: Pass | N11: Pass | O11: Pass | S11: Tested | T11: Firefox eye icon drop down form the text field (fixed)
A12: =MAX($A$1:A11) + 1 -> 6 | C12: Test Reset Password UI Language | D12: 1. Open Login Page of revamped CyberRCC in Chrome Browser 2. Click "Forget Password" Button 3. Field in all mandatory fields and click "Reset Password" Button 4. Check the email and copied the link to Chrome Browser 5. Select Tradition Chinese for language 6. Select Simplified Chinese for language 7. Fill in the mandatory field and click "Reset Password" Button 8. Select Tradition Chinese for language 9. Select English for language | F12: 4 & 9: Display with English Label 5 & 8: Display with Tradition Chinese Label 6 & 7: Display with Simplified Chinese Label | G12: 46008 | H12: Oscar | I12: Pass | J12: Pass | K12: Pass | S12: Tested
A13: Scenario 4: | B13: Login Function
A14: =MAX($A$1:A13) + 1 -> 7 | C14: Login revamped CyberRCC with normal B/D User through revamped CyberRCC Login Page by login Email | D14: 1. Open Login Page of revamped CyberRCC 2. Enter Login Email and Correct Password 3. Click "Show Password" button 4. Click "Sign In" Button | E14: Acc: test@test.gov.hk | F14: 2: Password show in encrypted text 3: Password show in plain text 4: B/D User Home Page will be redirected and audit log can be found in database | G14: 45967 | H14: Derek | L14: Pass | M14: Pass | N14: Pass | O14: Pass | S14: Tested
A15: =MAX($A$1:A14) + 1 -> 8 | C15: Login revamped CyberRCC with B/D Admin through revamped CyberRCC Login Page by login Email | D15: 1. Open Login Page of revamped CyberRCC 2. Enter Login Email and Correct Password 3. Click "Sign In" Button 4. Check Email for 2FA Code 5. Click "Resend a new Code" button in revamped CybeRCC 6. Check Email for new 2FA Code again 7. Enter new 2FA Code in revamped CyberRCC and click "Verify" Button | F15: 3: 2FA pop up is shown, email is sent 4: 2FA code found in email 5: another email is sent 6: new 2FA Code found in email 7: B/D Admin Home Page will be redirected and audit log can be found in database | G15: 45993 | H15: Vincent | L15: Pass | M15: Pass | N15: Pass | O15: Pass | S15: Tested
A16: =MAX($A$1:A15) + 1 -> 9 | C16: Login revamped CyberRCC with RCC Admin through revamped CyberRCC Login Page by login account | D16: 1. Open Login Page of revamped CyberRCC 2. Enter DA Login email and correct password 3. Click "Sign In" Button 4. Check Email for 2FA Code 5. Enter new 2FA Code in revamped CyberRCC and click "Verify" Button | F16: 3: 2FA pop up is shown, email is sent 4: 2FA code found in email 5: B/D Admin Home Page will be redirected and audit log can be found in database | G16: 45993 | H16: Vincent | L16: Pass | M16: Pass | N16: Pass | O16: Pass | S16: Tested
A17: =MAX($A$1:A16) + 1 -> 10 | C17: Login revamped CyberRCC with B/D user through revamped CyberRCC Login Page by iAM Smart | D17: 1. Open Login Page of revamped CyberRCC 2. Click "Continue with iAM Smart" Button 3. Scan the QR Code with iAM Smart Application | E17: BD User Account with iAM Smart Sandbox Account | F17: 2: iAM Smart QR Code webpage will be pop up 3: B/D User Home Page is redirected | G17: 17-12-2025 | H17: Kyle | L17: Pass | M17: Pass | N17: Pass | O17: Passed | S17: Tested
A18: =MAX($A$1:A17) + 1 -> 11 | C18: Login revamped CyberRCC with B/D user through departmental portal | D18: 1. Open Simulate Page for departmental portal 2. Click "CyberRCC" Hyperlink | F18: 2: Redirect to B/D User Home Page | H18: Oscar
A19: =MAX($A$1:A18) + 1 -> 12 | C19: Login revamped CyberRCC with DS through Extranet DA | D19: 1. Open DA 2. Login DA with DS account 3. Select Post and Select CyberRCC for destination | E19: Acc: wongcw5 | F19: 3: Redirect to DS Home Page | G19: 45979 | H19: Derek | L19: Pass | S19: Tested | T19: a) The site can't be reach b) Missing Pop Up for selecting CyberRCC or DA Retested on 23/12.2025
A20: =MAX($A$1:A19) + 1 -> 13 | C20: Login revamped CyberRCC with RCC Supervisor through Extranet DA | D20: 1. Open DA 2. Login DA with RCC Supervisor Account 3. Select Go to CyberRCC in DA | E20: Acc: itapps2 | F20: 3: Redirect to RCC Admin Home Page | G20: 45993 | H20: Vincent | L20: Pass | S20: Tested | T20: If Login Fail, should redirect to login page
A21: =MAX($A$1:A20) + 1 -> 14 | C21: Login Validation | D21: 1. Open Login Page of revamped CyberRCC 2. Click Signin Button without entering any login email and password 3. Enter Incorrect login email and password, then click signin button 4. Enter correct login email but incorrect password, then click signin button 5. Enter correct B/D Admin login email and correct password, then click Signin Button 6 Enter a Incorrect 2FA Code | F21: 2: Error Message "Please Enter your xxx" will be shown 3 - 4: Error Message "Please check your login email and password. If you still can’t log in, contact your Cyber Repair Call Center administrator" will be shown 6: Not Verified will be shown | G21: 45993 | H21: Vincent | L21: Pass | M21: Pass | N21: Pass | O21: Pass | S21: Tested
A22: =MAX($A$1:A21) + 1 -> 15 | C22: Locked Login Account | D22: 1. Open Login Page of revamped CyberRCC 2. Enter correct login email but incorrect password, then click signin button 3. Repeat Step 2 for 4 more times 4. Enter correct login email and password | F22: 3: Account will be locked for 15 minutes 4: Error Message "Account is locked due to to many failure" will be shown | G22: 45993 | H22: Vincent | L22: Pass | M22: Pass | N22: Pass | O22: Pass | S22: Tested
A23: Scenario 5: | B23: Forget Password & Reset Password Function
A24: =MAX($A$1:A23) + 1 -> 16 | C24: Forget Password Successfully | D24: 1. Open Login Page of revamped CyberRCC 2. Click "Forgot Password" 3. Input correct login email and captcha, and click "Reset Password" | F24: 2: Forgot Password Page will be shown 3: Email with Reset Password Hyperlink will be received, Forgot Password Finish Page will be shown | G24: 45993 | H24: Vincent | L24: Pass | M24: Pass | N24: Pass | O24: Pass | S24: Tested
A25: =MAX($A$1:A24) + 1 -> 17 | C25: Forget Password Validation | D25: 1. Open Login Page of revamped CyberRCC 2. Click "Forgot Password" 3. Input not exist login email and click "Reset Password" Button 4. Input wrong captcha and click "Reset Password" Button 5. Input empty for Login Email and Captcha and click "Reset Password" Button | F25: 3: Error Message "Please enter correct email" will be shown 4: Error Message "Please enter correct captcha" will be shown | G25: 45993 | H25: Vincent | L25: Pass | M25: Pass | N25: Pass | O25: Pass | S25: Tested
A26: =MAX($A$1:A25) + 1 -> 18 | C26: Reset Password Successfully | D26: 1. Copy the URL received from Case No. 15 2. Input new and correct password, and click "Reset Password" 3. Click "SignIn" Button 4. Input the login email and new password in revamped CyberRCC signin page | F26: 2: Email with Reset Password Message will be received, Reset Password Success Page will be shown 3: Back to Signin Page 4: Signin Successfully | G26: 45981 | H26: Vincent | L26: Pass | M26: Pass | N26: Pass | O26: Pass | S26: Tested
A27: =MAX($A$1:A26) + 1 -> 19 | C27: Reset Password Validation | D27: 1. Copy the URL received from Case No. 15 2. Input password does not match with password policy and click "Reset Password" button 3. Input empty for password and click "Reset Password" button 4. Input confirm password different from new password, the new password must fulfill password policy and click "Reset Password" button 5. Input password and confirm password with last 8 password history and click "Reset Password" button | F27: 2: Message "Password must be 8-14 characters long, contain at least one uppercase letter, one lowercase letter, one number, and one special character." will be shown 3: Message "Please fill in new password" & "Please fill in confirm password" will be shown 4: Message "Please fill in confirm password with same new password" will be shown 5: Message "Password has been used before" will be shown | G27: 45982 | H27: Vincent | L27: Pass | M27: Pass | N27: Pass | O27: Pass | S27: Tested | T27: In Firefox, the show eye button with Password is wrong location In Edge, the show eye button with Confirm Password is weird when input the password

Sheet Home Page+Menu
A1: Case No | B1: Seg. | C1: Description | D1: Test Procedure | E1: Test Data/ Prerequisite | F1: Expected Result | G1: Date | H1: Tester | I1: Result | S1: Status | T1: Remarks
I2: Language | L2: Desktop | P2: Tablet | Q2: Mobile
I3: English | J3: Trad Chi | K3: Simp Chi | L3: Chrome | M3: FireFox | N3: Edge | O3: Safari | P3: Pad | Q3: Android | R3: IOS
A4: Sceanrio 1 | B4: Home Page UI
A5: =MAX($A$1:A4) +1 -> 1 | C5: Test B/D User Home Page in different browser & device | D5: 1. Open revamped CyberRCC login Page in Chrome. 2. Login with B/D User login email & password 3. Repeat Step 1 - 2 in FireFox 4. Repeat Step 1 - 2 in Edge 5. Repeat Step 1 - 2 in Safari 6. Repeat Step 1 - 2 in Tablet Chrome 7. Repeat Step 1 - 2 in Android Chrome 8. Repeat Step 1 - 2 in iOS Chrome | F5: 2 - 8: Display the B/D User Home Page properly | G5: 45978 | H5: Derek | L5: Pass | M5: Pass | N5: Pass | O5: Pass | P5: Pass | Q5: Pass | R5: Pass | S5: Tested
A6: =MAX($A$1:A5) +1 -> 2 | C6: Test B/D User Home Page in different language | D6: 1. Open revamped CyberRCC login Page in English. 2. Login with B/D User login email & password 3. Select Tradtional Chinese 4. Select Simplified Chinese | F6: 2: Display Correct Label in English 3: Display Correct Label in TC 4: Display Correct Label in SC | G6: 46013 | H6: Oscar | I6: Pass | J6: Pass | K6: Pass | S6: Tested | T6: My Repair Requests no chinese language (fixed) My Repair Requests -> Total no chinese (fixed) | U6: udpated:2026/1/6
A7: =MAX($A$1:A6) +1 -> 3 | C7: Test B/D Admin Home Page in different browser & device | D7: 1. Open revamped CyberRCC login Page in Chrome. 2. Login with B/D Admin login email & password 3. Enter 2FA from email 4. Repeat Step 1 - 3 in FireFox 5. Repeat Step 1 - 3 in Edge 6. Repeat Step 1 - 3 in Safari 7. Repeat Step 1 - 3 in Tablet Chrome 8. Repeat Step 1 - 3 in Android Chrome 9. Repeat Step 1 - 3 in iOS Chrome | F7: 3 - 9: Display the B/D Admin Home Page properly | G7: 46013 | H7: Oscar | L7: Pass | M7: Pass | N7: Pass | O7: Pass | P7: Pass | Q7: Pass | R7: Pass | S7: Tested | T7: When count is 0, show NaN% (fixed)
A8: =MAX($A$1:A7) +1 -> 4 | C8: Test B/D Admin Home Page in different language | D8: 1. Open revamped CyberRCC login Page in English. 2. Login with B/D Admin login email & password 3. Enter 2FA from email 4. Select Tradtional Chinese 5. Select Simplified Chinese | F8: 3: Display Correct Label in English 4: Display Correct Label in TC 5: Display Correct Label in SC | G8: 46008 | H8: Oscar | I8: Pass | J8: Pass | K8: Pass | S8: Tested | T8: B/D Repair Requests no chinese language (fixed)
A9: =MAX($A$1:A8) +1 -> 5 | C9: Test DS Home Page in different browser & device | D9: 1. Open Extranet DA in Chrome 2. Login with DS account in DA 3. Select the post and "CyberRCC" for destination 4. Repeat Step 1 - 3 in FireFox 5. Repeat Step 1 - 3 in Edge 6. Repeat Step 1 - 3 in Safari 7. Repeat Step 1 - 3 in Tablet Chrome 8. Repeat Step 1 - 3 in Android Chrome 9. Repeat Step 1 - 3 in iOS Chrome | F9: 3 - 9: Display the DS Home Page properly | G9: 46008 | H9: Oscar | L9: Pass | M9: Pass | N9: Pass | O9: Pass | P9: Pass | Q9: Pass | R9: Pass | S9: Tested | T9: department show null if not exist (fixed) | U9: udpated:2026/1/6
A10: Sceanrio 2 | B10: Menu UI
A11: =MAX($A$1:A10) +1 -> 6 | C11: Test Menu UI in different browser & device | D11: 1. Open revamped CyberRCC login Page in Chrome. 2. Repeat Step 1 in FireFox 3. Repeat Step 1 in Edge 4. Repeat Step 1 in Safari 5. Repeat Step 1 in Tablet Chrome 6. Click Expand Meun Button 7. Repeat Step 1 in Android Chrome 8. Click Right Top Corner Menu Button 9. Repeat Step 1 in iOS Chrome 10. Click Right Top Corner Menu Button | F11: 1 - 5: Display SignIn Menu properly 6: The Menu is expanded 8 & 10: The Menu is expanded | G11: 45975 | H11: Derek | L11: Pass | M11: Pass | N11: Pass | O11: Pass | P11: Pass | Q11: Pass | R11: Pass | S11: Tested
A12: =MAX($A$1:A11) +1 -> 7 | C12: Test Signin Menu UI in different langugae | D12: 1. Open revamped CyberRCC login Page in English. 2. Select Tradition Chinese for language 3. Select Simplified Chinese for language | F12: 1: Display correct meun item in English 2: Display correct meun item in Tradition Chinese 3: Display correct meun item in Simplified Chinese | G12: 46008 | H12: Oscar | I12: Pass | J12: Pass | K12: Pass | S12: Tested
A13: =MAX($A$1:A12) +1 -> 8 | C13: Test B/D User Menu UI in different langugae | D13: 1. Open revamped CyberRCC in English 2. Login as BD User 3. Select Tradition Chinese for language 4. Select Simplified Chinese for language | F13: 2: Display correct meun item in English 3: Display correct meun item in Tradition Chinese 4: Display correct meun item in Simplified Chinese | G13: 46008 | H13: Oscar | I13: Pass | J13: Pass | K13: Pass | S13: Tested
A14: =MAX($A$1:A13) +1 -> 9 | C14: Test B/D Admin Menu UI in different langugae | D14: 1. Open revamped CyberRCC in English 2. Login as BD Admin 3. Select Tradition Chinese for language 4. Select Simplified Chinese for language | F14: 2: Display correct meun item in English 3: Display correct meun item in Tradition Chinese 4: Display correct meun item in Simplified Chinese | G14: 46008 | H14: Oscar | I14: Pass | J14: Pass | K14: Pass | S14: Tested
A15: =MAX($A$1:A14) +1 -> 10 | C15: Test Group Admin Menu | D15: 1. Open revamped CyberRCC in English 2. Login as Group Admin | F15: 2: Display correct meun item in English | G15: 46008 | H15: Oscar | I15: Pass | S15: Tested | T15: has monthly report tab (fixed) | U15: udpated:2026/1/6
A16: =MAX($A$1:A15) +1 -> 11 | C16: Test Report Viewer Menu | D16: 1. Open revamped CyberRCC in English 2. Login as Report Viewer | F16: 2: Display correct meun item in English | G16: 46008 | H16: Oscar | I16: Pass | S16: Tested | T16: No monthly report tab (fixed) | U16: udpated:2026/1/6
A17: =MAX($A$1:A16) +1 -> 12 | C17: Test DS Menu UI | D17: 1. Open Extranet DA in Chrome 2. Login with DS account in DA 3. Select the post and "CyberRCC" for destination | F17: 3: Display correct meun item in English | G17: 46008 | H17: Oscar | I17: Pass | S17: Tested
A18: =MAX($A$1:A17) +1 -> 13 | C18: Test RCC Admin Menu UI | D18: 1. Open Extranet DA in Chrome 2. Login with RCC Supervisor account in DA 3. Select "CyberRCC" | F18: 3: Display correct meun item in English | G18: 46008 | H18: Oscar | I18: Pass | S18: Tested
A19: Sceanrio 3 | B19: FontSize & Language
A20: =MAX($A$1:A19) +1 -> 14 | C20: Test Font Size in different browser & device | D20: 1. Open revamped CyberRCC in Chrome Browser 2. Select Sign Up in Menu 3. Select Small for Font Size 4. Select Large for Font Size 5. Repeat Step 1 - 4 in FireFox 6. Repeat Step 1 - 4 in Edge 7. Repeat Step 1 - 4 in Safari 8. Repeat Step 1 - 4 in Tablet Chrome 9. Repeat Step 1 - 4 in Android Chrome 10. Repeat Step 1 - 4 in iOS Chrome | F20: 3: Display Sign Up form in small font size 4: Display Sign Up form in large font size 5 - 10: Display same behavior as Chrome | H20: Derek | L20: Pass | M20: Pass | N20: Pass | O20: Pass | P20: Pass | Q20: Pass | R20: Pass | S20: Tested
A21: =MAX($A$1:A20) +1 -> 15 | C21: Test Language in different browser & device | D21: 1. Open revamped CyberRCC in English and Chrome 2. Select Tradition Chinese 3. Repeat Step 1 - 2 in FireFox 4. Repeat Step 1 - 2 in Edge 5. Repeat Step 1 - 2 in Safari 6. Repeat Step 1 - 2 in Tablet Chrome 7. Repeat Step 1 - 2 in Android Chrome 8. Repeat Step 1 - 2 in iOS Chrome | F21: 2 - 8: Switch Langugae Successfully | G21: 14/11/2025 24/12/2025 | H21: Derek | L21: Pass | M21: Pass | N21: Pass | O21: Pass | P21: Pass | Q21: PAss | R21: Pass | S21: Tested | T21: b) Cannot Switch Language in Mobile View Retested ok 24/12/2025 | U21: update: 2025/12/15
A22: Sceanrio 4 | B22: Homepage Component
A23: =MAX($A$1:A22) +1 -> 16 | C23: Test B/D User Home Page Component - Navigation Plate | D23: 1. Open revamped CyberRCC 2. Login as BD User 3. Click Navigation item on Navigation Plate | F23: 3: Redirect to corresponding page | G23: 45982 | H23: Vincent | L23: Pass | M23: Pass | N23: Pass | O23: Pass | S23: Tested
A24: =MAX($A$1:A23) +1 -> 17 | C24: Test B/D User Home Page Component - Calendar | D24: 1. Open revamped CyberRCC 2. Login as BD User 3. Select Date with Underlined in Calendar | E24: Created Repair Request in DA for B/D User | F24: 2: Calendar should be shown under Upcoming Appointment with some date with underlined 3: Repair Request Appointment Information will be shown under the Calendar | H24: Oscar | L24: Pass | M24: Pass | N24: Pass | O24: Pass | S24: Tested | T24: Have one apoointment case but not show in calendar (fixed)
A25: =MAX($A$1:A24) +1 -> 18 | C25: Test B/D User Home Page Component - Notification | D25: 1. Open revamped CyberRCC 2. Login as BD User 3. Click Navigation Icon in Notification List | E25: B/D User already has notification | F25: 2: Notification List with top 3 records will be shown. Number of unread notification will be shown on the left of section header 3: Redirect to Notification Page | H25: Oscar | L25: Pass | M25: Pass | N25: Pass | O25: Pass | S25: Tested
A26: =MAX($A$1:A25) +1 -> 19 | C26: Test B/D User Home Page Component - My Repair Request Status | D26: 1. Open revamped CyberRCC 2. Login as BD User 3. Click Navigation Icon in My Repair Request | F26: 2: A Donut Chart showing correct number of repair requests of the B/D User 3: Redirect to My Repair Request Page | H26: Oscar | L26: Pass | M26: Pass | N26: Pass | O26: Pass | S26: Tested | T26: Home page count wrong | U26: fixed
A27: =MAX($A$1:A26) +1 -> 20 | C27: Test B/D Admin Home Page Component - Navigation Plate | D27: 1. Open revamped CyberRCC 2. Login as BD Admin 3. Click Navigation item on Navigation Plate | F27: 3: Redirect to corresponding page | G27: 45982 | H27: Vincent | L27: Pass | M27: Pass | N27: Pass | O27: Pass | S27: Tested
A28: =MAX($A$1:A27) +1 -> 21 | C28: Test B/D Admin Home Page Component - Calendar | D28: 1. Open revamped CyberRCC 2. Login as BD Admin 3. Select Date with Underlined in Calendar | E28: Created Repair Request in DA for B/D Admin | F28: 2: Calendar should be shown under Upcoming Appointment with some date with underlined 3: Repair Request Appointment Information will be shown under the Calendar | H28: Oscar | L28: Pass | M28: Pass | N28: Pass | O28: Pass | S28: Tested | T28: Have one apoointment case but not show in calendar (fixed)
A29: =MAX($A$1:A28) +1 -> 22 | C29: Test B/D Admin Home Page Component - user verification status | D29: 1. Open revamped CyberRCC 2. Login as BD Admin 3. Click Navigation Icon in User Verification | F29: 2: A Donut Chart showing correct number of pending BD user verifications 3: Redirect to User Verification Page | G29: 45982 | H29: Vincent | L29: Pass | M29: Pass | N29: Pass | O29: Pass | S29: Tested
A30: =MAX($A$1:A29) +1 -> 23 | C30: Test B/D Admin Home Page Component - B/D Repair Requests Status | D30: 1. Open revamped CyberRCC 2. Login as BD Admin 3. Click Navigation Icon in BD Repair Request | F30: 2: A Donut Chart showing correct number of BD repair requests of the B/D Admins 3: Redirect to BD Repair Request Page | G30: 45982 | H30: Vincent | L30: Pass | M30: Pass | N30: Pass | O30: Pass | S30: Tested
A31: =MAX($A$1:A30) +1 -> 24 | C31: Test B/D Admin Home Page Component - Notification | D31: 1. Open revamped CyberRCC 2. Login as BD Admin 3. Click Navigation Icon in Notification List | E31: B/D Admin already has notification | F31: 2: Notification List with top 3 records will be shown. Number of unread notification will be shown on the left of section header 3: Redirect to Notification Page | H31: Oscar | L31: Pass | M31: Pass | N31: Pass | O31: Pass | S31: Tested
A32: =MAX($A$1:A31) +1 -> 25 | C32: Test DS Home Page Component - Navigation Plate | D32: 1. Open Extranet DA in Chrome 2. Login with DS account in DA 3. Select the post and "CyberRCC" for destination 4. Click Navigation item on Navigation Plate | F32: 4: Redirect to corresponding page | G32: 45982 | H32: Vincent | L32: Pass | M32: Pass | N32: Pass | O32: Pass | S32: Tested
A33: =MAX($A$1:A32) +1 -> 26 | C33: Test DS Home Page Component - Quick Search RRF | D33: 1. Open Extranet DA in Chrome 2. Login with DS account in DA 3. Select the post and "CyberRCC" for destination 4. Enter a CRN and click Search | F33: 4: Redirect to Search RRF Page with the result | H33: Kyle | L33: Pass | M33: Pass | N33: Pass | O33: Pass | S33: Tested
A34: =MAX($A$1:A33) +1 -> 27 | C34: Test DS Home Page Component - Inbox | D34: 1. Open Extranet DA in Chrome 2. Login with DS account in DA 3. Select the post and "CyberRCC" for destination 4. Click Navigation icon on Inbox 5. Select RRF I | F34: 3: Show the Inbox list of the DS 4. Redirect to Inbox Page 5: Only RRF I Inbox will be shown | G34: 45982 | H34: Vincent | L34: Pass | M34: Pass | N34: Pass | O34: Pass | S34: Tested
A35: =MAX($A$1:A34) +1 -> 28 | C35: Test idle auto logout | D35: 1. Open revamped CyberRCC 2. Login as BD User 3. Idle >10mins 4. Click "New Repair Request" in menu | F35: 4. The account will be logout and redirect to signin page | G35: 45982 | H35: Vincent | L35: Pass | M35: Pass | N35: Pass | O35: Pass | S35: Tested

Sheet New Repair Request
A1: Case No | B1: Seg. | C1: Description | D1: Test Procedure | E1: Test Data | F1: Expected Result | G1: Date | H1: Tester | I1: Result | S1: Status | T1: Remarks
I2: Language | L2: Desktop | P2: Tablet | Q2: Mobile
I3: English | J3: Trad Chi | K3: Simp Chi | L3: Chrome | M3: FireFox | N3: Edge | O3: Safari | P3: Pad | Q3: Android | R3: IOS
A4: Scenario 1: | B4: New Repair Request UI
A5: =MAX($A$1:A4) +1 -> 1 | C5: New Repair Request Pages in different Browser and Device | D5: 1. Open revamped CyberRCC in Chrome 2. Login as BD User 3. Click "New Repair Request" in the menu 4. Select address 5. Click "Add Item" 6. Select repair item in full list 7. Repeat Step 1 - 6 in FireFox 8. Repeat Step 1 - 6 in Edge 9. Repeat Step 1 - 6 in Safari 10. Repeat Step 1 - 6 in Tablet Chrome 11. Repeat Step 1 - 6 in Android Chrome 12. Repeat Step 1 - 6 in iOS Chrome | F5: 6. Display the New Repair Request page properly | G5: 2025/12/10 | H5: Jacky | L5: Pass | M5: Pass | N5: Pass | O5: Pass | P5: Pass | Q5: Pass | R5: Pass | S5: Tested
A6: =MAX($A$1:A5) +1 -> 2 | C6: New Repair Request Pages in different langugae | D6: 1. Open revamped CyberRCC in Chrome 2. Login as BD User 3. Click "New Repair Request" in the menu 4. Select address 5. Click "Add Item" 6. Select repair item in full list 7. Repeat Step 1 - 6 in FireFox 8. Repeat Step 1 - 6 in Edge 9. Repeat Step 1 - 6 in Safari 10. Repeat Step 1 - 6 in Tablet Chrome 11. Repeat Step 1 - 6 in Android Chrome 12. Repeat Step 1 - 6 in iOS Chrome | F6: 6. Display corresponding language properly | H6: Jacky | I6: Pass | J6: Pass | K6: Pass | S6: Tested | T6: "Add IMAGE/VIDEO" & "All" & error message is still in chinese (fixed by Jacky, please do re-tested with someone)
A7: =MAX($A$1:A6) +1 -> 3 | C7: Draft Repair Request List in different Browser and Device | D7: 1. Open revamped CyberRCC in Chrome 2. Login as BD User 3. Click "New Repair Request" in the menu 4. Click the tab "Draft" *(Optional) If no draft item: a. Click New Repair Request b. Select address c. Click "Add Item" d. Select repair item in full list e. Input remark f. Click "Add Item" at bottom g. Click "Save Draft" 5. Repeat 1-4 in different browser | F7: 4. Display the Draft Repair Request page properly | H7: Jacky | L7: Pass | M7: Pass | N7: Pass | O7: Pass | P7: Pass | Q7: Pass | R7: Pass | S7: Tested | T7: function fail: if click edit of draft, does not store any content information, on draft page. when go back on 'new repair request' page, the button (Same as reporter) is marked as true quarter icon is not right | U7: update: 2025/12/15 when repair item is added, I can not switch address? Is it work properly? Yes, work as design. Error message : "You can only select one address for a repair request. Please delete the existing item if you want to select another address." PS: pervious issue is fixed
A8: =MAX($A$1:A7) +1 -> 4 | C8: Draft Repair Request List in different language | D8: 1. Open revamped CyberRCC in Chrome 2. Login as BD User 3. Click New Repair Request 4. Click the tab Draft *(Optional) If no draft item: a. Click New Repair Request b. Select address c. Click "Add Item" d. Select repair item in full list e. Input remark f. Click "Add Item" at bottom g. Click "Save Draft" 5. Repeat 1-4 in Trad Chinese & Simp Chinese | F8: 4. Display corresponding language properly | H8: Jacky | I8: Pass | J8: Pass | K8: Pass | S8: Tested
A9: Scenario 2: | B9: New Repair Request Function
A10: =MAX($A$1:A9) +1 -> 5 | C10: Normal Repair Request in RCC Office Hour | D10: 1. Open revamped CyberRCC 2. Login as BD User 3. Click "New Repair Request" in the menu | G10: 45999 | H10: Vincent | L10: Pass | M10: Pass | N10: Pass | O10: Pass | S10: Tested
A11: =MAX($A$1:A10) +1 -> 6 | C11: Emergency Repair Request in RCC Office Hour | D11: 1. Open revamped CyberRCC 2. Login as BD User 3. Click "New Repair Request" in the menu | G11: 45999 | H11: Vincent | L11: Pass | M11: Pass | N11: Pass | O11: Pass | S11: Tested
A12: =MAX($A$1:A11) +1 -> 7 | C12: Normal Repair Request in BDRC Office Hour | D12: 1. At BDRC Office Hour (after 17:30) 2. Open revamped CyberRCC 3. Login as BD User 4. Click "New Repair Request" in the menu | G12: 45999 | H12: Vincent | L12: Pass | M12: Pass | N12: Pass | O12: Pass | S12: Tested
A13: =MAX($A$1:A12) +1 -> 8 | C13: Emergency Repair Request in BDRC Office Hour | D13: 1. At BDRC Office Hour (after 17:30) 2. Open revamped CyberRCC 3. Login as BD User 4. Click "New Repair Request" in the menu | G13: 46008 | H13: Vincent | L13: Pass | M13: Pass | N13: Pass | O13: Pass | S13: Tested
A14: =MAX($A$1:A13) +1 -> 9 | C14: Display Common Repair Item for Quarter Address | D14: 1. Open revamped CyberRCC 2. Login as BD User 3. Click "New Repair Request" in the menu 4. Select a quarter address 5. Click "Add Item" 6. Select "Position Description" 7. Select the repair item from "Common Repair Items" | F14: 6. The options for "Position Description" will be shown. 7. The list of "Common Repair Items" for Quarter Address will be shown. | G14: 45999 | H14: Vincent | L14: Pass | M14: Pass | N14: Pass | O14: Pass | S14: Tested
A15: =MAX($A$1:A14) +1 -> 10 | C15: Display Common Repair Item for Non Quarter Address | D15: 1. Open revamped CyberRCC 2. Login as BD User 3. Click "New Repair Request" in the menu 4. Select a non quarter address 5. Click "Add Item" 6. Select "Position Description" 7. Select the repair item from "Common Repair Items" | F15: 6. The text box for "Position Description" will be shown. 7. The list of "Common Repair Items" for Non Quarter Address will be shown. | G15: 45999 | H15: Vincent | L15: Pass | M15: Pass | N15: Pass | O15: Pass | S15: Tested
A16: =MAX($A$1:A15) +1 -> 11 | C16: Bookmark and Unbookmark Repair Item | D16: 1. Open revamped CyberRCC 2. Login as BD User 3. Click "New Repair Request" in the menu 4. Select any address 5. Click "Add Item" 6. In the Full List, click the bookmark flag next to the repair item, bookmark thirteen items 7. In the "Common Repair Item", click the bookmark flag to unbookmark all the item. | F16: 6. Fisrt twently item will be bookmarked, the thirteen will be fail with warning message. 7. All bookmarked item will be removed in "Common Repaie Item" | G16: 45999 | H16: Vincent | L16: Pass | M16: Pass | N16: Pass | O16: Pass | S16: Tested
A17: =MAX($A$1:A16) +1 -> 12 | C17: Uploade Photo and Video | D17: 1. Open revamped CyberRCC 2. Login as BD User 3. Click "New Repair Request" in the menu 4. Select any address 5. Click "Add Item" 6. Upload a image with size < 3MB 7. Upload a video with size < 25MB | F17: 6. The image can be uploaded successfully. 7. The video can be uploadeded successfully. | G17: 45999 | H17: Vincent | L17: Pass | M17: Pass | N17: Pass | O17: Pass | S17: Tested
A18: =MAX($A$1:A17) +1 -> 13 | C18: Validation on Photo and Video Upload | D18: 1. Open revamped CyberRCC 2. Login as BD User 3. Click "New Repair Request" in the menu 4. Select any address 5. Click "Add Item" 6. Upload a image with size > 3MB 7. Upload a file with extention .doc 8. Upload a video with size > 25MB | F18: 6. The image can not be uploaded with the size warning message prompt. 7. The file can not be uploaded with the incorrect file type warning message prompt. 8. The video can not be uploaded with the size warning message prompt. | G18: 45999 | H18: Vincent | L18: Pass | M18: Pass | N18: Pass | O18: Pass | S18: Tested
A19: =MAX($A$1:A18) +1 -> 14 | C19: RCC Supervisor Update Item remark for repair item in DA | D19: 1. Login DA using supervisor account 2. Click "Repair Tree" in menu 3. Click "Search" 4. Double one of the Repair Tree Item 5. Input the Remark 1 Example 6. Input Item Remark 2 Label 7. Input Remark 2 Example 8. Check the box Item Remark 2 Mandatory 9. Check the box Sync to CyberRCC 10. Click Save | F19: 10. The data saved successfully. | G19: 45999 | H19: Vincent | L19: Pass | S19: Tested
