Workbook

Sheet Cover Page
A1: Version | B1: Description | C1: Update By | D1: Update Date
A2: 1 | B2: Initial Version | C2: Derek Wong, Kyle Ling
A3: 1.1 | B3: Start SIT | C3: Tester | D3: 45727

Sheet Legend
A1: Status | C1: Total Number of Test Case | D1: =SUM(MAX('Signup+My Account'!A:A),MAX('Signin+Reset Password'!A:A),MAX('Home Page+Menu'!A:A),MAX('New Repair Request'!A:A),MAX('My+BD Repair Request'!A:A), MAX('User Verification+Invite'!A:A), MAX('Group Maintenance'!A:A), MAX('BD Report Download'!A:A),MAX('Search RRF (DS)'!A:A),MAX('Monitor Screen (DS)'!A:A),MAX(Dashboard!A:A),MAX('Admin Approval'!A:A),MAX('Sys Setting+Static Page '!A:A),MAX(Notification!A:A),MAX(Annoucement!A:A),MAX('DA+FEHD API Enhancement'!A:A),MAX('MTC Data Exchange'!A:A)) -> 468 | H1: Broswer Version
A2: Tested | C2: Total Oustanding Test Case | D2: =SUM(COUNTIFS('Signup+My Account'!A:A, ">0",'Signup+My Account'!S:S,""),COUNTIFS('Signin+Reset Password'!A:A, ">0",'Signin+Reset Password'!S:S,""),COUNTIFS('Home Page+Menu'!A:A, ">0",'Home Page+Menu'!S:S,""),COUNTIFS('New Repair Request'!A:A, ">0",'New Repair Request'!S:S,""),COUNTIFS('My+BD Repair Request'!A:A, ">0",'My+BD Repair Request'!S:S,""),COUNTIFS('User Verification+Invite'!A:A, ">0",'User Verification+Invite'!S:S,""),COUNTIFS('Group Maintenance'!A:A, ">0",'Group Maintenance'!S:S,""),COUNTIFS('BD Report Download'!A:A, ">0",'BD Report Download'!S:S,""),COUNTIFS('Search RRF (DS)'!A:A, ">0",'Search RRF (DS)'!S:S,""),COUNTIFS('Monitor Screen (DS)'!A:A, ">0",'Monitor Screen (DS)'!S:S,""),COUNTIFS(Dashboard!A:A, ">0",Dashboard!S:S,""),COUNTIFS('Admin Approval'!A:A, ">0",'Admin Approval'!S:S,""),COUNTIFS('Sys Setting+Static Page '!A:A, ">0",'Sys Setting+Static Page '!S:S,""),COUNTIFS(Notification!A:A, ">0",Notification!S:S,""),COUNTIFS(Annoucement!A:A, ">0",Annoucement!S:S,""),COUNTIFS('DA+FEHD API Enhancement'!A:A, ">0",'DA+FEHD API Enhancement'!J:J,""),COUNTIFS('MTC Data Exchange'!A:A, ">0",'MTC Data Exchange'!J:J,"") ) -> 38 | E2: =D2/$D$1 -> 0.081196581 | H2: Chrome | I2: 142.0.7444.163
A3: To Be Fixed | C3: Total Tested Test Case | D3: =SUM(COUNTIFS('Signup+My Account'!A:A, ">0",'Signup+My Account'!S:S,A2),COUNTIFS('Signin+Reset Password'!A:A, ">0",'Signin+Reset Password'!S:S,A2),COUNTIFS('Home Page+Menu'!A:A, ">0",'Home Page+Menu'!S:S,A2),COUNTIFS('New Repair Request'!A:A, ">0",'New Repair Request'!S:S,A2),COUNTIFS('My+BD Repair Request'!A:A, ">0",'My+BD Repair Request'!S:S,A2),COUNTIFS('User Verification+Invite'!A:A, ">0",'User Verification+Invite'!S:S,A2),COUNTIFS('Group Maintenance'!A:A, ">0",'Group Maintenance'!S:S,A2),COUNTIFS('BD Report Download'!A:A, ">0",'BD Report Download'!S:S,A2),COUNTIFS('Search RRF (DS)'!A:A, ">0",'Search RRF (DS)'!S:S,A2),COUNTIFS('Monitor Screen (DS)'!A:A, ">0",'Monitor Screen (DS)'!S:S,A2),COUNTIFS(Dashboard!A:A, ">0",Dashboard!S:S,A2),COUNTIFS('Admin Approval'!A:A, ">0",'Admin Approval'!S:S,A2),COUNTIFS('Sys Setting+Static Page '!A:A, ">0",'Sys Setting+Static Page '!S:S,A2),COUNTIFS(Notification!A:A, ">0",Notification!S:S,A2),COUNTIFS(Annoucement!A:A, ">0",Annoucement!S:S,A2),COUNTIFS('DA+FEHD API Enhancement'!A:A, ">0",'DA+FEHD API Enhancement'!J:J,A2),COUNTIFS('MTC Data Exchange'!A:A, ">0",'MTC Data Exchange'!J:J,A2) ) -> 401 | E3: =D3/$D$1 -> 0.85683761 | H3: FireFox | I3: 145
A4: Fixed | C4: Total To Be Fixed Test Case | D4: =SUM(COUNTIFS('Signup+My Account'!A:A, ">0",'Signup+My Account'!S:S,A3),COUNTIFS('Signin+Reset Password'!A:A, ">0",'Signin+Reset Password'!S:S,A3),COUNTIFS('Home Page+Menu'!A:A, ">0",'Home Page+Menu'!S:S,A3),COUNTIFS('New Repair Request'!A:A, ">0",'New Repair Request'!S:S,A3),COUNTIFS('My+BD Repair Request'!A:A, ">0",'My+BD Repair Request'!S:S,A3),COUNTIFS('User Verification+Invite'!A:A, ">0",'User Verification+Invite'!S:S,A3),COUNTIFS('Group Maintenance'!A:A, ">0",'Group Maintenance'!S:S,A3),COUNTIFS('BD Report Download'!A:A, ">0",'BD Report Download'!S:S,A3),COUNTIFS('Search RRF (DS)'!A:A, ">0",'Search RRF (DS)'!S:S,A3),COUNTIFS('Monitor Screen (DS)'!A:A, ">0",'Monitor Screen (DS)'!S:S,A3),COUNTIFS(Dashboard!A:A, ">0",Dashboard!S:S,A3),COUNTIFS('Admin Approval'!A:A, ">0",'Admin Approval'!S:S,A3),COUNTIFS('Sys Setting+Static Page '!A:A, ">0",'Sys Setting+Static Page '!S:S,A3),COUNTIFS(Notification!A:A, ">0",Notification!S:S,A3),COUNTIFS(Annoucement!A:A, ">0",Annoucement!S:S,A3),COUNTIFS('DA+FEHD API Enhancement'!A:A, ">0",'DA+FEHD API Enhancement'!J:J,A3),COUNTIFS('MTC Data Exchange'!A:A, ">0",'MTC Data Exchange'!J:J,A3) ) -> 14 | E4: =D4/$D$1 -> 0.02991453 | H4: Edge | I4: 142.0.3595.80
A5: To Be Retested | C5: Total Fixing Test Case | D5: =SUM(COUNTIFS('Signup+My Account'!A:A, ">0",'Signup+My Account'!S:S,A6),COUNTIFS('Signin+Reset Password'!A:A, ">0",'Signin+Reset Password'!S:S,A6),COUNTIFS('Home Page+Menu'!A:A, ">0",'Home Page+Menu'!S:S,A6),COUNTIFS('New Repair Request'!A:A, ">0",'New Repair Request'!S:S,A6),COUNTIFS('My+BD Repair Request'!A:A, ">0",'My+BD Repair Request'!S:S,A6),COUNTIFS('User Verification+Invite'!A:A, ">0",'User Verification+Invite'!S:S,A6),COUNTIFS('Group Maintenance'!A:A, ">0",'Group Maintenance'!S:S,A6),COUNTIFS('BD Report Download'!A:A, ">0",'BD Report Download'!S:S,A6),COUNTIFS('Search RRF (DS)'!A:A, ">0",'Search RRF (DS)'!S:S,A6),COUNTIFS('Monitor Screen (DS)'!A:A, ">0",'Monitor Screen (DS)'!S:S,A6),COUNTIFS(Dashboard!A:A, ">0",Dashboard!S:S,A6),COUNTIFS('Admin Approval'!A:A, ">0",'Admin Approval'!S:S,A6),COUNTIFS('Sys Setting+Static Page '!A:A, ">0",'Sys Setting+Static Page '!S:S,A6),COUNTIFS(Notification!A:A, ">0",Notification!S:S,A6),COUNTIFS(Annoucement!A:A, ">0",Annoucement!S:S,A6),COUNTIFS('DA+FEHD API Enhancement'!A:A, ">0",'DA+FEHD API Enhancement'!J:J,A6),COUNTIFS('MTC Data Exchange'!A:A, ">0",'MTC Data Exchange'!J:J,A6) ) -> 0 | E5: =D5/$D$1 -> 0 | H5: Safari - MAC login: - test / test | I5: - MAC login: - test / test
A6: Fixing | C6: Total Fixed Test Case | D6: =SUM(COUNTIFS('Signup+My Account'!A:A, ">0",'Signup+My Account'!S:S,A4),COUNTIFS('Signin+Reset Password'!A:A, ">0",'Signin+Reset Password'!S:S,A4),COUNTIFS('Home Page+Menu'!A:A, ">0",'Home Page+Menu'!S:S,A4),COUNTIFS('New Repair Request'!A:A, ">0",'New Repair Request'!S:S,A4),COUNTIFS('My+BD Repair Request'!A:A, ">0",'My+BD Repair Request'!S:S,A4),COUNTIFS('User Verification+Invite'!A:A, ">0",'User Verification+Invite'!S:S,A4),COUNTIFS('Group Maintenance'!A:A, ">0",'Group Maintenance'!S:S,A4),COUNTIFS('BD Report Download'!A:A, ">0",'BD Report Download'!S:S,A4),COUNTIFS('Search RRF (DS)'!A:A, ">0",'Search RRF (DS)'!S:S,A4),COUNTIFS('Monitor Screen (DS)'!A:A, ">0",'Monitor Screen (DS)'!S:S,A4),COUNTIFS(Dashboard!A:A, ">0",Dashboard!S:S,A4),COUNTIFS('Admin Approval'!A:A, ">0",'Admin Approval'!S:S,A4),COUNTIFS('Sys Setting+Static Page '!A:A, ">0",'Sys Setting+Static Page '!S:S,A4),COUNTIFS(Notification!A:A, ">0",Notification!S:S,A4),COUNTIFS(Annoucement!A:A, ">0",Annoucement!S:S,A4),COUNTIFS('DA+FEHD API Enhancement'!A:A, ">0",'DA+FEHD API Enhancement'!J:J,A4),COUNTIFS('MTC Data Exchange'!A:A, ">0",'MTC Data Exchange'!J:J,A4) ) -> 0 | E6: =D6/$D$1 -> 0
C7: Total Retested Test Case | D7: =SUM(COUNTIFS('Signup+My Account'!A:A, ">0",'Signup+My Account'!S:S,A5),COUNTIFS('Signin+Reset Password'!A:A, ">0",'Signin+Reset Password'!S:S,A5),COUNTIFS('Home Page+Menu'!A:A, ">0",'Home Page+Menu'!S:S,A5),COUNTIFS('New Repair Request'!A:A, ">0",'New Repair Request'!S:S,A5),COUNTIFS('My+BD Repair Request'!A:A, ">0",'My+BD Repair Request'!S:S,A5),COUNTIFS('User Verification+Invite'!A:A, ">0",'User Verification+Invite'!S:S,A5),COUNTIFS('Group Maintenance'!A:A, ">0",'Group Maintenance'!S:S,A5),COUNTIFS('BD Report Download'!A:A, ">0",'BD Report Download'!S:S,A5),COUNTIFS('Search RRF (DS)'!A:A, ">0",'Search RRF (DS)'!S:S,A5),COUNTIFS('Monitor Screen (DS)'!A:A, ">0",'Monitor Screen (DS)'!S:S,A5),COUNTIFS(Dashboard!A:A, ">0",Dashboard!S:S,A5),COUNTIFS('Admin Approval'!A:A, ">0",'Admin Approval'!S:S,A5),COUNTIFS('Sys Setting+Static Page '!A:A, ">0",'Sys Setting+Static Page '!S:S,A5),COUNTIFS(Notification!A:A, ">0",Notification!S:S,A5),COUNTIFS(Annoucement!A:A, ">0",Annoucement!S:S,A5),COUNTIFS('DA+FEHD API Enhancement'!A:A, ">0",'DA+FEHD API Enhancement'!J:J,A5),COUNTIFS('MTC Data Exchange'!A:A, ">0",'MTC Data Exchange'!J:J,A5) ) -> 15 | E7: =D7/$D$1 -> 0.032051282
H11: Testing URL
H12: Revamped CyberRCC | I12: https://iamsmart.itapps.com/#/signin | J12: C:\Windows\System32\drivers\etc\host 113.28.105.210
H13: DA | I13: https://172.16.3.65/da_Mobility0220/main.zul
I14: RCC Supervisor Login: itapps2 / itapps itapps3 / itapps DS Login: wongcw5 / itapps
H15: CCE Agent | I15: 172.16.3.106 a\admnistrator P@ssw0rd
H16: Check Email (2FA, Notification etc) | I16: \\CCEDB\mail
H20: Account ID | I20: Login | J20: Role | L20: Account ID | M20: Login | N20: Role
H21: Z0001 | I21: test10@test.gov.hk | J21: B/D User | L21: Z0007 | M21: test9@test.gov.hk | N21: B/D User
H22: Z0006 | I22: test11@test.gov.hk | J22: B/D Group Admin | L22: T1235 | M22: test4@test.gov.hk | N22: B/D Group Admin
H23: Z0005 | I23: test13@test.gov.hk | J23: B/D Admin | L23: T1233 | M23: test5@test.gov.hk | N23: B/D Admin
H24: C1006 | I24: test14@test.gov.hk | J24: B/D Report User | L24: C1003 | M24: test6@test.gov.hk | N24: B/D Report User
I25: test@email.SStaff | J25: DS
I26: test@email.SSS | J26: RCC Admin / Supervisor

Sheet Signup+My Account
A1: Case No | B1: Seg. | C1: Description | D1: Test Procedure | E1: Test Data/ Prerequisite | F1: Expected Result | G1: Date | H1: Tester | I1: Result | S1: Status | T1: Remarks
I2: Language | L2: Desktop | P2: Tablet | Q2: Mobile
I3: English | J3: Trad Chi | K3: Simp Chi | L3: Chrome | M3: FireFox | N3: Edge | O3: Safari | P3: Pad | Q3: Android | R3: IOS
A4: Scenario 1: | B4: Signup UI
A5: =MAX($A$1:A4) + 1 -> 1 | C5: Test Sign Up UI in different browser and device | D5: 1. Open Revamped CyberRCC in Chrome Browser 2. Click "Sign Up" in the menu 3. Enter all compulsory information 4. Click "Add Address" button 5. Enter all compulsory address information and click Confirm button 6. Click "Sign Up" Button 7. Click "Submit" button 8. Repeat Step1-7 in FireFox Browser 9. Repeat Step1-7 in Edge Browser 10. Repeat Step1-7 in Safari Browser 11. Repeat Step1-7 in tablet Chrome Browser 12. Repeat Step1-7 in Andoid Chrome Browser 13. Repeat Step1-7 in iOS Safari Browser | F5: 2. Sign Up Form Display Properly 4. Display Add Address Pop Up Properly 6. Preview Sign Up Display Properly 7. Submit Successful Page Display Properly 8 - 13: Same Page Layout Display as Chrome in Step 2, 4, 6 & 7 | G5: 46008 | H5: Oscar | L5: Passed | M5: Passed | N5: Passed | O5: Passed | P5: Passed | Q5: Passed | R5: Passed | S5: Tested | T5: Firefox: password field eyes icon not in the text field (fixed) eye icon seems not work in mobile (fixed) | U5: update: 2025/12/15
A6: =MAX($A$1:A5) + 1 -> 2 | C6: Test Sign Up UI in different language | D6: 1. Open Revamped CyberRCC with English in Chrome Browser 2. Click "Sign Up" in the menu 3. Select Traditional Chinese 4. Select Simplifed Chinese 5. Enter all compulsory information 6. Click "Add Address" button 7. Enter all compulsory address information and click Confirm button 8. Select Traditional Chinese 9. Click "Add Address" button 10. Click Cancel Button 11. Select English 12. Click "Add Address" button 13. Clcik Cancel Button 14. Click "Sign Up" Button 15. Select Traditional Chinese 16. Select Simplifed Chinese 17. Click "Submit" button 18. Select Traditional Chinese 19. Select English | F6: 2, 12, 14, 19: Display correct label in English 3, 9, 15, 18: Display correct label in Traditional Chinese 5, 6, 16, 17: Display correct label in Simplified Chinese | G6: 46008 | H6: Oscar | I6: Passed | J6: Passed | K6: Passed | S6: Tested | T6: Tc: ?生署 | U6: update: 2025/12/15
A7: Scenario 2: | B7: My Account UI
A8: =MAX($A$1:A7) + 1 -> 3 | C8: Test My Account UI in different browser and device | D8: 1. Open Revamped CyberRCC in Chrome Browser 2. Login As BD User 3. Click My Account Page 4. Click Edit a address Page 5. Repeat Step 1 - 4 in FireFox Browser 6. Repeat Step 1-4 in Edge Browser 7. Repeat Step 1-4 in Safari Browser 8. Repeat Step 1-4 in tablet Chrome Browser 9. Repeat Step 1-4 in Andoid Chrome Browser 10. Repeat Step 1-4 in iOS Safari Browser | F8: 3: Display My Account Page Properly 4: Display Add/Edit Address Pop Up Properly 5 -10: Same Page Layout as Chrome Browser | G8: 46008 | H8: Oscar | L8: Passed | M8: Passed | N8: Passed | O8: Passed | P8: Passed | Q8: Passed | R8: Passed | S8: Tested | T8: when try to delete new added address, message show can't delete approved address. (fixed)
A9: =MAX($A$1:A8) + 1 -> 4 | C9: Test My Account UI in different language | D9: 1. Open Revamped CyberRCC in English in Chrome Browser 2. Login As BD User 3. Click My Account Page 4. Click Edit a address Page 5. Click Cancel button 6. Select Traditional Chinese and repeat Step 3 - 4 7. Select Simplified Chinese and repeat Step 3 - 4 | F9: 3 - 4: Display correct label in English 6: Display correct label in Traditional Chinese 7: Display correct label in Simplified Chinese | G9: 46008 | H9: Oscar | I9: Passed | J9: Passed | K9: Passed | S9: Tested
A10: Scenario 3: | B10: Signup Function
A11: =MAX($A$1:A10) + 1 -> 5 | C11: iAMSmart Form Filling | D11: 1. Open Revamped CyberRCC 2. Select Sign Up in Menu 3. Click Sign with iAM Smart Button 4. Scan QR Code with iAMSmart Application | F11: 3: Page with iAMSmart QR Code will be poped up 4: Redirect to Sign Up Page and following field will be marked as form filled by iAMSmart: -Title -First Name (Eng) -Last Name (Eng) -First Name (Chi) -Last Name (Chi) -Primary Contact Number | G11: 46008 | H11: Kyle | L11: Passed | M11: Passed | N11: Passed | O11: Passed | S11: Tested
A12: =MAX($A$1:A11) + 1 -> 6 | C12: Verify Login Email As Government Email Only | D12: 1. Open Revamped CyberRCC 2. Select Sign Up in Menu 3. Enter a email without .gov.hk and click Send Code button 4. Enter another email with .gov.hk and click Send Code Button 5. Enter a random code in Email Verification Code and click Verify Button 6. Copy the code from email to Email Verification Code and click Verify Button | F12: 3: Error Message for non government email is be shown 4: an email with verification code is received in inputted email address 5: Error Message for incorrect code will be shown 6: Login Email will marked as Verified, Button Resend Code, filling field Email Verification Code will be disappeared | G12: 45979 | H12: Vincent | L12: Passed | M12: Passed | N12: Passed | O12: Passed | S12: Tested | U12: Chrome version: 142.0.7444.176 Firefox version: 145 Edge version: 142.0.3595.80
A13: =MAX($A$1:A12) + 1 -> 7 | C13: Resend Code for Verification | D13: 1. Open Revamped CyberRCC 2. Select Sign Up in Menu 3. Enter a email with .gov.hk and click Send Code Button 4. Click Resend Code button | F13: 4: Another Email with new verification code is received | G13: 45979 | H13: Vincent | L13: Passed | M13: Passed | N13: Passed | O13: Passed | S13: Tested
A14: =MAX($A$1:A13) + 1 -> 8 | C14: Add Quarter Address Successfully | D14: 1. Open Revamped CyberRCC 2. Select Sign Up in Menu 3. Click Add New Button 4. Enter all compulsory address information and mark as quarter 5. Click Confirm | F14: 5: A address record with quarter label is shown under Address | G14: 45979 | H14: Vincent | L14: Passed | M14: Passed | N14: Passed | O14: Passed | S14: Tested
A15: =MAX($A$1:A14) + 1 -> 9 | C15: Add Non Quarter Address Successfully | D15: 1. Open Revamped CyberRCC 2. Select Sign Up in Menu 3. Click Add New Button 4. Enter all compulsory address information and mark as non quarter 5. Click Confirm | F15: 5: A address record without quarter label is shown under Address | G15: 45979 | H15: Vincent | L15: Passed | M15: Passed | N15: Passed | O15: Passed | S15: Tested
A16: =MAX($A$1:A15) + 1 -> 10 | C16: Address Suggestion | D16: 1. Open Revamped CyberRCC 2. Select Sign Up in Menu 3. Click Add New Button 4. Enter "Morse" 5. Select "Morse Swimming Pool" | F16: 4: Show list of Address with Morse 5: Morse Swimming Pool address is autofilled, the district and area will be auto selected and cannot be changed | G16: 45979 | H16: Vincent | L16: Passed | M16: Passed | N16: Passed | O16: Passed | S16: Tested
A17: =MAX($A$1:A16) + 1 -> 11 | C17: Validation on adding Address | D17: 1. Open Revamped CyberRCC 2. Select Sign Up in Menu 3. Click Add New Button 4. Leave all the fields empty and click Confirm 5. Enter all compulsory address information and enter invalid date for effective start date and effective end date 6. Enter valid date for effective start date and effective end date but end date is earlier than start date | F17: 4: Error Message for mandatory field will be shown, including: - District - Area - Effective Start Date - Street/Estate/Village/Building 5: Error Message for incorrect format of effective start date and end date 6: Error Message for end date cannot be earlier than start date | G17: 45993 | H17: Vincent | L17: Passed | M17: Passed | N17: Passed | O17: Passed | S17: Tested
A18: =MAX($A$1:A17) + 1 -> 12 | C18: Submit Signup Succesfully | D18: 1. Open Revamped CyberRCC 2. Select Sign Up in Menu 3. Input Correct Login Email and click send Verification Code 4. Copy Code from email and click Verify 5. Input all fields 6. Click Add New Button 7. Enter all address information and mark as quarter 8. Click Confirm 9. Tick I agree to the Terms and Conditions and Privacy Policy 10. Click Sign Up 11. Click Submit | F18: 10: Preview Page for Previous Input Information will be displayed 11: Sign Up Completion will be shown and a email will be received with header "Account create successfully for CyberRCC" | G18: 45994 | H18: Vincent | L18: Passed | M18: Passed | N18: Passed | O18: Passed | S18: Tested
A19: =MAX($A$1:A18) + 1 -> 13 | C19: Department Dropdown and Group Dropdown | D19: 1. Open Revamped CyberRCC 2. Select Sign Up in Menu 3. Click Bureau\Department Dropdown 4. Select AFCD 5. Click Group Dropdown | F19: 3: Show Bureau/Department List 5: Show all Groups under AFCD | G19: 45979 | H19: Vincent | L19: Passed | M19: Passed | N19: Passed | O19: Passed | S19: Tested
A20: =MAX($A$1:A19) + 1 -> 14 | C20: Validation on submit signup | D20: 1. Open Revamped CyberRCC 2. Select Sign Up in Menu 3. Click Sign Up Button 4. Input Correct Login Email and click send Verification Code 5. Copy Code from email and click Verify 6. Input all mandatory fields and click Sign Up 7. Click Add New Button 8. Enter all address information and mark as quarter 9. Click Confirm 10. Click Sign Up 11. Tick I agree to the Terms and Conditions and Privacy Policy 12. Set Password, Confirm Password to abcd1234 and Click Sign Up 13. Set Password to P@ssw0rd, Confirm Password to abcd1234 and click Sign Up 14. Set Primary Contact Number to non 8 digit number and click Sign Up 15. Set Secondary Contact Number to non 8 digit number and click Sign Up | F20: 3: Error Message for mandatory field will be shown, including: - Login Email - Password - Confirm Password - First Name (Eng) - Last Name (Eng) - Primary Contact No - Bureau/Department - Post 6: Error Message for At least one Address is required 10: Error Message for ticking T and C and Privacy Policy 12: Error Message for Password Policy 13: Error Message for Confirm Password not Match 14: Error Message for Incorrect format for primary contact number 15: Error Message for Incorrect format for secondary contact number | G20: 45979 | H20: Vincent | L20: Passed | M20: Passed | N20: Passed | O20: Passed | S20: Tested | T20: In Firefox, the show eye button with Password is wrong location In Edge, the show eye button with Confirm Password is weird when input the password
A21: Scenario 4: | B21: My Account Function
A22: =MAX($A$1:A21) + 1 -> 15 | C22: Display Account Information | D22: 1. Open Revamped CyberRCC 2. Login as BD User 3. Select My Account in Menu | F22: 3: My Account with correct account information is displayed | G22: 45980 | H22: Vincent | L22: Passed | M22: Passed | N22: Passed | O22: Passed | S22: Tested
A23: =MAX($A$1:A22) + 1 -> 16 | C23: Update Password Successfully | D23: 1. Open Revamped CyberRCC 2. Login as BD User 3. Select My Account in Menu 4. Update Password with correct password policy 5. Input Confirm Password same as Password 6. Click Save 7. Logout and Login with new Password again | F23: 6: Password Updated Successfully 7: Can Login with new password successfully | G23: 45980 | H23: Vincent | L23: Passed | M23: Passed | N23: Passed | O23: Passed | S23: Tested
A24: =MAX($A$1:A23) + 1 -> 17 | C24: Link with iAMSmart | D24: 1. Open Revamped CyberRCC 2. Login as BD User without linkage with iAM Smart 3. Select My Account in Menu 4. Click Continue with iAM Smart 5. Scan iAM Smart QR Code 6. Logout and Login with iAMSmart | F24: 4: iAM Smart QR Code will be poped 5: Redirect back to My Account and the account is linked with iAM Smart. "De-linkage with iAM Smart Account" is shown 6: Login with iAMSmart Successfully | G24: 46008 | H24: Kyle | L24: Passed | M24: Passed | N24: Passed | O24: Passed | S24: Tested | T24: After link, the button "Link with iAM …" do not change to "De-linkage .." | U24: update: 2026/1/5
A25: =MAX($A$1:A24) + 1 -> 18 | C25: Delink with iAMSmart | D25: 1. Open Revamped CyberRCC 2. Login as BD User with linkage with iAM Smart 3. Select My Account in Menu 4. Click De-linkage with iAM Smart Account 5. Logout and Login with iAMSmart | F25: 4: The account is delinked with iAM Smart. "Continue with iAM Smart" is shown 5: Cannot Login with iAM Smart Account | G25: 46008 | H25: Kyle | L25: Passed | M25: Passed | N25: Passed | O25: Passed | S25: Tested
A26: =MAX($A$1:A25) + 1 -> 19 | C26: Update Account Information Successfully | D26: 1. Open Revamped CyberRCC 2. Login as BD User 3. Select My Account in Menu 4. Update Primary Contact Number and Secondary Contact Number, Post and Comm. Language 5. Click Save | F26: 5. All Updated Information is saved and displayed | G26: 45980 | H26: Vincent | L26: Passed | M26: Passed | N26: Passed | O26: Passed | S26: Tested
A27: =MAX($A$1:A26) + 1 -> 20 | C27: Add Address Successfully | D27: 1. Open Revamped CyberRCC 2. Login as BD User 3. Select My Account in Menu 4. Click Add New 5. Enter all compulsory address information and mark as quarter 6. Click Confirm 7. Click Save | F27: 4: Add Address Pop up 6: A new address record show under Address 7: The new address is saved and displayed in My Account | G27: 45980 | H27: Vincent | L27: Passed | M27: Passed | N27: Passed | O27: Passed | S27: Tested
A28: =MAX($A$1:A27) + 1 -> 21 | C28: Edit Non Approved Address Successfully | D28: 1. Open Revamped CyberRCC 2. Login as BD User 3. Select My Account in Menu 4. Click Edit Icon for Address without Approved Date 5. Update the effective start date and Street/Estate/Village/Building 6. Click Confirm 7. Click Save | F28: 4: Edit Address Pop Up. Address Detail will be shown in the pop up. All fields can be updated. 5: Both Fields can be updated 6: The address info under Address is updated 7: The updated address is saved and displayed | G28: 45980 | H28: Vincent | L28: Passed | M28: Passed | N28: Passed | O28: Passed | S28: Tested
A29: =MAX($A$1:A28) + 1 -> 22 | C29: Edit Approved Address Successfully | D29: 1. Open Revamped CyberRCC 2. Login as BD User 3. Select My Account in Menu 4. Click Edit Icon for Address with Approved Date 5. Update the effective start date 6. Click Confirm 7. Click Save | E29: BD Admins has approved BD User address before | F29: 4: Edit Address Pop Up. Address Detail will be shown in the pop up. Only Other Description, Effective Start Date and Effective End Date can be updated. 5: Field can be updated 6: The address info under Address is updated 7: The updated address is saved and marked is not approved and it is displayed without approved date | G29: 46024 | H29: Vincent | L29: Passed | M29: Passed | N29: Passed | O29: Passed | S29: Tested
A30: =MAX($A$1:A29) + 1 -> 23 | C30: Delete Address Successfully | D30: 1. Open Revamped CyberRCC 2. Login as BD User 3. Select My Account in Menu 4. Click Delete Icon for Address without Approved Date 5. Click Confirm for the pop up 6. Click Save | F30: 5: The Address has shown cancel delete button 6: Removed Action is save and the address will not be shown again | G30: 45993 | H30: Vincent | L30: Passed | M30: Passed | N30: Passed | O30: Passed | S30: Tested
A31: =MAX($A$1:A30) + 1 -> 24 | C31: Delete Approved and Effective Address | D31: 1. Open Revamped CyberRCC 2. Login as BD User 3. Select My Account in Menu 4. Click Delete Icon for Address with Approved Date and within effective date | E31: BD Admins has approved BD User address before | F31: 4: Error Message - Cannot delete approved effective address will be shown | G31: 45980 | H31: Vincent | L31: Passed | M31: Passed | N31: Passed | O31: Passed | S31: Tested
A32: =MAX($A$1:A31) + 1 -> 25 | C32: Validation on adding new address | D32: 1. Open Revamped CyberRCC 2. Login as BD User 3. Select My Account in Menu 4. Click Add New 5. Leave all the fields empty and click Confirm 6. Enter all compulsory address information and enter invalid date for effective start date and effective end date and click Confirm 7. Enter valid date for effective start date and effective end date but end date is earlier than start date and click Confirm | F32: 5: Error Message for mandatory field will be shown, including: - District - Area - Effective Start Date - Street/Estate/Village/Building 6: Error Message for incorrect format of effective start date and end date 7: Error Message for end date cannot be earlier than start date | G32: 45993 | H32: Vincent | L32: Passed | M32: Passed | N32: Passed | O32: Passed | S32: Tested
A33: =MAX($A$1:A32) + 1 -> 26 | C33: Validation on updating account information | D33: 1. Open Revamped CyberRCC 2. Login as BD User 3. Select My Account in Menu 4. Remove all info in Primary Contact and Post and click save 5. Enter Post and Non 8 digit number for primary contact and secondary contact and clicm Save 6. Enter | F33: 4: Error Message for mandatory field will be shown, including: - Post - Primary Contact 5: Error Message for incorrect format of primary contact and secondary contact | G33: 45993 | H33: Vincent | L33: Passed | M33: Passed | N33: Passed | O33: Passed | S33: Tested
A34: =MAX($A$1:A33) + 1 -> 27 | C34: Validation on updating password | D34: 1. Open Revamped CyberRCC 2. Login as BD User 3. Select My Account in Menu 4. Set Password, Confirm Password to abcd1234 and Click Save 5. Set Password to P@ssw0rd, Confirm Password to abcd1234 and click Save | F34: 4: Error Message for violation Password Policy 5: Error Message for Confirm Password not same as Password | G34: 45980 | H34: Vincent | L34: Passed | M34: Passed | N34: Passed | O34: Passed | S34: Tested

Sheet Signin+Reset Password
A1: Case No | B1: Seg. | C1: Description | D1: Test Procedure | E1: Test Data/ Prerequisite | F1: Expected Result | G1: Date | H1: Tester | I1: Result | S1: Status | T1: Remarks
I2: Language | L2: Desktop | P2: Tablet | Q2: Mobile
I3: English | J3: Trad Chi | K3: Simp Chi | L3: Chrome | M3: FireFox | N3: Edge | O3: Safari | P3: Pad | Q3: Android | R3: IOS
A4: Scenario 1: | B4: Login Page UI
A5: =MAX($A$1:A4) + 1 -> 1 | C5: Test Login Page UI Component in all Desktop Browsers, Tablet and Mobile | D5: 1. Open Login Page of revamped CyberRCC in Chrome Browser 2. Repeat Step1 in FireFox Browser 3. Repeat Step1 in Edge Browser 4. Repeat Step1 in Safari Browser 5. Repeat Step1 in tablet Chrome Browser 6. Repeat Step1 in Andoid Chrome Browser 7. Repeat Step1 in iOS Safari Browser | F5: 1: Display Login Page properly 2 - 7: Same page layout as step 1 | G5: 6/11/2025 14/11/2025 | H5: Derek | L5: Pass | M5: Pass | N5: Pass | O5: Pass | P5: Fail | Q5: Fail | R5: Fail | S5: Tested | T5: (1) The Arror in For Welcome to cyber repair call centre is non function, please remove it (2) The Icon is not in a good ratio
A6: =MAX($A$1:A5) + 1 -> 2 | C6: Test Login Page UI Langugae | D6: 1. Open Login Page of revamped CyberRCC in Chrome Browser 2. Select Tradition Chinese for language 3. Select Simplified Chinese for language | F6: 1: Display with English Label 2: Display with Tradition Chinese Label 3: Display with Simplified Chinese Label | G6: 45975 | H6: Derek | I6: Pass | J6: Pass | K6: Pass | S6: Tested
A7: Scenario 2: | B7: Forget Password Page UI
A8: =MAX($A$1:A7) + 1 -> 3 | C8: Test Forget Password UI Component in all Desktop Browsers, Tablet and Mobile | D8: 1. Open Login Page of revamped CyberRCC in Chrome Browser 2. Click "Forget Password" Button 3. Field in all mandatory fields and click "Reset Password" Button 4. Repeat Step 1 - 3 in FireFox Browser 5. Repeat Step 1 - 3 in Edge Browser 6. Repeat Step 1 - 3 in Safari Browser 7. Repeat Step 1 - 3 in tablet Chrome Browser 8. Repeat Step 1 - 3 in Andoid Chrome Browser 9. Repeat Step 1 - 3 in iOS Safari Browser | F8: 2: Display Forget Password Page properly 3: Display Forget Password Completion Page properly 4 - 9: Same Page layout result as step 2 & 3 | G8: 46008 | H8: Oscar | L8: Pass | M8: Pass | N8: Pass | O8: Pass | S8: Tested | T8: When click didn't receie the email, redirect to signin page. (fixed)
A9: =MAX($A$1:A8) + 1 -> 4 | C9: Test Forget Password UI Language | D9: 1. Open Login Page of revamped CyberRCC in Chrome Browser 2. Click "Forget Password" Button 3. Select Tradition Chinese for language 4. Select Simplified Chinese for language 5. Field in all mandatory fields and click "Reset Password" Button 6. Select Tradition Chinese for language 7. Select English for language | F9: 2 & 7: Display with English Label 3 & 6: Display with Tradition Chinese Label 4 & 5: Display with Simplified Chinese Label | G9: 46008 | H9: Oscar | I9: Pass | J9: Pass | K9: Pass | S9: Tested
A10: Scenario 3: | B10: Reset Password Page UI
A11: =MAX($A$1:A10) + 1 -> 5 | C11: Test Reset Password UI Component in all Desktop Browsers, Tablet and Mobile | D11: 1. Open Login Page of revamped CyberRCC in Chrome Browser 2. Click "Forget Password" Button 3. Field in all mandatory fields and click "Reset Password" Button 4. Check the email and copied the link to Chrome Browser 5. Fill in the mandatory field and click "Reset Password" Button 6. Repeat Step 4 - 5 in FireFox Browser 7. Repeat Step 4 - 5 in Edge Browser 8. Repeat Step 4 - 5 in Safari Browser 9. Repeat Step 4 - 5 in tablet Chrome Browser 10. Repeat Step 4 - 5 in Andoid Chrome Browser 11. Repeat Step 4 - 5 in iOS Safari Browser | F11: 4: Display Reset Password Layout properly 5. Display Reset Page Successfully Layout properly 6 - 11: Same Page layout result as step 4 & 5 | G11: 46008 | H11: Oscar | L11: Pass | M11: Pass | N11: Pass | O11: Pass | S11: Tested | T11: Firefox eye icon drop down form the text field (fixed)
A12: =MAX($A$1:A11) + 1 -> 6 | C12: Test Reset Password UI Language | D12: 1. Open Login Page of revamped CyberRCC in Chrome Browser 2. Click "Forget Password" Button 3. Field in all mandatory fields and click "Reset Password" Button 4. Check the email and copied the link to Chrome Browser 5. Select Tradition Chinese for language 6. Select Simplified Chinese for language 7. Fill in the mandatory field and click "Reset Password" Button 8. Select Tradition Chinese for language 9. Select English for language | F12: 4 & 9: Display with English Label 5 & 8: Display with Tradition Chinese Label 6 & 7: Display with Simplified Chinese Label | G12: 46008 | H12: Oscar | I12: Pass | J12: Pass | K12: Pass | S12: Tested
A13: Scenario 4: | B13: Login Function
A14: =MAX($A$1:A13) + 1 -> 7 | C14: Login revamped CyberRCC with normal B/D User through revamped CyberRCC Login Page by login Email | D14: 1. Open Login Page of revamped CyberRCC 2. Enter Login Email and Correct Password 3. Click "Show Password" button 4. Click "Sign In" Button | E14: Acc: test@test.gov.hk | F14: 2: Password show in encrypted text 3: Password show in plain text 4: B/D User Home Page will be redirected and audit log can be found in database | G14: 45967 | H14: Derek | L14: Pass | M14: Pass | N14: Pass | O14: Pass | S14: Tested
A15: =MAX($A$1:A14) + 1 -> 8 | C15: Login revamped CyberRCC with B/D Admin through revamped CyberRCC Login Page by login Email | D15: 1. Open Login Page of revamped CyberRCC 2. Enter Login Email and Correct Password 3. Click "Sign In" Button 4. Check Email for 2FA Code 5. Click "Resend a new Code" button in revamped CybeRCC 6. Check Email for new 2FA Code again 7. Enter new 2FA Code in revamped CyberRCC and click "Verify" Button | F15: 3: 2FA pop up is shown, email is sent 4: 2FA code found in email 5: another email is sent 6: new 2FA Code found in email 7: B/D Admin Home Page will be redirected and audit log can be found in database | G15: 45993 | H15: Vincent | L15: Pass | M15: Pass | N15: Pass | O15: Pass | S15: Tested
A16: =MAX($A$1:A15) + 1 -> 9 | C16: Login revamped CyberRCC with RCC Admin through revamped CyberRCC Login Page by login account | D16: 1. Open Login Page of revamped CyberRCC 2. Enter DA Login email and correct password 3. Click "Sign In" Button 4. Check Email for 2FA Code 5. Enter new 2FA Code in revamped CyberRCC and click "Verify" Button | F16: 3: 2FA pop up is shown, email is sent 4: 2FA code found in email 5: B/D Admin Home Page will be redirected and audit log can be found in database | G16: 45993 | H16: Vincent | L16: Pass | M16: Pass | N16: Pass | O16: Pass | S16: Tested
A17: =MAX($A$1:A16) + 1 -> 10 | C17: Login revamped CyberRCC with B/D user through revamped CyberRCC Login Page by iAM Smart | D17: 1. Open Login Page of revamped CyberRCC 2. Click "Continue with iAM Smart" Button 3. Scan the QR Code with iAM Smart Application | E17: BD User Account with iAM Smart Sandbox Account | F17: 2: iAM Smart QR Code webpage will be pop up 3: B/D User Home Page is redirected | G17: 17-12-2025 | H17: Kyle | L17: Pass | M17: Pass | N17: Pass | O17: Passed | S17: Tested
A18: =MAX($A$1:A17) + 1 -> 11 | C18: Login revamped CyberRCC with B/D user through departmental portal | D18: 1. Open Simulate Page for departmental portal 2. Click "CyberRCC" Hyperlink | F18: 2: Redirect to B/D User Home Page | H18: Oscar
A19: =MAX($A$1:A18) + 1 -> 12 | C19: Login revamped CyberRCC with DS through Extranet DA | D19: 1. Open DA 2. Login DA with DS account 3. Select Post and Select CyberRCC for destination | E19: Acc: wongcw5 | F19: 3: Redirect to DS Home Page | G19: 45979 | H19: Derek | L19: Pass | S19: Tested | T19: a) The site can't be reach b) Missing Pop Up for selecting CyberRCC or DA Retested on 23/12.2025
A20: =MAX($A$1:A19) + 1 -> 13 | C20: Login revamped CyberRCC with RCC Supervisor through Extranet DA | D20: 1. Open DA 2. Login DA with RCC Supervisor Account 3. Select Go to CyberRCC in DA | E20: Acc: itapps2 | F20: 3: Redirect to RCC Admin Home Page | G20: 45993 | H20: Vincent | L20: Pass | S20: Tested | T20: If Login Fail, should redirect to login page
A21: =MAX($A$1:A20) + 1 -> 14 | C21: Login Validation | D21: 1. Open Login Page of revamped CyberRCC 2. Click Signin Button without entering any login email and password 3. Enter Incorrect login email and password, then click signin button 4. Enter correct login email but incorrect password, then click signin button 5. Enter correct B/D Admin login email and correct password, then click Signin Button 6 Enter a Incorrect 2FA Code | F21: 2: Error Message "Please Enter your xxx" will be shown 3 - 4: Error Message "Please check your login email and password. If you still can’t log in, contact your Cyber Repair Call Center administrator" will be shown 6: Not Verified will be shown | G21: 45993 | H21: Vincent | L21: Pass | M21: Pass | N21: Pass | O21: Pass | S21: Tested
A22: =MAX($A$1:A21) + 1 -> 15 | C22: Locked Login Account | D22: 1. Open Login Page of revamped CyberRCC 2. Enter correct login email but incorrect password, then click signin button 3. Repeat Step 2 for 4 more times 4. Enter correct login email and password | F22: 3: Account will be locked for 15 minutes 4: Error Message "Account is locked due to to many failure" will be shown | G22: 45993 | H22: Vincent | L22: Pass | M22: Pass | N22: Pass | O22: Pass | S22: Tested
A23: Scenario 5: | B23: Forget Password & Reset Password Function
A24: =MAX($A$1:A23) + 1 -> 16 | C24: Forget Password Successfully | D24: 1. Open Login Page of revamped CyberRCC 2. Click "Forgot Password" 3. Input correct login email and captcha, and click "Reset Password" | F24: 2: Forgot Password Page will be shown 3: Email with Reset Password Hyperlink will be received, Forgot Password Finish Page will be shown | G24: 45993 | H24: Vincent | L24: Pass | M24: Pass | N24: Pass | O24: Pass | S24: Tested
A25: =MAX($A$1:A24) + 1 -> 17 | C25: Forget Password Validation | D25: 1. Open Login Page of revamped CyberRCC 2. Click "Forgot Password" 3. Input not exist login email and click "Reset Password" Button 4. Input wrong captcha and click "Reset Password" Button 5. Input empty for Login Email and Captcha and click "Reset Password" Button | F25: 3: Error Message "Please enter correct email" will be shown 4: Error Message "Please enter correct captcha" will be shown | G25: 45993 | H25: Vincent | L25: Pass | M25: Pass | N25: Pass | O25: Pass | S25: Tested
A26: =MAX($A$1:A25) + 1 -> 18 | C26: Reset Password Successfully | D26: 1. Copy the URL received from Case No. 15 2. Input new and correct password, and click "Reset Password" 3. Click "SignIn" Button 4. Input the login email and new password in revamped CyberRCC signin page | F26: 2: Email with Reset Password Message will be received, Reset Password Success Page will be shown 3: Back to Signin Page 4: Signin Successfully | G26: 45981 | H26: Vincent | L26: Pass | M26: Pass | N26: Pass | O26: Pass | S26: Tested
A27: =MAX($A$1:A26) + 1 -> 19 | C27: Reset Password Validation | D27: 1. Copy the URL received from Case No. 15 2. Input password does not match with password policy and click "Reset Password" button 3. Input empty for password and click "Reset Password" button 4. Input confirm password different from new password, the new password must fulfill password policy and click "Reset Password" button 5. Input password and confirm password with last 8 password history and click "Reset Password" button | F27: 2: Message "Password must be 8-14 characters long, contain at least one uppercase letter, one lowercase letter, one number, and one special character." will be shown 3: Message "Please fill in new password" & "Please fill in confirm password" will be shown 4: Message "Please fill in confirm password with same new password" will be shown 5: Message "Password has been used before" will be shown | G27: 45982 | H27: Vincent | L27: Pass | M27: Pass | N27: Pass | O27: Pass | S27: Tested | T27: In Firefox, the show eye button with Password is wrong location In Edge, the show eye button with Confirm Password is weird when input the password

Sheet Home Page+Menu
A1: Case No | B1: Seg. | C1: Description | D1: Test Procedure | E1: Test Data/ Prerequisite | F1: Expected Result | G1: Date | H1: Tester | I1: Result | S1: Status | T1: Remarks
I2: Language | L2: Desktop | P2: Tablet | Q2: Mobile
I3: English | J3: Trad Chi | K3: Simp Chi | L3: Chrome | M3: FireFox | N3: Edge | O3: Safari | P3: Pad | Q3: Android | R3: IOS
A4: Sceanrio 1 | B4: Home Page UI
A5: =MAX($A$1:A4) +1 -> 1 | C5: Test B/D User Home Page in different browser & device | D5: 1. Open revamped CyberRCC login Page in Chrome. 2. Login with B/D User login email & password 3. Repeat Step 1 - 2 in FireFox 4. Repeat Step 1 - 2 in Edge 5. Repeat Step 1 - 2 in Safari 6. Repeat Step 1 - 2 in Tablet Chrome 7. Repeat Step 1 - 2 in Android Chrome 8. Repeat Step 1 - 2 in iOS Chrome | F5: 2 - 8: Display the B/D User Home Page properly | G5: 45978 | H5: Derek | L5: Pass | M5: Pass | N5: Pass | O5: Pass | P5: Pass | Q5: Pass | R5: Pass | S5: Tested
A6: =MAX($A$1:A5) +1 -> 2 | C6: Test B/D User Home Page in different language | D6: 1. Open revamped CyberRCC login Page in English. 2. Login with B/D User login email & password 3. Select Tradtional Chinese 4. Select Simplified Chinese | F6: 2: Display Correct Label in English 3: Display Correct Label in TC 4: Display Correct Label in SC | G6: 46013 | H6: Oscar | I6: Pass | J6: Pass | K6: Pass | S6: Tested | T6: My Repair Requests no chinese language (fixed) My Repair Requests -> Total no chinese (fixed) | U6: udpated:2026/1/6
A7: =MAX($A$1:A6) +1 -> 3 | C7: Test B/D Admin Home Page in different browser & device | D7: 1. Open revamped CyberRCC login Page in Chrome. 2. Login with B/D Admin login email & password 3. Enter 2FA from email 4. Repeat Step 1 - 3 in FireFox 5. Repeat Step 1 - 3 in Edge 6. Repeat Step 1 - 3 in Safari 7. Repeat Step 1 - 3 in Tablet Chrome 8. Repeat Step 1 - 3 in Android Chrome 9. Repeat Step 1 - 3 in iOS Chrome | F7: 3 - 9: Display the B/D Admin Home Page properly | G7: 46013 | H7: Oscar | L7: Pass | M7: Pass | N7: Pass | O7: Pass | P7: Pass | Q7: Pass | R7: Pass | S7: Tested | T7: When count is 0, show NaN% (fixed)
A8: =MAX($A$1:A7) +1 -> 4 | C8: Test B/D Admin Home Page in different language | D8: 1. Open revamped CyberRCC login Page in English. 2. Login with B/D Admin login email & password 3. Enter 2FA from email 4. Select Tradtional Chinese 5. Select Simplified Chinese | F8: 3: Display Correct Label in English 4: Display Correct Label in TC 5: Display Correct Label in SC | G8: 46008 | H8: Oscar | I8: Pass | J8: Pass | K8: Pass | S8: Tested | T8: B/D Repair Requests no chinese language (fixed)
A9: =MAX($A$1:A8) +1 -> 5 | C9: Test DS Home Page in different browser & device | D9: 1. Open Extranet DA in Chrome 2. Login with DS account in DA 3. Select the post and "CyberRCC" for destination 4. Repeat Step 1 - 3 in FireFox 5. Repeat Step 1 - 3 in Edge 6. Repeat Step 1 - 3 in Safari 7. Repeat Step 1 - 3 in Tablet Chrome 8. Repeat Step 1 - 3 in Android Chrome 9. Repeat Step 1 - 3 in iOS Chrome | F9: 3 - 9: Display the DS Home Page properly | G9: 46008 | H9: Oscar | L9: Pass | M9: Pass | N9: Pass | O9: Pass | P9: Pass | Q9: Pass | R9: Pass | S9: Tested | T9: department show null if not exist (fixed) | U9: udpated:2026/1/6
A10: Sceanrio 2 | B10: Menu UI
A11: =MAX($A$1:A10) +1 -> 6 | C11: Test Menu UI in different browser & device | D11: 1. Open revamped CyberRCC login Page in Chrome. 2. Repeat Step 1 in FireFox 3. Repeat Step 1 in Edge 4. Repeat Step 1 in Safari 5. Repeat Step 1 in Tablet Chrome 6. Click Expand Meun Button 7. Repeat Step 1 in Android Chrome 8. Click Right Top Corner Menu Button 9. Repeat Step 1 in iOS Chrome 10. Click Right Top Corner Menu Button | F11: 1 - 5: Display SignIn Menu properly 6: The Menu is expanded 8 & 10: The Menu is expanded | G11: 45975 | H11: Derek | L11: Pass | M11: Pass | N11: Pass | O11: Pass | P11: Pass | Q11: Pass | R11: Pass | S11: Tested
A12: =MAX($A$1:A11) +1 -> 7 | C12: Test Signin Menu UI in different langugae | D12: 1. Open revamped CyberRCC login Page in English. 2. Select Tradition Chinese for language 3. Select Simplified Chinese for language | F12: 1: Display correct meun item in English 2: Display correct meun item in Tradition Chinese 3: Display correct meun item in Simplified Chinese | G12: 46008 | H12: Oscar | I12: Pass | J12: Pass | K12: Pass | S12: Tested
A13: =MAX($A$1:A12) +1 -> 8 | C13: Test B/D User Menu UI in different langugae | D13: 1. Open revamped CyberRCC in English 2. Login as BD User 3. Select Tradition Chinese for language 4. Select Simplified Chinese for language | F13: 2: Display correct meun item in English 3: Display correct meun item in Tradition Chinese 4: Display correct meun item in Simplified Chinese | G13: 46008 | H13: Oscar | I13: Pass | J13: Pass | K13: Pass | S13: Tested
A14: =MAX($A$1:A13) +1 -> 9 | C14: Test B/D Admin Menu UI in different langugae | D14: 1. Open revamped CyberRCC in English 2. Login as BD Admin 3. Select Tradition Chinese for language 4. Select Simplified Chinese for language | F14: 2: Display correct meun item in English 3: Display correct meun item in Tradition Chinese 4: Display correct meun item in Simplified Chinese | G14: 46008 | H14: Oscar | I14: Pass | J14: Pass | K14: Pass | S14: Tested
A15: =MAX($A$1:A14) +1 -> 10 | C15: Test Group Admin Menu | D15: 1. Open revamped CyberRCC in English 2. Login as Group Admin | F15: 2: Display correct meun item in English | G15: 46008 | H15: Oscar | I15: Pass | S15: Tested | T15: has monthly report tab (fixed) | U15: udpated:2026/1/6
A16: =MAX($A$1:A15) +1 -> 11 | C16: Test Report Viewer Menu | D16: 1. Open revamped CyberRCC in English 2. Login as Report Viewer | F16: 2: Display correct meun item in English | G16: 46008 | H16: Oscar | I16: Pass | S16: Tested | T16: No monthly report tab (fixed) | U16: udpated:2026/1/6
A17: =MAX($A$1:A16) +1 -> 12 | C17: Test DS Menu UI | D17: 1. Open Extranet DA in Chrome 2. Login with DS account in DA 3. Select the post and "CyberRCC" for destination | F17: 3: Display correct meun item in English | G17: 46008 | H17: Oscar | I17: Pass | S17: Tested
A18: =MAX($A$1:A17) +1 -> 13 | C18: Test RCC Admin Menu UI | D18: 1. Open Extranet DA in Chrome 2. Login with RCC Supervisor account in DA 3. Select "CyberRCC" | F18: 3: Display correct meun item in English | G18: 46008 | H18: Oscar | I18: Pass | S18: Tested
A19: Sceanrio 3 | B19: FontSize & Language
A20: =MAX($A$1:A19) +1 -> 14 | C20: Test Font Size in different browser & device | D20: 1. Open revamped CyberRCC in Chrome Browser 2. Select Sign Up in Menu 3. Select Small for Font Size 4. Select Large for Font Size 5. Repeat Step 1 - 4 in FireFox 6. Repeat Step 1 - 4 in Edge 7. Repeat Step 1 - 4 in Safari 8. Repeat Step 1 - 4 in Tablet Chrome 9. Repeat Step 1 - 4 in Android Chrome 10. Repeat Step 1 - 4 in iOS Chrome | F20: 3: Display Sign Up form in small font size 4: Display Sign Up form in large font size 5 - 10: Display same behavior as Chrome | H20: Derek | L20: Pass | M20: Pass | N20: Pass | O20: Pass | P20: Pass | Q20: Pass | R20: Pass | S20: Tested
A21: =MAX($A$1:A20) +1 -> 15 | C21: Test Language in different browser & device | D21: 1. Open revamped CyberRCC in English and Chrome 2. Select Tradition Chinese 3. Repeat Step 1 - 2 in FireFox 4. Repeat Step 1 - 2 in Edge 5. Repeat Step 1 - 2 in Safari 6. Repeat Step 1 - 2 in Tablet Chrome 7. Repeat Step 1 - 2 in Android Chrome 8. Repeat Step 1 - 2 in iOS Chrome | F21: 2 - 8: Switch Langugae Successfully | G21: 14/11/2025 24/12/2025 | H21: Derek | L21: Pass | M21: Pass | N21: Pass | O21: Pass | P21: Pass | Q21: PAss | R21: Pass | S21: Tested | T21: b) Cannot Switch Language in Mobile View Retested ok 24/12/2025 | U21: update: 2025/12/15
A22: Sceanrio 4 | B22: Homepage Component
A23: =MAX($A$1:A22) +1 -> 16 | C23: Test B/D User Home Page Component - Navigation Plate | D23: 1. Open revamped CyberRCC 2. Login as BD User 3. Click Navigation item on Navigation Plate | F23: 3: Redirect to corresponding page | G23: 45982 | H23: Vincent | L23: Pass | M23: Pass | N23: Pass | O23: Pass | S23: Tested
A24: =MAX($A$1:A23) +1 -> 17 | C24: Test B/D User Home Page Component - Calendar | D24: 1. Open revamped CyberRCC 2. Login as BD User 3. Select Date with Underlined in Calendar | E24: Created Repair Request in DA for B/D User | F24: 2: Calendar should be shown under Upcoming Appointment with some date with underlined 3: Repair Request Appointment Information will be shown under the Calendar | H24: Oscar | L24: Pass | M24: Pass | N24: Pass | O24: Pass | S24: Tested | T24: Have one apoointment case but not show in calendar (fixed)
A25: =MAX($A$1:A24) +1 -> 18 | C25: Test B/D User Home Page Component - Notification | D25: 1. Open revamped CyberRCC 2. Login as BD User 3. Click Navigation Icon in Notification List | E25: B/D User already has notification | F25: 2: Notification List with top 3 records will be shown. Number of unread notification will be shown on the left of section header 3: Redirect to Notification Page | H25: Oscar | L25: Pass | M25: Pass | N25: Pass | O25: Pass | S25: Tested
A26: =MAX($A$1:A25) +1 -> 19 | C26: Test B/D User Home Page Component - My Repair Request Status | D26: 1. Open revamped CyberRCC 2. Login as BD User 3. Click Navigation Icon in My Repair Request | F26: 2: A Donut Chart showing correct number of repair requests of the B/D User 3: Redirect to My Repair Request Page | H26: Oscar | L26: Pass | M26: Pass | N26: Pass | O26: Pass | S26: Tested | T26: Home page count wrong | U26: fixed
A27: =MAX($A$1:A26) +1 -> 20 | C27: Test B/D Admin Home Page Component - Navigation Plate | D27: 1. Open revamped CyberRCC 2. Login as BD Admin 3. Click Navigation item on Navigation Plate | F27: 3: Redirect to corresponding page | G27: 45982 | H27: Vincent | L27: Pass | M27: Pass | N27: Pass | O27: Pass | S27: Tested
A28: =MAX($A$1:A27) +1 -> 21 | C28: Test B/D Admin Home Page Component - Calendar | D28: 1. Open revamped CyberRCC 2. Login as BD Admin 3. Select Date with Underlined in Calendar | E28: Created Repair Request in DA for B/D Admin | F28: 2: Calendar should be shown under Upcoming Appointment with some date with underlined 3: Repair Request Appointment Information will be shown under the Calendar | H28: Oscar | L28: Pass | M28: Pass | N28: Pass | O28: Pass | S28: Tested | T28: Have one apoointment case but not show in calendar (fixed)
A29: =MAX($A$1:A28) +1 -> 22 | C29: Test B/D Admin Home Page Component - user verification status | D29: 1. Open revamped CyberRCC 2. Login as BD Admin 3. Click Navigation Icon in User Verification | F29: 2: A Donut Chart showing correct number of pending BD user verifications 3: Redirect to User Verification Page | G29: 45982 | H29: Vincent | L29: Pass | M29: Pass | N29: Pass | O29: Pass | S29: Tested
A30: =MAX($A$1:A29) +1 -> 23 | C30: Test B/D Admin Home Page Component - B/D Repair Requests Status | D30: 1. Open revamped CyberRCC 2. Login as BD Admin 3. Click Navigation Icon in BD Repair Request | F30: 2: A Donut Chart showing correct number of BD repair requests of the B/D Admins 3: Redirect to BD Repair Request Page | G30: 45982 | H30: Vincent | L30: Pass | M30: Pass | N30: Pass | O30: Pass | S30: Tested
A31: =MAX($A$1:A30) +1 -> 24 | C31: Test B/D Admin Home Page Component - Notification | D31: 1. Open revamped CyberRCC 2. Login as BD Admin 3. Click Navigation Icon in Notification List | E31: B/D Admin already has notification | F31: 2: Notification List with top 3 records will be shown. Number of unread notification will be shown on the left of section header 3: Redirect to Notification Page | H31: Oscar | L31: Pass | M31: Pass | N31: Pass | O31: Pass | S31: Tested
A32: =MAX($A$1:A31) +1 -> 25 | C32: Test DS Home Page Component - Navigation Plate | D32: 1. Open Extranet DA in Chrome 2. Login with DS account in DA 3. Select the post and "CyberRCC" for destination 4. Click Navigation item on Navigation Plate | F32: 4: Redirect to corresponding page | G32: 45982 | H32: Vincent | L32: Pass | M32: Pass | N32: Pass | O32: Pass | S32: Tested
A33: =MAX($A$1:A32) +1 -> 26 | C33: Test DS Home Page Component - Quick Search RRF | D33: 1. Open Extranet DA in Chrome 2. Login with DS account in DA 3. Select the post and "CyberRCC" for destination 4. Enter a CRN and click Search | F33: 4: Redirect to Search RRF Page with the result | H33: Kyle | L33: Pass | M33: Pass | N33: Pass | O33: Pass | S33: Tested
A34: =MAX($A$1:A33) +1 -> 27 | C34: Test DS Home Page Component - Inbox | D34: 1. Open Extranet DA in Chrome 2. Login with DS account in DA 3. Select the post and "CyberRCC" for destination 4. Click Navigation icon on Inbox 5. Select RRF I | F34: 3: Show the Inbox list of the DS 4. Redirect to Inbox Page 5: Only RRF I Inbox will be shown | G34: 45982 | H34: Vincent | L34: Pass | M34: Pass | N34: Pass | O34: Pass | S34: Tested
A35: =MAX($A$1:A34) +1 -> 28 | C35: Test idle auto logout | D35: 1. Open revamped CyberRCC 2. Login as BD User 3. Idle >10mins 4. Click "New Repair Request" in menu | F35: 4. The account will be logout and redirect to signin page | G35: 45982 | H35: Vincent | L35: Pass | M35: Pass | N35: Pass | O35: Pass | S35: Tested

Sheet New Repair Request
A1: Case No | B1: Seg. | C1: Description | D1: Test Procedure | E1: Test Data | F1: Expected Result | G1: Date | H1: Tester | I1: Result | S1: Status | T1: Remarks
I2: Language | L2: Desktop | P2: Tablet | Q2: Mobile
I3: English | J3: Trad Chi | K3: Simp Chi | L3: Chrome | M3: FireFox | N3: Edge | O3: Safari | P3: Pad | Q3: Android | R3: IOS
A4: Scenario 1: | B4: New Repair Request UI
A5: =MAX($A$1:A4) +1 -> 1 | C5: New Repair Request Pages in different Browser and Device | D5: 1. Open revamped CyberRCC in Chrome 2. Login as BD User 3. Click "New Repair Request" in the menu 4. Select address 5. Click "Add Item" 6. Select repair item in full list 7. Repeat Step 1 - 6 in FireFox 8. Repeat Step 1 - 6 in Edge 9. Repeat Step 1 - 6 in Safari 10. Repeat Step 1 - 6 in Tablet Chrome 11. Repeat Step 1 - 6 in Android Chrome 12. Repeat Step 1 - 6 in iOS Chrome | F5: 6. Display the New Repair Request page properly | G5: 2025/12/10 | H5: Jacky | L5: Pass | M5: Pass | N5: Pass | O5: Pass | P5: Pass | Q5: Pass | R5: Pass | S5: Tested
A6: =MAX($A$1:A5) +1 -> 2 | C6: New Repair Request Pages in different langugae | D6: 1. Open revamped CyberRCC in Chrome 2. Login as BD User 3. Click "New Repair Request" in the menu 4. Select address 5. Click "Add Item" 6. Select repair item in full list 7. Repeat Step 1 - 6 in FireFox 8. Repeat Step 1 - 6 in Edge 9. Repeat Step 1 - 6 in Safari 10. Repeat Step 1 - 6 in Tablet Chrome 11. Repeat Step 1 - 6 in Android Chrome 12. Repeat Step 1 - 6 in iOS Chrome | F6: 6. Display corresponding language properly | H6: Jacky | I6: Pass | J6: Pass | K6: Pass | S6: Tested | T6: "Add IMAGE/VIDEO" & "All" & error message is still in chinese (fixed by Jacky, please do re-tested with someone)
A7: =MAX($A$1:A6) +1 -> 3 | C7: Draft Repair Request List in different Browser and Device | D7: 1. Open revamped CyberRCC in Chrome 2. Login as BD User 3. Click "New Repair Request" in the menu 4. Click the tab "Draft" *(Optional) If no draft item: a. Click New Repair Request b. Select address c. Click "Add Item" d. Select repair item in full list e. Input remark f. Click "Add Item" at bottom g. Click "Save Draft" 5. Repeat 1-4 in different browser | F7: 4. Display the Draft Repair Request page properly | H7: Jacky | L7: Pass | M7: Pass | N7: Pass | O7: Pass | P7: Pass | Q7: Pass | R7: Pass | S7: Tested | T7: function fail: if click edit of draft, does not store any content information, on draft page. when go back on 'new repair request' page, the button (Same as reporter) is marked as true quarter icon is not right | U7: update: 2025/12/15 when repair item is added, I can not switch address? Is it work properly? Yes, work as design. Error message : "You can only select one address for a repair request. Please delete the existing item if you want to select another address." PS: pervious issue is fixed
A8: =MAX($A$1:A7) +1 -> 4 | C8: Draft Repair Request List in different language | D8: 1. Open revamped CyberRCC in Chrome 2. Login as BD User 3. Click New Repair Request 4. Click the tab Draft *(Optional) If no draft item: a. Click New Repair Request b. Select address c. Click "Add Item" d. Select repair item in full list e. Input remark f. Click "Add Item" at bottom g. Click "Save Draft" 5. Repeat 1-4 in Trad Chinese & Simp Chinese | F8: 4. Display corresponding language properly | H8: Jacky | I8: Pass | J8: Pass | K8: Pass | S8: Tested
A9: Scenario 2: | B9: New Repair Request Function
A10: =MAX($A$1:A9) +1 -> 5 | C10: Normal Repair Request in RCC Office Hour | D10: 1. Open revamped CyberRCC 2. Login as BD User 3. Click "New Repair Request" in the menu | G10: 45999 | H10: Vincent | L10: Pass | M10: Pass | N10: Pass | O10: Pass | S10: Tested
A11: =MAX($A$1:A10) +1 -> 6 | C11: Emergency Repair Request in RCC Office Hour | D11: 1. Open revamped CyberRCC 2. Login as BD User 3. Click "New Repair Request" in the menu | G11: 45999 | H11: Vincent | L11: Pass | M11: Pass | N11: Pass | O11: Pass | S11: Tested
A12: =MAX($A$1:A11) +1 -> 7 | C12: Normal Repair Request in BDRC Office Hour | D12: 1. At BDRC Office Hour (after 17:30) 2. Open revamped CyberRCC 3. Login as BD User 4. Click "New Repair Request" in the menu | G12: 45999 | H12: Vincent | L12: Pass | M12: Pass | N12: Pass | O12: Pass | S12: Tested
A13: =MAX($A$1:A12) +1 -> 8 | C13: Emergency Repair Request in BDRC Office Hour | D13: 1. At BDRC Office Hour (after 17:30) 2. Open revamped CyberRCC 3. Login as BD User 4. Click "New Repair Request" in the menu | G13: 46008 | H13: Vincent | L13: Pass | M13: Pass | N13: Pass | O13: Pass | S13: Tested
A14: =MAX($A$1:A13) +1 -> 9 | C14: Display Common Repair Item for Quarter Address | D14: 1. Open revamped CyberRCC 2. Login as BD User 3. Click "New Repair Request" in the menu 4. Select a quarter address 5. Click "Add Item" 6. Select "Position Description" 7. Select the repair item from "Common Repair Items" | F14: 6. The options for "Position Description" will be shown. 7. The list of "Common Repair Items" for Quarter Address will be shown. | G14: 45999 | H14: Vincent | L14: Pass | M14: Pass | N14: Pass | O14: Pass | S14: Tested
A15: =MAX($A$1:A14) +1 -> 10 | C15: Display Common Repair Item for Non Quarter Address | D15: 1. Open revamped CyberRCC 2. Login as BD User 3. Click "New Repair Request" in the menu 4. Select a non quarter address 5. Click "Add Item" 6. Select "Position Description" 7. Select the repair item from "Common Repair Items" | F15: 6. The text box for "Position Description" will be shown. 7. The list of "Common Repair Items" for Non Quarter Address will be shown. | G15: 45999 | H15: Vincent | L15: Pass | M15: Pass | N15: Pass | O15: Pass | S15: Tested
A16: =MAX($A$1:A15) +1 -> 11 | C16: Bookmark and Unbookmark Repair Item | D16: 1. Open revamped CyberRCC 2. Login as BD User 3. Click "New Repair Request" in the menu 4. Select any address 5. Click "Add Item" 6. In the Full List, click the bookmark flag next to the repair item, bookmark thirteen items 7. In the "Common Repair Item", click the bookmark flag to unbookmark all the item. | F16: 6. Fisrt twently item will be bookmarked, the thirteen will be fail with warning message. 7. All bookmarked item will be removed in "Common Repaie Item" | G16: 45999 | H16: Vincent | L16: Pass | M16: Pass | N16: Pass | O16: Pass | S16: Tested
A17: =MAX($A$1:A16) +1 -> 12 | C17: Uploade Photo and Video | D17: 1. Open revamped CyberRCC 2. Login as BD User 3. Click "New Repair Request" in the menu 4. Select any address 5. Click "Add Item" 6. Upload a image with size < 3MB 7. Upload a video with size < 25MB | F17: 6. The image can be uploaded successfully. 7. The video can be uploadeded successfully. | G17: 45999 | H17: Vincent | L17: Pass | M17: Pass | N17: Pass | O17: Pass | S17: Tested
A18: =MAX($A$1:A17) +1 -> 13 | C18: Validation on Photo and Video Upload | D18: 1. Open revamped CyberRCC 2. Login as BD User 3. Click "New Repair Request" in the menu 4. Select any address 5. Click "Add Item" 6. Upload a image with size > 3MB 7. Upload a file with extention .doc 8. Upload a video with size > 25MB | F18: 6. The image can not be uploaded with the size warning message prompt. 7. The file can not be uploaded with the incorrect file type warning message prompt. 8. The video can not be uploaded with the size warning message prompt. | G18: 45999 | H18: Vincent | L18: Pass | M18: Pass | N18: Pass | O18: Pass | S18: Tested
A19: =MAX($A$1:A18) +1 -> 14 | C19: RCC Supervisor Update Item remark for repair item in DA | D19: 1. Login DA using supervisor account 2. Click "Repair Tree" in menu 3. Click "Search" 4. Double one of the Repair Tree Item 5. Input the Remark 1 Example 6. Input Item Remark 2 Label 7. Input Remark 2 Example 8. Check the box Item Remark 2 Mandatory 9. Check the box Sync to CyberRCC 10. Click Save | F19: 10. The data saved successfully. | G19: 45999 | H19: Vincent | L19: Pass | S19: Tested
A20: =MAX($A$1:A19) +1 -> 15 | C20: Display correct item remark for repairing item | D20: 1. Open revamped CyberRCC 2. Login as BD User 3. Click "New Repair Request" in the menu 4. Select any address 5. Click "Add Item" 6. Select the repair item updated in New Repair Request Function Case 14 7. Input Remark 1 8. Click "Add Item" at bottom 9. Input Remark 2 10. Click "Add Item" at bottom | F20: 6. The Remark 1 example, Remark 2 example, Remark 2 label display properly. 8. The warning message "This is mandatory field." shown under Remark 2. 10. The item added successfully. | G20: 45999 | H20: Vincent | L20: Pass | M20: Pass | N20: Pass | O20: Pass | S20: Tested
A21: =MAX($A$1:A20) +1 -> 16 | C21: Validation for Adding a repair item | D21: 1. Open revamped CyberRCC 2. Login as BD User 3. Click "New Repair Request" in the menu 4. Select any address 5. Click "Add Item" 6. Click "Add Item" at the bottom 7. Input the position 8. Click "Add Item" at the bottom 9. Select any repair item 10. Click "Add Item" at bottom 11. Input Remark 1 12. Click "Add Item" at bottom | F21: 6. The warning message "Please input position." shown. 8. The warning message "Please select New Trade & Repair Description." shown. 10. The warning message "This is mandatory field." shown. 12. The item added successfully. | G21: 45999 | H21: Vincent | L21: Pass | M21: Pass | N21: Pass | O21: Pass | S21: Tested
A22: =MAX($A$1:A21) +1 -> 17 | C22: Contact Person Same as Reporter | D22: Continue Case 16 1. Click "Same as reporter" | F22: 1. The personal information (Surname, Given Name, Primary Contact, Secondary Contact) will be auto filled in to Contact Information. | G22: 45999 | H22: Vincent | L22: Pass | M22: Pass | N22: Pass | O22: Pass | S22: Tested
A23: =MAX($A$1:A22) +1 -> 18 | C23: Validation for submitting repair request | D23: 1. Open revamped CyberRCC 2. Login as BD User 3. Click "New Repair Request" in the menu 4. Select any address 5. Click "Next" at bottom 6. Refer Case 16 to add a repair item 7. Click "Next" at bottom 8. Click "Same as reporter" 9. Click "Next" | F23: 5. The warning message "Please add at leaset one repair request item." shown 7. The warning message "This is mandatory field." & "Please enter the correct contact number." shown 9. The Repair Request Preview page shown. | G23: 45999 | H23: Vincent | L23: Pass | M23: Pass | N23: Pass | O23: Pass | S23: Tested
A24: =MAX($A$1:A23) +1 -> 19 | C24: Save Draft for repair request with media | D24: 1. Open revamped CyberRCC 2. Login as BD User 3. Click "New Repair Request" in the menu 4. Refer Case 16 to add a repair item 5. Upload a photo and a video in the repair item 5. Click "Save Draft" at bottom 6. Click the tab "Draft" at top | F24: 5. The numbrer of draft will be added 1 at top. 6. The draft record with 1 repair item will be shown in the list. | G24: 46011 | H24: Jacky | L24: Pass | M24: Pass | N24: Pass | O24: Pass | S24: Tested | T24: Just photo can save as draft, video cannot
A25: =MAX($A$1:A24) +1 -> 20 | C25: Validation for number of drafts reaching maximum when creating new repair request | D25: 1. Open revamped CyberRCC 2. Login as BD User 3. Click "New Repair Request" in the menu 4. Click "Save Draft" at bottom 5. Click "Home" in the menu 6. Repeat step 3 - 5 five times | F25: 4. The draft saved successfully. 6. First 5 times saved successfully, the fifth will not success and prompt a warning message. | G25: 46008 | H25: Vincent | L25: Pass | M25: Pass | N25: Pass | O25: Pass | S25: Tested
A26: =MAX($A$1:A25) +1 -> 21 | C26: Edit draft repair request with media and submit draft repair request successfully | D26: 1. Open revamped CyberRCC 2. Login as BD User 3. Click "New Repair Request" in the menu 4. Click the tab "Draft" at top 5. Click "Edit" using Case 19 record 6. Refer Case 18 to submit the repair request | F26: 5. Redirect to "New Repair Request" with saved data, inlcuding the photo and video. 6. The repair request submit successfully, the origin draft deleted. | G26: 46008 | H26: Vincent | L26: Pass | M26: Pass | N26: Pass | O26: Pass | S26: Tested
A27: =MAX($A$1:A26) +1 -> 22 | C27: Edit draft repair request and save draft repair request again | D27: 1. Open revamped CyberRCC 2. Login as BD User 3. Click "New Repair Request" in the menu 4. Click the tab "Draft" at top 5. Click "Edit" 6. Update any data then click "Save Draft" at bottom 7. Click "Home" in menu 7. Click the tab "Draft" at top 8. Click "Edit" on the updated draft record | F27: 5. Redirect to "New Repair Request" with saved data. 6. The draft sasved successfully. 8. The record has been updated. | G27: 45999 | H27: Vincent | L27: Pass | M27: Pass | N27: Pass | O27: Pass | S27: Tested
A28: =MAX($A$1:A27) +1 -> 23 | C28: Delete draft repair request | D28: 1. Open revamped CyberRCC 2. Login as BD User 3. Click "New Repair Request" in the menu 4. Click the tab "Draft" at top *(Optional) If no draft in the list a. Click New Repair Request b. Select address c. Click "Add Item" d. Select repair item in full list e. Input remark f. Click "Add Item" at bottom g. Click "Save Draft" 5. Click "Delete this Draft" | F28: 5. The draft item will be deleted | G28: 45999 | H28: Vincent | L28: Pass | M28: Pass | N28: Pass | O28: Pass | S28: Tested
A29: =MAX($A$1:A28) +1 -> 24 | C29: General CHI Web Request Handle in CCE and DA Download Repair Request Plain Text | D29: 1. Open revamped CyberRCC 2. Login as BD User 3. Click "New Repair Request" in the menu 4. Select "中文" in "Comm. Language" 5. Refer Case 18 to submit new repair request. 6. Click "Next" at bottom 7. Click "Download Plain Text Version" 8. Login DA 9. Login CCE Agent 10. Take the task in queue "RRF_WEB_CHI" | E29: DA: itapps1 / itapps CCE Agent: administrator / {no pwd} | F29: 6. The repair request submit successfully. 7. A text file will be download with CRK, Address and Repair Item. 10. CCE Agent take the task with correct information (caller name, CRK), a DA web request will be pop-up with correct information (CRK, Call-in Datetime, Client informations, Contact Person informations, Description of repair {item name @ psotion @ item remark}, photo) | G29: 46000 | H29: Vincent | L29: Pass | S29: Tested
A30: =MAX($A$1:A29) +1 -> 25 | C30: General ENG Web Request Handle in CCE and DA | D30: 1. Open revamped CyberRCC 2. Login as BD User 3. Click "New Repair Request" in the menu 4. Select "English" in "Comm. Language" 5. Refer Case 18 to submit new repair request. 6. Click "Next" at bottom 7. Login DA 8. Login CCE Agent 9. Take the task in queue "RRF_WEB_ENG" | E30: DA: itapps1 / itapps CCE Agent: administrator / {no pwd} | F30: 6. The repair request submit successfully. 9. CCE Agent take the task with correct information (caller name, CRK), a DA web request will be pop-up with correct information (CRK, Call-in Datetime, Client informations, Contact Person informations, Description of repair: {item name @ psotion @ item remark}, photo) | G30: 46001 | H30: Vincent | L30: Pass | S30: Tested
A31: =MAX($A$1:A30) +1 -> 26 | C31: Emergecy CHI Web Request Handle in CCE and DA | D31: 1. Open revamped CyberRCC 2. Login as BD User 3. Click "New Repair Request" in the menu 4. Select "These requires emergency repair attention" 5. Select "中文" in "Comm. Language" 6. Refer Case 18 to submit new repair request. 7. Click "Next" at bottom 8. Login DA 9. Login CCE Agent 10. Take the task in queue "Emer_WEB_CHI" | E31: DA: itapps1 / itapps CCE Agent: administrator / {no pwd} | F31: 7. The repair request submit successfully. 10. CCE Agent take the task with correct information (caller name, CRK), a DA web request will be pop-up with correct information (CRK, Call-in Datetime, Client informations, Contact Person informations, Description of repair: {item name @ psotion @ item remark}, photo) | G31: 46001 | H31: Vincent | L31: Pass | S31: Tested
A32: =MAX($A$1:A31) +1 -> 27 | C32: Emergecy ENG Web Request Handle in CCE and DA | D32: 1. Open revamped CyberRCC 2. Login as BD User 3. Click "New Repair Request" in the menu 4. Select "These requires emergency repair attention" 5. Select "English" in "Comm. Language" 6. Refer Case 18 to submit new repair request. 7. Click "Next" at bottom 8. Login DA 9. Login CCE Agent 10. Take the task in queue "Emer_WEB_ENG" | E32: DA: itapps1 / itapps CCE Agent: administrator / {no pwd} | F32: 6. The repair request submit successfully. 9. CCE Agent take the task with correct information (caller name, CRK), a DA web request will be pop-up with correct information (CRK, Call-in Datetime, Client informations, Contact Person informations, Description of repair: {item name @ psotion @ item remark}, photo) | G32: 46001 | H32: Vincent | L32: Pass | S32: Tested
A33: =MAX($A$1:A32) +1 -> 28 | C33: Linkage CyberRCC User and DA Client Record in DA | D33: 1. Login DA using RCC 2. Click Draft RRI 3. Enter 12345678 for caller Id 4. Double click one of the client record 5. Enter CyberRCC Account Id and click save 6. Leave Draft RRI Page 7. Click Draft RRI Page again and Enter 12345678 for caller Id 8. Select the Client again | F33: 2: A new Column - CyberRCC Account Id will be shown for client table 5: Client Record is Updated 7: The updated record will show the updated CyberRCC Account Id 8: A New Field - CyberRCC Account ID will be updated for repair call | G33: 46024 | H33: Vincent | L33: Pass | S33: Tested
A34: =MAX($A$1:A33) +1 -> 29 | C34: Link Repair Call with CyberRCC Account ID in DA | D34: 1. Login DA using RCC 2. Click Search RRI 3. Search RRI for Callindate 20231201 to 20231201 4. Double Click a Form I RRF record 5. Click Link CyberRCC Account 6. Enter CyberRCC Account Id and click confirm 7. Open the RRI and click Audit Log | F34: 4: A New Field - CyberRCC Account ID will be shown for the repair call 5: Repair Call is Updated 7: Audit Log is shown the repair call is updated for CyberRCC Account Id | G34: 46001 | H34: Vincent | L34: Pass | S34: Tested

Sheet My+BD Repair Request
A1: Case No | B1: Seg. | C1: Description | D1: Test Procedure | E1: Test Data | F1: Expected Result | G1: Date | H1: Tester | I1: Result | S1: Status | T1: Remarks
I2: Language | L2: Desktop | P2: Tablet | Q2: Mobile
I3: English | J3: Trad Chi | K3: Simp Chi | L3: Chrome | M3: FireFox | N3: Edge | O3: Safari | P3: Pad | Q3: Android | R3: IOS
A4: Scenario 1: | B4: Repair Request Status UI
A5: =MAX($A$1:A4) +1 -> 1 | C5: B/D User's Issued Repair Request List in different browser and device | D5: 1. Open revamped CyberRCC in Chrome 2. Login as BD User 3. Click "My Repair Requests" in the menu 4. Repeat Step 1 - 3 in FireFox 5. Repeat Step 1 - 3 in Edge 6. Repeat Step 1 - 3 in Safari 7. Repeat Step 1 - 3 in Tablet Chrome 8. Repeat Step 1 - 3 in Android Chrome 9. Repeat Step 1 - 3 in iOS Chrome | F5: 3. Display the "Issued / End Repair Request" list properly | G5: 46013 | H5: Oscar | L5: Pass | M5: Pass | N5: Pass | O5: Pass | P5: Pass | Q5: Pass | R5: Pass | S5: Tested
A6: =MAX($A$1:A5) +1 -> 2 | C6: B/D User's Issued Repair Request List in different language | D6: 1. Open revamped CyberRCC in Chrome 2. Login as BD User 3. Click "My Repair Requests" in the menu 4. Repeat step 1-3 in Trad Chinese 5. Repeat step 1-3 in Simp Chinese | F6: 3. Display the "Issued / End Repair Request" list properly | G6: 46027 | H6: Derek | I6: Pass | J6: Pass | K6: Pass | S6: Tested | T6: follow up option need chinese language? (fixed) Remove options under others (fixed) Can't find Request item language (fixed) Follow up click 'Others', then click 'Cancel this Repair Request', and then click back 'Others', the text box disappear. | U6: update: 2026/1/5
A7: =MAX($A$1:A6) +1 -> 3 | C7: B/D User's Pending Repair Request List in different browser and device | D7: 1. Open revamped CyberRCC in Chrome 2. Login as BD User 3. Click "My Repair Requests" in the menu 4. Click "Pending" in the tab 5. Repeat Step 1 - 4 in FireFox 6. Repeat Step 1 - 4 in Edge 7. Repeat Step 1 - 4 in Safari 8. Repeat Step 1 - 4 in Tablet Chrome 9. Repeat Step 1 - 4 in Android Chrome 10. Repeat Step 1 - 4 in iOS Chrome | F7: 4. Display the "Pending" list properly | G7: 46013 | H7: Oscar | L7: Pass | M7: Pass | N7: Pass | O7: Pass | P7: Pass | Q7: Pass | R7: Pass | S7: Tested
A8: =MAX($A$1:A7) +1 -> 4 | C8: B/D User's Pending Repair Request List in different language | D8: 1. Open revamped CyberRCC in Chrome 2. Login as BD User 3. Click "My Repair Requests" in the menu 4. Click "Pending" in the tab 5. Repeat step 1-4 in Trad Chinese 6. Repeat step 1-4 in Simp Chinese | F8: 4. Display the "Pending" list properly | G8: 46013 | H8: Oscar | S8: Tested
A9: =MAX($A$1:A8) +1 -> 5 | C9: B/D Admin's Issued Repair Request List in different browser and device | D9: 1. Open revamped CyberRCC in Chrome 2. Login as BD Admin 3. Click "B/D Repair Requests" in the menu 4. Repeat Step 1 - 3 in FireFox 5. Repeat Step 1 - 3 in Edge 6. Repeat Step 1 - 3 in Safari 7. Repeat Step 1 - 3 in Tablet Chrome 8. Repeat Step 1 - 3 in Android Chrome 9. Repeat Step 1 - 3 in iOS Chrome | F9: 3. Display the "Issued / End Repair Request" list properly | G9: 46013 | H9: Oscar | L9: Pass | M9: Pass | N9: Pass | O9: Pass | P9: Pass | Q9: Pass | R9: Pass | S9: Tested
A10: =MAX($A$1:A9) +1 -> 6 | C10: B/D Admin's Issued Repair Request List in different language | D10: 1. Open revamped CyberRCC in Chrome 2. Login as BD Admin 3. Click "B/D Repair Requests" in the menu 4. Repeat step 1-3 in Trad Chinese 5. Repeat step 1-3 in Simp Chinese | F10: 3. Display the "Issued / End Repair Request" list properly | G10: 46013 | H10: Oscar | S10: Tested | T10: "Pending DS Follow Up" require chinese? (fixed)
A11: =MAX($A$1:A10) +1 -> 7 | C11: B/D Admin's Pending Repair Request List in different browser and device | D11: 1. Open revamped CyberRCC in Chrome 2. Login as BD Admin 3. Click "B/D Repair Requests" in the menu 4. Click "Pending" in the tab 5. Repeat Step 1 - 4 in FireFox 6. Repeat Step 1 - 4 in Edge 7. Repeat Step 1 - 4 in Safari 8. Repeat Step 1 - 4 in Tablet Chrome 9. Repeat Step 1 - 4 in Android Chrome 10. Repeat Step 1 - 4 in iOS Chrome | F11: 4. Display the "Pending" list properly | G11: 46013 | H11: Oscar | L11: Pass | M11: Pass | N11: Pass | O11: Pass | P11: Pass | Q11: Pass | R11: Pass | S11: Tested
A12: =MAX($A$1:A11) +1 -> 8 | C12: B/D Admin's Pending Repair Request List in different language | D12: 1. Open revamped CyberRCC in Chrome 2. Login as BD Admin 3. Click "B/D Repair Requests" in the menu 4. Click "Pending" in the tab 5. Repeat step 1-4 in Trad Chinese 6. Repeat step 1-4 in Simp Chinese | F12: 4. Display the "Pending" list properly | G12: 46013 | H12: Oscar | S12: Tested
A13: =MAX($A$1:A12) +1 -> 9 | C13: Issued Repair Request Detail in different browser and device | D13: 1. Open revamped CyberRCC in Chrome 2. Login as BD User 3. Click "My Repair Requests" in the menu 4. Click "Arranged" status case 5. Click "Referred" status case 6. Click "Acknowledge" status case 7. Click "End" status case 8. Click "Cancelled" status case 9. Repeat Step 1 - 8 in FireFox 10. Repeat Step 1 - 8 in Edge 11. Repeat Step 1 - 8 in Safari 12. Repeat Step 1 - 8 in Tablet Chrome 13. Repeat Step 1 - 8 in Android Chrome 14. Repeat Step 1 - 8 in iOS Chrome | F13: 4-8. Display the case detail properly | G13: 46014 | H13: Oscar | L13: Pass | M13: Pass | N13: Pass | O13: Pass | P13: Pass | Q13: Pass | R13: Pass | S13: Tested
A14: =MAX($A$1:A13) +1 -> 10 | C14: Issued Repair Request Detail in different language | D14: 1. Open revamped CyberRCC in Chrome 2. Login as BD User 3. Click "My Repair Requests" in the menu 4. Click "Arranged" status case 5. Click "Referred" status case 6. Click "Acknowledge" status case 7. Click "End" status case 8. Click "Cancelled" status case 9. Repeat Step 1 - 8 in Trad Chinese 10. Repeat Step 1 - 8 in Simp Chinese | F14: 4-8. Display the case detail properly | G14: 46014 | H14: Oscar | S14: Tested
A15: =MAX($A$1:A14) +1 -> 11 | C15: Pending Repair Request Detail in different browser and device | D15: 1. Open revamped CyberRCC in Chrome 2. Login as BD Admin 3. Click "B/D Repair Requests" in the menu 4. Click "Pending" in the tab 5. Click a "pending" case 6. Repeat Step 1 - 5 in Edge 7. Repeat Step 1 - 5 in Safari 8. Repeat Step 1 - 5 in Tablet Chrome 9. Repeat Step 1 - 5 in Android Chrome 10. Repeat Step 1 - 5 in iOS Chrome | F15: 5. Display the case detail properly | G15: 46034 | H15: Oscar Kyle | L15: Pass | M15: Pass | N15: Pass | O15: Pass | P15: Pass | Q15: Pass | R15: Pass | S15: Tested | T15: Some still no auth to view even in the searching list. Old data? 8049436001 Page loaded empty | U15: update: 2026/1/5
A16: =MAX($A$1:A15) +1 -> 12 | C16: Pending Repair Request Detail in different language | D16: 1. Open revamped CyberRCC in Chrome 2. Login as BD Admin 3. Click "B/D Repair Requests" in the menu 4. Click "Pending" in the tab 5. Click a "pending" case 6. Repeat Step 1 - 5 in Trad Chinese 7. Repeat Step 1 - 5 in Simp Chinese | F16: 5. Display the case detail properly | G16: 46013 | H16: Oscar | S16: Tested | T16: detail page missing RRI and download text chinese language (fixed)
A17: Scenario 2: | B17: Repair Request Status Function
A18: =MAX($A$1:A17) +1 -> 13 | C18: B/D User's Default Issued My Repair Request List | D18: 1. Open revamped CyberRCC in Chrome 2. Login as BD User 3. Click "My Repair Requests" in the menu 4. Repeat Step 1 - 3 in FireFox 5. Repeat Step 1 - 3 in Edge 6. Repeat Step 1 - 3 in Safari | F18: 3. Retrieve the Issued List | G18: 46000 | H18: Vincent | L18: Pass | M18: Pass | N18: Pass | O18: Pass | S18: Tested
A19: =MAX($A$1:A18) +1 -> 14 | C19: B/D User's Default Pending My Repair Request List | D19: 1. Open revamped CyberRCC in Chrome 2. Login as BD User 3. Click "My Repair Requests" in the menu 4. Click "Pending" in the tab 5. Repeat Step 1 - 4 in FireFox 6. Repeat Step 1 - 4 in Edge 7. Repeat Step 1 - 4 in Safari | F19: 4. Retrieve the Pending List | G19: 46000 | H19: Vincent | L19: Pass | M19: Pass | N19: Pass | O19: Pass | S19: Tested
A20: =MAX($A$1:A19) +1 -> 15 | C20: B/D Group Admin Default Issued B/D Repair Request List | D20: 1. Open revamped CyberRCC in Chrome 2. Login as BD Group Admin 3. Click "B/D Repair Requests" in the menu 4. Repeat Step 1 - 3 in FireFox 5. Repeat Step 1 - 3 in Edge 6. Repeat Step 1 - 3 in Safari | F20: 3. Retrieve the Issued List | G20: 46000 | H20: Vincent | L20: Pass | M20: Pass | N20: Pass | O20: Pass | S20: Tested
A21: =MAX($A$1:A20) +1 -> 16 | C21: B/D Group Admin Default Pending B/D Repair Request List | D21: 1. Open revamped CyberRCC in Chrome 2. Login as BD Group Admin 3. Click "B/D Repair Requests" in the menu 4. Click "Pending" in the tab 5. Repeat Step 1 - 4 in FireFox 6. Repeat Step 1 - 4 in Edge 7. Repeat Step 1 - 4 in Safari | F21: 4. Retrieve the Pending List | G21: 46000 | H21: Vincent | L21: Pass | M21: Pass | N21: Pass | O21: Pass | S21: Tested | T21: No record in pending orders
A22: =MAX($A$1:A21) +1 -> 17 | C22: B/D Admin Default Issued B/D Repair Request List | D22: 1. Open revamped CyberRCC in Chrome 2. Login as BD Admin 3. Click "B/D Repair Requests" in the menu 4. Repeat Step 1 - 3 in FireFox 5. Repeat Step 1 - 3 in Edge 6. Repeat Step 1 - 3 in Safari | F22: 3. Retrieve the Issued List | G22: 46000 | H22: Vincent | L22: Pass | M22: Pass | N22: Pass | O22: Pass | S22: Tested
A23: =MAX($A$1:A22) +1 -> 18 | C23: B/D Admin Default Pending B/D Repair Request List | D23: 1. Open revamped CyberRCC in Chrome 2. Login as BD Admin 3. Click "B/D Repair Requests" in the menu 4. Click "Pending" in the tab 5. Repeat Step 1 - 4 in FireFox 6. Repeat Step 1 - 4 in Edge 7. Repeat Step 1 - 4 in Safari | F23: 4. Retrieve the Pending List | G23: 46000 | H23: Vincent | L23: Pass | M23: Pass | N23: Pass | O23: Pass | S23: Tested
A24: =MAX($A$1:A23) +1 -> 19 | C24: Simple Filter Issued My Repair Request List | D24: 1. Open revamped CyberRCC in Chrome 2. Login as BD User 3. Click "My Repair Requests" in the menu 4. In keyword, search the RRI 8099883003 5. Repeat Step 1 - 4 in FireFox 6. Repeat Step 1 - 4 in Edge 7. Repeat Step 1 - 4 in Safari | E24: RRI: 8099883003 | F24: 4. Only the 1 case listed | G24: 46000 | H24: Vincent | L24: Pass | M24: Pass | N24: Pass | O24: Pass | S24: Tested
A25: =MAX($A$1:A24) +1 -> 20 | C25: Simple Filter Pending My Repair Request List | D25: 1. Open revamped CyberRCC in Chrome 2. Login as BD User 3. Click "My Repair Requests" in the menu 4. Click "Pending" in the tab 5. In keyword, search the CRK 114505972 6. Repeat Step 1 - 5 in FireFox 7. Repeat Step 1 - 5 in Edge 8. Repeat Step 1 - 5 in Safari | E25: CRK: 114505972 | F25: 5. Only the 1 case listed | G25: 46000 | H25: Vincent | L25: Pass | M25: Pass | N25: Pass | O25: Pass | S25: Tested
A26: =MAX($A$1:A25) +1 -> 21 | C26: Advance Filter Issued My Repair Request List | D26: 1. Open revamped CyberRCC in Chrome 2. Login as BD User 3. Click "My Repair Requests" in the menu 4. Click "More Filters" 5. Click "Date", select date 6. Click Search icon 7. Click "Reset" 8. Input any Address (can found in list) 9. Click Search icon 10. Click "Reset" 11. Select "Arranged" in Status dropdown list 12. Click Search icon 13. Select "Referred" in Status dropdown list 14. Click Search icon 15. Select "Acknowledge" in Status dropdown list 16. Click Search icon 17. Select "End" in Status dropdown list 18. Click Search icon 19. Select "Cancelled" in Status dropdown list 20. Click Search icon 21. Repeat Step 1 - 20 in FireFox 22. Repeat Step 1 - 20 in Edge 23. Repeat Step 1 - 20 in Safari | F26: 6. The list will show the cases created between the select date 9. The list will show the cases with related address 12. The list will show Arranged cases only 14. The list will show Referred cases only 16. The list will show Acknowledge cases only 18. The list will show End cases only 20. The list will show Cancelled cases only | G26: 46027 | H26: Vincent | L26: Pass | M26: Pass | N26: Pass | O26: Pass | S26: Tested | U26: update: 2025/12/15
A27: =MAX($A$1:A26) +1 -> 22 | C27: Advance Filter Pending My Repair Request List | D27: 1. Open revamped CyberRCC in Chrome 2. Login as BD User 3. Click "My Repair Requests" in the menu 4. Click "Pending" in the tab 5. Click "More Filters" 6. Click "Date", select date 7. Click Search icon 8. Click "Reset" 9. Input any Address (can found in list) 10. Click Search icon 11. Repeat Step 1 - 10 in FireFox 12. Repeat Step 1 - 10 in Edge 13. Repeat Step 1 - 10 in Safari | F27: 7. The list will show the cases created between the select date 10. The list will show the cases with related address | G27: 46027 | H27: Vincent | L27: Pass | M27: Pass | N27: Pass | O27: Pass | S27: Tested
A28: =MAX($A$1:A27) +1 -> 23 | C28: Sorting Issued My Repair Request List | D28: 1. Open revamped CyberRCC in Chrome 2. Login as BD User 3. Click "My Repair Requests" in the menu 4. Click the sorting button "Oldest", select "Newest" 5. Click the sorting button "Newest", select "Oldest" 6. Repeat Step 1 - 5 in FireFox 7. Repeat Step 1 - 5 in Edge 8. Repeat Step 1 - 5 in Safari | F28: 4. The list sort by newest create date 5. The list sort by oldest create date | G28: 46000 | H28: Vincent | L28: Pass | M28: Pass | N28: Pass | O28: Pass | S28: Tested
A29: =MAX($A$1:A28) +1 -> 24 | C29: Sorting Pending My Repair Request List | D29: 1. Open revamped CyberRCC in Chrome 2. Login as BD User 3. Click "My Repair Requests" in the menu 4. Click "Pending" in the tab 5. Click the sorting button "Oldest", select "Newest" 6. Click the sorting button "Newest", select "Oldest" 7. Repeat Step 1 - 6 in FireFox 8. Repeat Step 1 - 6 in Edge 9. Repeat Step 1 - 6 in Safari | F29: 4. The list sort by newest create date 5. The list sort by oldest create date | G29: 46000 | H29: Vincent | L29: Pass | M29: Pass | N29: Pass | O29: Pass | S29: Tested
A30: =MAX($A$1:A29) +1 -> 25 | C30: Status Filtering Issued My Repair Request List | D30: 1. Open revamped CyberRCC in Chrome 2. Login as BD User 3. Click "My Repair Requests" in the menu 4. Click the status tag "Arranged" 5. Click the status tag "Referred" 6. Click the status tag "Acknowledge" 7. Click the status tag "End" 8. Click the status tag "Cancelled" 9. Click the status tag "ALL" 10. Repeat Step 1 - 10 in FireFox 11. Repeat Step 1 - 10 in Edge 12. Repeat Step 1 - 10 in Safari | F30: 4. Listed all Arranged cases 5. Listed all Referred cases 6. Listed all Acknowledge cases 7. Listed all End cases 8. Listed all Cancelled cases 9. Listed all cases | G30: 46022 | H30: Vincent | L30: Pass | M30: Pass | N30: Pass | O30: Pass | S30: Tested | U30: update: 2025/12/15
A31: =MAX($A$1:A30) +1 -> 26 | C31: Simple Filter Issued B/D Repair Request List | D31: 1. Open revamped CyberRCC in Chrome 2. Login as BD Admin 3. Click "B/D Repair Requests" in the menu 4. In keyword, search the RRI 8099883003 5. Repeat Step 1 - 4 in FireFox 6. Repeat Step 1 - 4 in Edge 7. Repeat Step 1 - 4 in Safari | E31: ac: test7@test.gov.hk RRI: 8099883003 | F31: 4. Only the 1 case listed | G31: 46000 | H31: Vincent | L31: Pass | M31: Pass | N31: Pass | O31: Pass | S31: Tested
A32: =MAX($A$1:A31) +1 -> 27 | C32: Simple Filter Pending B/D Repair Request List | D32: 1. Open revamped CyberRCC in Chrome 2. Login as BD Admin 3. Click "B/D Repair Requests" in the menu 4. Click "Pending" in the tab 5. In keyword, search the CRK 114505972 6. Repeat Step 1 - 5 in FireFox 7. Repeat Step 1 - 5 in Edge 8. Repeat Step 1 - 5 in Safari | E32: ac: test7@test.gov.hk CRK: 114505972 | F32: 5. Only the 1 case listed | G32: 46000 | H32: Vincent | L32: Pass | M32: Pass | N32: Pass | O32: Pass | S32: Tested
A33: =MAX($A$1:A32) +1 -> 28 | C33: Advance Filter Issued B/D Repair Request List | D33: 1. Open revamped CyberRCC in Chrome 2. Login as BD Admin 3. Click "B/D Repair Requests" in the menu 4. Click "More Filters" 5. Click "Date", select date 6. Click Search icon 7. Click "Reset" 8. Input any Address (can found in list) 9. Click Search icon 10. Click "Reset" 11. Select "Arranged" in Status dropdown list 12. Click Search icon 13. Select "Referred" in Status dropdown list 14. Click Search icon 15. Select "Acknowledge" in Status dropdown list 16. Click Search icon 17. Select "End" in Status dropdown list 18. Click Search icon 19. Select "Cancelled" in Status dropdown list 20. Click Search icon 21. Repeat Step 1 - 20 in FireFox 22. Repeat Step 1 - 20 in Edge 23. Repeat Step 1 - 20 in Safari | E33: ac: test7@test.gov.hk | F33: 6. The list will show the cases created between the select date 9. The list will show the cases with related address 12. The list will show Arranged cases only 14. The list will show Referred cases only 16. The list will show Acknowledge cases only 18. The list will show End cases only 20. The list will show Cancelled cases only | G33: 46027 | H33: Vincent | L33: Pass | M33: Pass | N33: Pass | O33: Pass | S33: Tested | U33: update: 2025/12/15
A34: =MAX($A$1:A33) +1 -> 29 | C34: Advance Filter Pending B/D Repair Request List | D34: 1. Open revamped CyberRCC in Chrome 2. Login as BD Admin 3. Click "B/D Repair Requests" in the menu 4. Click "Pending" in the tab 5. Click "More Filters" 6. Click "Date", select date 7. Click Search icon 8. Click "Reset" 9. Input any Address (can found in list) 10. Click Search icon 11. Repeat Step 1 - 10 in FireFox 12. Repeat Step 1 - 10 in Edge 13. Repeat Step 1 - 10 in Safari | E34: ac: test7@test.gov.hk | F34: 7. The list will show the cases created between the select date 10. The list will show the cases with related address | G34: 46027 | H34: Vincent | L34: Pass | M34: Pass | N34: Pass | O34: Pass | S34: Tested | U34: update: 2025/12/15
A35: =MAX($A$1:A34) +1 -> 30 | C35: Sorting Issued B/D Repair Request List | D35: 1. Open revamped CyberRCC in Chrome 2. Login as BD Admin 3. Click "B/D Repair Requests" in the menu 4. Click the sorting button "Oldest", select "Newest" 5. Click the sorting button "Newest", select "Oldest" 6. Repeat Step 1 - 5 in FireFox 7. Repeat Step 1 - 5 in Edge 8. Repeat Step 1 - 5 in Safari | F35: 4. The list sort by newest create date 5. The list sort by oldest create date | G35: 46001 | H35: Vincent | L35: Pass | M35: Pass | N35: Pass | O35: Pass | S35: Tested
A36: =MAX($A$1:A35) +1 -> 31 | C36: Sorting Pending B/D Repair Request List | D36: 1. Open revamped CyberRCC in Chrome 2. Login as BD Admin 3. Click "B/D Repair Requests" in the menu 4. Click "Pending" in the tab 5. Click the sorting button "Oldest", select "Newest" 6. Click the sorting button "Newest", select "Oldest" 7. Repeat Step 1 - 6 in FireFox 8. Repeat Step 1 - 6 in Edge 9. Repeat Step 1 - 6 in Safari | F36: 4. The list sort by newest create date 5. The list sort by oldest create date | G36: 46001 | H36: Vincent | L36: Pass | M36: Pass | N36: Pass | O36: Pass | S36: Tested
A37: =MAX($A$1:A36) +1 -> 32 | C37: Status Filtering Issued B/D Repair Request List | D37: 1. Open revamped CyberRCC in Chrome 2. Login as BD Admin 3. Click "B/D Repair Requests" in the menu 4. Click the status tag "Arranged" 5. Click the status tag "Referred" 6. Click the status tag "Acknowledge" 7. Click the status tag "End" 8. Click the status tag "Cancelled" 9. Click the status tag "ALL" 10. Repeat Step 1 - 10 in FireFox 11. Repeat Step 1 - 10 in Edge 12. Repeat Step 1 - 10 in Safari | F37: 4. Listed all Arranged cases 5. Listed all Referred cases 6. Listed all Acknowledge cases 7. Listed all End cases 8. Listed all Cancelled cases 9. Listed all cases | G37: 46022 | H37: Vincent | L37: Pass | M37: Pass | N37: Pass | O37: Pass | S37: Tested | U37: update: 2025/12/15
A38: =MAX($A$1:A37) +1 -> 33 | C38: Case Copy from existing Issued to new repair request | D38: 1. Open revamped CyberRCC in Chrome 2. Login as BD User 3. Click "My Repair Requests" in the menu 4. Click the arrow "Copy Case" in the top right coner of the repair item 5. Repeat Step 1 - 4 in FireFox 6. Repeat Step 1 - 4 in Edge 7. Repeat Step 1 - 4 in Safari | F38: 4. Redirect to "New repair request", auto added the repair item with remarks. | G38: 46001 | H38: Vincent | L38: Pass | M38: Pass | N38: Pass | O38: Pass | S38: Tested | U38: `
A39: =MAX($A$1:A38) +1 -> 34 | C39: Add appointment time in device Calendar | D39: 1. Open revamped CyberRCC using IOS 2. Login as BD User 3. Click "My Repair Requests" in the menu 4. Click "Add to Calendar" in arranged cases 5. Repeat Step 1 - 4 in Android 6. Repeat Step 1 - 4 in Tablet | F39: 4. Show a pop-up to add the schedule to the calendar | H39: Oscar | P39: Pass | Q39: Fail | R39: Pass | S39: To Be Fixed | T39: Android Add to google only open the calendar without any adding event.
A40: =MAX($A$1:A39) +1 -> 35 | C40: Issued Repair Request Detail Download plain text file | D40: 1. Open revamped CyberRCC in Chrome 2. Login as BD User 3. Click "My Repair Requests" in the menu 4. Click a "Arranged" case, Click "Download Plain Text Version" in case details 5. Click a "Referred" case, Click "Download Plain Text Version" in case details 6. Click a "Acknowledge" case, Click "Download Plain Text Version" in case details 7. Click a "End" case, Click "Download Plain Text Version" in case details 8. Click a "Cancelled" case, Click "Download Plain Text Version" in case details 9. Repeat Step 1 - 8 in FireFox 10. Repeat Step 1 - 8 in Edge 11. Repeat Step 1 - 8 in Safari | F40: 4. The browser opened a tab and displayed the arranged case details, a text file will be download with CRK, Address and Repair Item. 5. The browser opened a tab and displayed the referred case details, a text file will be download with CRK, Address and Repair Item. 6. The browser opened a tab and displayed the acknowledge case details, a text file will be download with CRK, Address and Repair Item. 7. The browser opened a tab and displayed the end case details, a text file will be download with CRK, Address and Repair Item. 8. The browser opened a tab and displayed the cancelled case details, a text file will be download with CRK, Address and Repair Item. | G40: 46022 | H40: Vincent | L40: Pass | M40: Pass | N40: Pass | O40: Pass | S40: Tested
A41: =MAX($A$1:A40) +1 -> 36 | C41: Pending Repair Request Detail Download plaint text file | D41: 1. Open revamped CyberRCC in Chrome 2. Login as BD User 3. Click "My Repair Requests" in the menu 4. Click "Pending" in the tab 5. Click a "pending" case in the list, Click "Download Plain Text Version" in case details 6. Repeat Step 1 - 5 in FireFox 7. Repeat Step 1 - 5 in Edge 8. Repeat Step 1 - 5 in Safari | F41: 5. The browser opened a tab and displayed the pending case details, a text file will be download with CRK, Address and Repair Item. | G41: 46022 | H41: Vincent | L41: Pass | M41: Pass | N41: Pass | O41: Pass | S41: Tested
A42: =MAX($A$1:A41) +1 -> 37 | C42: B/D Admin Case Transfer for Issued Repair Request | D42: 1. Open revamped CyberRCC in Chrome 2. Login as BD Admin 3. Click "B/D Repair Requests" in the menu 4. Click "Change PIC" at top right of the case 5. Select other user, click "Confirm" 6. Click "Confirm" 7. Repeat Step 1 - 6 in FireFox 8. Repeat Step 1 - 6 in Edge 9. Repeat Step 1 - 6 in Safari | F42: 4, The user list will pop-up. 6. The case's PIC changed to selected user. | G42: 46002 | H42: Vincent | L42: Pass | M42: Pass | N42: Pass | O42: Pass | S42: Tested | T42: Hiding the popup message after conirmation is better
A43: =MAX($A$1:A42) +1 -> 38 | C43: B/D Admin multiple Case Transfer for Issued Repair Request | D43: 1. Open revamped CyberRCC in Chrome 2. Login as BD Admin 3. Click "B/D Repair Requests" in the menu 4. Select multiple cases by checking the top-left selection box in the case 5. Select other user, click "Confirm" 6. Click "Change PIC" on top of the sorting 7. Select the user, click "Confirm" 8. Click "Confirm" 9. Repeat Step 1 - 8 in FireFox 10. Repeat Step 1 - 8 in Edge 11. Repeat Step 1 - 8 in Safari | F43: 5, The user list will pop-up. 7. The selected case number will be displayed 8. The PIC of the selected cases has been changed to the selected user. | G43: 46022 | H43: Vincent | L43: Pass | M43: Pass | N43: Pass | O43: Pass | S43: Tested | U43: update: 2025/12/15
A44: Scenario 3: | B44: Enquiry and Cancel Function
A45: =MAX($A$1:A44) +1 -> 39 | C45: General Enquiry CHI in my repair request | D45: 1. Open revamped CyberRCC in Chrome 2. Login as BD User // If Comm language already is "中文", can skip step 3-5 3. Click "My Account" in the menu 4. Select "中文" in "Comm. Language" 5. Click "Save" and "Confirm" 6. Click "My Repair Requests" in the menu 7. Click "Cannot Find Repair Request" at top-right 8. Click "Submit" button 9. Login into CCE Agent, check the task 10. Repeat Step 1 - 9 in FireFox 11. Repeat Step 1 - 9 in Edge 12. Repeat Step 1 - 9 in Safari | E45: CCE Agent: administrator / {no pwd} | F45: 5. Update success message prompted, the Comm Language updated to "中文" 8. The enquriy submit successfully 9. The new task displayed in queue "ENQ WEB CHI" with coorect data | G45: 46024 | H45: Ivan | L45: PASS | M45: PASS | N45: PASS | O45: PASS | S45: Tested | T45: NO response after submit 12/31 Ivan: cannot find a new task in "ENQ WEB CHI" 12/31 Derek: Please add Request Type for Web_Temp_RRF 1/2 Derek: Can be retested 1/5 Ivan: Test OK | U45: update: 2025/12/15
A46: =MAX($A$1:A45) +1 -> 40 | C46: General Enquiry ENG in my repair request | D46: 1. Open revamped CyberRCC in Chrome 2. Login as BD User // If Comm language already is "English", can skip step 3-5 3. Click "My Account" in the menu 4. Select "English" in "Comm. Language" 5. Click "Save" and "Confirm" 6. Click "My Repair Requests" in the menu 7. Click "Cannot Find Repair Request" at top-right 8. Click "Submit" button 9. Login into CCE Agent, check the task 10. Repeat Step 1 - 9 in FireFox 11. Repeat Step 1 - 9 in Edge 12. Repeat Step 1 - 9 in Safari | E46: CCE Agent: administrator / {no pwd} | F46: 5. Update success message prompted, the Comm Language updated to "English" 8. The enquriy submit successfully 9. The new task displayed in queue "ENQ WEB ENG" with coorect data | G46: 46024 | H46: Ivan | L46: PASS | M46: PASS | N46: PASS | O46: PASS | S46: Tested | T46: NO response after submit 12/31 Ivan: cannot find a new task in "ENQ WEB ENG" 12/31 Derek: Please add Request Type for Web_Temp_RRF 1/2 Derek: Can be retested 1/5 Ivan: Test OK | U46: update: 2025/12/15
A47: =MAX($A$1:A46) +1 -> 41 | C47: Handle General Enquiry in CCE and DA | D47: Continu Case 39 / 40 1. Login into CCE Agent 2. Login into DA 3. In CCE Agent click "Task" 4. Click "Open Queue View" 5. Double click the task created in Case 39 / 40 6. Click "End" button in DA web request page 7. Click "Yes" 8. Click "Finish" in CCE Agent pop up task 9. Click "Search Web Request" in DA manunal 10. Click "Search" (today record) 11. Double click the web request created in Case 39 / 40 | E47: CCE Agent: administrator / {no pwd} DA: itapps2 / itapps | F47: 5. The task detail opened in CCE Agent, the web request page opened in DA, with correct data: (Client Information, Contact Person Information, Description of repair with format: CyberRCC Request - General Enquiry@{crn}@{RRI ID}@Category@Sub-category@Remarks ). 7. The web request will be ended. 10. The web request displayed with "End" status. 11. The web request detail page displayed. | G47: 46024 | H47: Ivan | L47: PASS | S47: Tested | T47: 12/31 Ivan: Can't find the task for case 39 and 40. 1/5 Ivan: Procedure 10-11, cannot search the result. But can sarch the result when the task in "Open Queue View" before we finish the task. 1/9 Ivan: Test OK | U47: update: 2026/1/7 fixed, please retest
A48: =MAX($A$1:A47) +1 -> 42 | C48: Follow Up CHI for Form I RRI in my repair request | D48: 1. Open revamped CyberRCC in Chrome 2. Login as BD User // If Comm language already is "中文", can skip step 3-5 3. Click "My Account" in the menu 4. Select "中文" in "Comm. Language" 5. Click "Save" and "Confirm" 6. Click "My Repair Requests" in the menu 7. Click "Follow up" in the case 8. Select "Appointment Enquiry" 9. Select "Miss Appointment" 10. Input the remarks 11. Click "Submit" 12. Login into CCE Agent, check the task 13. Repeat Step 1 - 12 in FireFox 14. Repeat Step 1 - 12 in Edge 15. Repeat Step 1 - 12 in Safari | E48: CCE Agent: administrator / {no pwd} | F48: 5. Update success message prompted, the Comm Language updated to "中文" 11. The enquriy submit successfully 12. The new task displayed in queue "ENQ WEB CHI" with coorect data | G48: 46024 | H48: Ivan | L48: PASS | M48: PASS | N48: PASS | O48: PASS | S48: Tested | T48: RRI ID: 8097868001 RRI ID: 8049435001 1/5 Ivan: Test OK
A49: =MAX($A$1:A48) +1 -> 43 | C49: Follow Up Eng for Form I RRI in my repair request | D49: 1. Open revamped CyberRCC in Chrome 2. Login as BD User // If Comm language already is "English", can skip step 3-5 3. Click "My Account" in the menu 4. Select "English" in "Comm. Language" 5. Click "Save" and "Confirm" 6. Click "My Repair Requests" in the menu 7. Click "Follow up" in the case 8. Select "Appointment Enquiry" 9. Select "Miss Appointment" 10. Input the remarks 11. Click "Submit" 12. Login into CCE Agent, check the task 13. Repeat Step 1 - 12 in FireFox 14. Repeat Step 1 - 12 in Edge 15. Repeat Step 1 - 12 in Safari | E49: CCE Agent: administrator / {no pwd} | F49: 5. Update success message prompted, the Comm Language updated to "English" 11. The enquriy submit successfully 12. The new task displayed in queue "ENQ WEB ENG" with coorect data | G49: 46024 | H49: Ivan | L49: PASS | M49: PASS | N49: PASS | O49: PASS | S49: Tested | T49: RRI ID: 8097868001 RRI ID: 8049435001 1/5 Ivan: Test OK
A50: =MAX($A$1:A49) +1 -> 44 | C50: Handle Form I Follow Up with draft complaint in CCE and DA | D50: Continu Case 42/43 1. Login into CCE Agent 2. Login into DA 3. In CCE Agent click "Task" 4. Click "Open Queue View" 5. Double click the task created in Case 42/43 6. Select the checkbox "Is Complaint" 7. Click "End" button in DA web request page 8. Click "Yes" 9. Click "Finish" in CCE Agent pop up task 10. Click "Search Web Request" in DA manunal 11. Click "Search" (today record) 12. Double click the web request created in Case 42/43 13. Click "Search RRI" in DA 14. Input the Case 42/43 RRI id, click search 15. Double click the result 16. Double click the related RRI, click "Audit Log" | E50: CCE Agent: administrator / {no pwd} DA: itapps2 / itapps | F50: 5. The task detail opened in CCE Agent, the web request page opened in DA, with correct data (Client Information, Contact Person Information, Description of repair with data: CyberRCC Request - Follow up@{crn}@{RRI ID}@Category@Sub-category@Remarks )). 7. The web request will be ended, a inbox message will sent to Supervisor 11. The web request displayed with "End" status. 12. The web request detail page displayed. 16. Display the audit log with details | G50: 46024 | H50: Ivan | L50: PASS | S50: Tested | T50: 1/2 Ivan: Can't seach the web request by Search Web Request and Seach RRi in DA manunal. 1/5 Ivan: Procedure 10-12, cannot search the result. But can sarch the result when the task in "Open Queue View" before we finish the task. 1/9 Ivan: Test OK | U50: update: 2026/1/7 fixed, please retest
A51: =MAX($A$1:A50) +1 -> 45 | C51: Follow Up CHI for Form III RRI in my repair request | D51: 1. Open revamped CyberRCC in Chrome 2. Login as BD User // If Comm language already is "中文", can skip step 3-5 3. Click "My Account" in the menu 4. Select "中文" in "Comm. Language" 5. Click "Save" and "Confirm" 6. Click "My Repair Requests" in the menu 7. Click "Follow up" in the "Referred D.O." case 8. Select "Workmanship Enquiry" 9. Select "Incomplete work" 10. Input the remarks 11. Click "Submit" 12. Login into CCE Agent, check the task 13. Repeat Step 1 - 12 in FireFox 14. Repeat Step 1 - 12 in Edge 15. Repeat Step 1 - 12 in Safari | E51: CCE Agent: administrator / {no pwd} | F51: 5. Update success message prompted, the Comm Language updated to "中文" 11. The enquriy submit successfully 12. The new task displayed in queue "ENQ WEB CHI" with coorect data | G51: 46024 | H51: Ivan | L51: PASS | M51: PASS | N51: PASS | O51: PASS | S51: Tested | T51: RRI ID: 8049435001 1/5 Ivan: Test OK
A52: =MAX($A$1:A51) +1 -> 46 | C52: Follow Up ENG for Form III RRI in my repair request | D52: 1. Open revamped CyberRCC in Chrome 2. Login as BD User // If Comm language already is "English", can skip step 3-5 3. Click "My Account" in the menu 4. Select "English" in "Comm. Language" 5. Click "Save" and "Confirm" 6. Click "My Repair Requests" in the menu 7. Click "Follow up" in the "Referred D.O." case 8. Select "Workmanship Enquiry" 9. Select "Incomplete work" 10. Input the remarks 11. Click "Submit" 12. Login into CCE Agent, check the task 13. Repeat Step 1 - 12 in FireFox 14. Repeat Step 1 - 12 in Edge 15. Repeat Step 1 - 12 in Safari | E52: CCE Agent: administrator / {no pwd} | F52: 5. Update success message prompted, the Comm Language updated to "English" 11. The enquriy submit successfully 12. The new task displayed in queue "ENQ WEB ENG" with coorect data | G52: 46024 | H52: Ivan | L52: PASS | M52: PASS | N52: PASS | O52: PASS | S52: Tested | T52: RRI ID: 8049435001 1/5 Ivan: Test OK
A53: =MAX($A$1:A52) +1 -> 47 | C53: Handle Form III Follow Up in CCE and DA | D53: Continu Case 45/46 1. Login into CCE Agent 2. Login into DA 3. In CCE Agent click "Task" 4. Click "Open Queue View" 5. Double click the task created in Case 45/46 6. Click "End" button in DA web request page 7. Click "Yes" 8. Click "Finish" in CCE Agent pop up task 9. Click "Search Web Request" in DA manunal 10. Click "Search" (today record) 11. Double click the web request created in Case 45/46 | E53: CCE Agent: administrator / {no pwd} DA: itapps2 / itapps | F53: 5. The task detail opened in CCE Agent, the web request page opened in DA, with correct data (Client Information, Contact Person Information, Description of repair with format: CyberRCC Request - Follow up@{crn}@{RRI ID}@Category@Sub-category@Remarks ). 7. The web request will be ended. 10. The web request displayed with "End" status. 11. The web request detail page displayed. | G53: 46024 | H53: Ivan | L53: PASS | S53: Tested | T53: 1/5 Ivan: Procedure 9-11, cannot search the result if we finish the task in procedure 5-8. But can search the result when the task in Opne Queue View. 1/9 Ivan: Test OK | U53: update: 2026/1/7 fixed, please retest
A54: =MAX($A$1:A53) +1 -> 48 | C54: Cancel Request for Form I RRI in my repair request | D54: 1. Open revamped CyberRCC in Chrome 2. Login as BD User 3. Click "My Repair Requests" in the menu 4. Click "Follow up" in the case 5. Select "Cancel this Repair Request" 6 Select "No Longer Needed" 7. Input the remarks 8. Click "Submit" 9. Login into CCE Agent, check the task 10. Repeat Step 1 - 9 in FireFox 11. Repeat Step 1 - 9 in Edge 12. Repeat Step 1 - 9 in Safari | E54: CCE Agent: administrator / {no pwd} | F54: 8. The enquriy submit successfully 9. The new task displayed in queue "ENQ WEB {lang}" with coorect data | G54: 46024 | H54: Ivan | L54: PASS | M54: PASS | N54: PASS | O54: PASS | S54: Tested | T54: RRI ID: 8049435001 1/5 Ivan: Test OK
A55: =MAX($A$1:A54) +1 -> 49 | C55: Handle Form I Cancel Request in CCE and DA | D55: Continu Case 48 1. Login into CCE Agent 2. Login into DA 3. In CCE Agent click "Task" 4. Click "Open Queue View" 5. Double click the task created in Case 48 6. Click "End" button in DA web request page 7. Click "Yes" 8. Click "Finish" in CCE Agent pop up task 9. Click "Search Web Request" in DA manunal 10. Click "Search" (today record) 11. Double click the web request created in Case 48 12. Click "Search RRI" in DA 13. Input the Case 48 RRI id, click search 14. Double click the result 15. Double click the related RRI, click "Audit Log" | E55: CCE Agent: administrator / {no pwd} DA: itapps2 / itapps | F55: 5. The task detail opened in CCE Agent, the web request page opened in DA, with correct data (Client Information, Contact Person Information, Description of repair with format: CyberRCC Request - Cancel Request@{crn}@{RRI ID}@Remarks ). The "Remark" field display "The web request was requested to be cancelled by the CyberRCC user" 7. The web request will be ended. 10. The web request displayed with "End" status. 11. The web request detail page displayed. 15. Display the audit log with details | G55: 46024 | H55: Ivan | L55: PASS | S55: Tested | T55: 1/5 Ivan: Procedure 9-11, cannot search the result if we finish the task in procedure 5-8. But can search the result when the task in Opne Queue View. 1/9 Ivan: Test OK | U55: update: 2026/1/7 fixed, please retest
A56: =MAX($A$1:A55) +1 -> 50 | C56: Cancel Request for Form III RRI in my repair request | D56: 1. Open revamped CyberRCC in Chrome 2. Login as BD User 3. Click "My Repair Requests" in the menu 4. Click "Follow up" in the "Referred D.O." case 5. Select "Cancel this Repair Request" 6 Select "No Longer Needed" 7. Input the remarks 8. Click "Submit" 9. Login into CCE Agent, check the task 10. Repeat Step 1 - 9 in FireFox 11. Repeat Step 1 - 9 in Edge 12. Repeat Step 1 - 9 in Safari | E56: CCE Agent: administrator / {no pwd} | F56: 8. The enquriy submit successfully 9. The new task displayed in queue "ENQ WEB {lang}" with coorect data | G56: 46024 | H56: Ivan | L56: PASS | M56: PASS | N56: PASS | O56: PASS | S56: Tested | T56: RRI ID: 8049435001 1/5 Ivan: Test OK
A57: =MAX($A$1:A56) +1 -> 51 | C57: Handle Form III Cancel Request in CCE and DA | D57: Continu Case 50 1. Login into CCE Agent 2. Login into DA 3. In CCE Agent click "Task" 4. Click "Open Queue View" 5. Double click the task created in Case 50 6. Click "End" button in DA web request page 7. Click "Yes" 8. Click "Finish" in CCE Agent pop up task 9. Click "Search Web Request" in DA manunal 10. Click "Search" (today record) 11. Double click the web request created in Case 50 12. Click "Search RRI" in DA 13. Input the Case 50 RRI id, click search 14. Double click the result 15. Double click the related RRI, click "Audit Log" | E57: CCE Agent: administrator / {no pwd} DA: itapps2 / itapps | F57: 5. The task detail opened in CCE Agent, the web request page opened in DA, with correct data (Client Information, Contact Person Information, Description of repair with format: CyberRCC Request - Cancel Request@{crn}@{RRI ID}@Remarks ). The "Remark" field display "The web request was requested to be cancelled by the CyberRCC user" 7. The web request will be ended. 10. The web request displayed with "End" status. 11. The web request detail page displayed. 15. Display the audit log with details | G57: 46024 | H57: Ivan | L57: PASS | S57: Tested | T57: 1/2 Ivan: Test OK
A58: =MAX($A$1:A57) +1 -> 52 | C58: Display Follow Up Request of RRI in my repair request | D58: 1. Open revamped CyberRCC in Chrome 2. Login as BD User 3. Click "My Repair Requests" in the menu 4. Click "Follow up" in the case which tested in Case 39/40 5. Repeat Step 1 - 4 in FireFox 6. Repeat Step 1 - 4 in Edge 7. Repeat Step 1 - 4 in Safari | F58: 4. The history displayed on top. | G58: 46024 | H58: Ivan | L58: PASS | M58: PASS | N58: PASS | O58: PASS | S58: Tested | T58: 1/5 Ivan: Test OK
A59: =MAX($A$1:A58) +1 -> 53 | C59: Cancel Pending Request in my repair request | D59: 1. Open revamped CyberRCC in Chrome 2. Login as BD User 3. Click "My Repair Requests" in the menu 4. Click "Pending" in the tab 5. Click "Cancel This Request" in the repair request 6. Select "Duplicate Repair Request" 7. Input remarks 8. Click "Submit" 9. Repeat Step 1 - 8 in FireFox 10. Repeat Step 1 - 8 in Edge 11. Repeat Step 1 - 8 in Safari | F59: 8. The cancel request submit successfully, the repair reuqest is no longer displayed in the Pending list | G59: 46024 | H59: Ivan | L59: PASS | M59: PASS | N59: PASS | O59: PASS | S59: Tested | T59: CRK: 114505996 CRK: 114506150 1/5 Ivan: Test OK
A60: =MAX($A$1:A59) +1 -> 54 | C60: Display Follow Up Request of RRI in BD repair request | D60: 1. Open revamped CyberRCC in Chrome 2. Login as BD Admin 3. Click "B/D Repair Requests" in the menu 4. Click "Follow up" in the case which tested in Case Case 39/40 5. Repeat Step 1 - 4 in FireFox 6. Repeat Step 1 - 4 in Edge 7. Repeat Step 1 - 4 in Safari | F60: 4. The history displayed on top, NO "Submit" button displayed. | G60: 46001 | H60: Ivan | L60: FAIL | S60: To Be Retested | T60: 1/2 Ivan: cannot find "Case 39/40" in "B/D Reqair Requests" 1/9 Ivan: history cannot find or display for Case 39/40 in B/D Reqair Requests | U60: update: 2026/1/7 BD repair request no follow up button
A61: =MAX($A$1:A60) +1 -> 55 | C61: Handle Cancel Request for Pending before submitting draft | D61: Refer "New Repair Request" Case 18 to submit a repair request 1. Open revamped CyberRCC in Chrome 2. Login as BD User 3. Click "My Repair Requests" in the menu 4. Click "Pending" in the tab 5. Click "Cancel This Repair Request" in the case | F61: 5. The repair request will be cancelled and no longer displayed in the Pending list | G61: 46024 | H61: Ivan | L61: PASS | S61: Tested | T61: 1/5 Ivan: Test OK
A62: =MAX($A$1:A61) +1 -> 56 | C62: Handle Cancel Request for Pending Form I after submitting draft | D62: Refer "New Repair Request" Case 18 to submit a repair request 1. Login into DA 2. Click "Pending Draft RRI" 3. Double click the repair request just created 4. Click "Accept" 5. Form the case to Form I 6. Open revamped CyberRCC in Chrome 7. Login as BD User 8. Click "My Repair Requests" in the menu 9. Click "Pending" in the tab 10. Click "Cancel This Repair Request" in the case | F62: 10. The repair request will be cancelled and no longer displayed in the Pending list | G62: 46024 | H62: Ivan | L62: PASS | S62: Tested | T62: Call Reference Key: 114506170 114506168 1/5 Ivan: don't know how to do that, where can find "Accept" 114506238 > 114506238 1/9 Ivan: Test OK | U62: ps: not click accept, fill form, and submit draft
A63: =MAX($A$1:A62) +1 -> 57 | C63: 1 | D63: Refer "New Repair Request" Case 18 to submit a repair request 1. Login into DA 2. Click "Pending Draft RRI" 3. Double click the repair request just created 4. Click "Accept" 5. Form the case to Form III 6. Open revamped CyberRCC in Chrome 7. Login as BD User 8. Click "My Repair Requests" in the menu 9. Click "Pending" in the tab 10. Click "Cancel This Repair Request" in the case | F63: 10. The repair request will be cancelled and no longer displayed in the Pending list | G63: 46024 | H63: Ivan | L63: PASS | S63: Tested | T63: Call Reference Key: 112653651 1/5 Ivan: don't know how to do that, where can find "Accept" 1/9 Ivan: Test OK | U63: ps: not click accept, fill form, and submit draft
A64: Scenario 4: | B64: E-acknowledgement Function
A65: =MAX($A$1:A64) +1 -> 58 | C65: Display MTC Input Site Completion Date | D65: 1. Login DA as MTC 2. Enter Site Completion Date for RRF that the CRK has linked to CyberRCC Account 3. Login Revampled CyberRCC with the Step 2 CyberRCC account 4. Select My Repair Request 5. Seach for the RRI of Step 2 RRF 6. Click Confirm Completed | F65: 5: The RRI under "Confirm Completed" Status and show "Confirm Completed" Button 6: E-Acknowlegememt with MTC Site Completion Date is shown in the pop up | H65: Oscar | L65: Pass | S65: To Be Retested | T65: Not "Acknowledge", is "Confirm Completed" 20260102: Edited Test Case Does not Show MTC Completion Date | U65: udpate: 2026/1/5
A66: =MAX($A$1:A65) +1 -> 59 | C66: Input Site Completion Date Earlier Than MTC One | D66: 1. Login DA as MTC 2. Enter Site Completion Date for RRF that the CRK has linked to CyberRCC Account 3. Login Revampled CyberRCC with the Step 2 CyberRCC account 4. Select My Repair Request 5. Seach for the RRI of Step 2 RRF 6. Click Confirm Completed 7. Click on Site Completion Date 8. Select Change Before 9. Input a date that earlier than MTC Site Completion Date 10. Click Confirm | F66: 7: A Pop Up Ask User want to change the site completion date before or after 8: Allow User to update site completion date 10: Submit Client Site Completion Date and RRI is marked End in Revamped CyberRCC | H66: Oscar | L66: Fail | S66: To Be Retested | T66: On detail page, Click submit, internal server error. | U66: udpate: 2026/1/9
A67: =MAX($A$1:A66) +1 -> 60 | C67: Input Site Completion Date Later Than MTC One | D67: 1. Login DA as MTC 2. Enter Site Completion Date for RRF that the CRK has linked to CyberRCC Account 3. Login Revampled CyberRCC with the Step 2 CyberRCC account 4. Select My Repair Request 5. Seach for the RRI of Step 2 RRF 6. Click Acknowledge 7. Click on Site Completion Date 8. Select Change After 9. Input a date that later than MTC Site Completion Date 10. Input Details and Upload Image or Video 11. Click Submit | F67: 7: A Pop Up Ask User want to change the site completion date before or after 8: Allow User to update site completion date and ask user to input detail and upload photo for exception report 11: Submit Client Site Completion Date, Exception Report to DA and RRI is marked End in Revamped CyberRCC | G67: 46357 | H67: Oscar Kyle | L67: Pass | M67: Pass | N67: Pass | O67: Pass | S67: Tested | T67: Click upload media, trigger select file for three times. (fixed) Not clean deleted media for unsupported video return false no error popup (fixed) Should only can upload 1 video and in mp4 format. | U67: udpate: 2026/1/9
A68: =MAX($A$1:A67) +1 -> 61 | C68: Validation Checking on Exception Report | D68: 1. Login DA as MTC 2. Enter Site Completion Date for RRF that the CRK has linked to CyberRCC Account 3. Login Revampled CyberRCC with the Step 2 CyberRCC account 4. Select My Repair Request 5. Seach for the RRI of Step 2 RRF 6. Click Acknowledge 7. Click on Site Completion Date 8. Select Change After 9. Input a date that later than MTC Site Completion Date 10. Click Submit | F68: 10: Error Message that Detail and Photo is compulsory for excpetion report if report later site completion date | G68: 46014 | H68: Oscar | L68: Pass | S68: Tested
A69: =MAX($A$1:A68) +1 -> 62 | C69: Display Web Site Completion Date in DA | D69: 1. Report Site Completion Date from Revamped CyberRCC (Refer to My+BD Repair Request Case No. 59/60) 2. Login DA with RCC/DS/MTC 3. Click Search RRF 4. Search Step 1 RRI 5. Open the RRF 6. Click Follow Up 7. Click Detail and Open the RRI | F69: 6: Display the latest Client Site Completion Date of all RRI 7: Display the Client Site Completion Date of RRI | H69: Oscar | L69: Pass | S69: Tested | T69: No client site completed date field in RRI detail (fixed) 20251230: RRI Does not have Site completion date from Client
A70: =MAX($A$1:A69) +1 -> 63 | C70: Display Web Exception Report in DA | D70: 1. Report Site Completion Date with Exception Report from Revamped CyberRCC (Refer to My+BD Repair Request Case No. 60) 2. Login DA with DS/RCC Supervisor 3. Select Outstanding Exception Report 4. Click link | F70: 3: Display the exception report record in Step 1 4: Open the detail of exception report | H70: Oscar | L70: Fail | S70: To Be Retested | T70: Upload Media but show nothing in the exception report | U70: udpate: 2026/1/9
A71: =MAX($A$1:A70) +1 -> 64 | C71: Display Static Message in Contractor Copy | D71: 1. Report Site Completion Date from Revamped CyberRCC (Refer to My+BD Repair Request Case No. 59/60) 2. Login DA with MTC/RCC Supervisor 3. Click Search RRF 4. Search Step 1 RRI 5. Open the RRF and click Export Contractor Copy 6. click Export Client Copy | F71: 5 & 6: Standard Messge is on the export pdf showing the RRF is already reported completion through revamped CyberRCC | H71: Oscar | L71: Pass | S71: Tested | T71: Java error, can export in localhost, but can't find the message show reported through CyberRcc.(fixed) 20251230: RRI Does not have Site completion date from Client

Sheet User Verification+Invite
A1: Case No | B1: Seg. | C1: Description | D1: Test Procedure | E1: Test Data | F1: Expected Result | G1: Date | H1: Tester | I1: Result | S1: Status | T1: Remarks
I2: Language | L2: Desktop | P2: Tablet | Q2: Mobile
I3: English | J3: Trad Chi | K3: Simp Chi | L3: Chrome | M3: FireFox | N3: Edge | O3: Safari | P3: Pad | Q3: Android | R3: IOS
A4: Scenario 1: | B4: User Verification UI
A5: =MAX($A$1:A4) +1 -> 1 | C5: Pending User Verification Page in different browser and device | D5: 1. Open Revamped CyberRCC in Chrome 2. Login as BD Admin 3. Select User Verification in Menu 4. Repeat Step 1 - 3 in FireFox 5. Repeat Step 1 - 3 in Edge 6. Repeat Step 1 - 3 in Safari 7. Repeat Step 1 - 3 in Tablet Chrome 8. Repeat Step 1 - 3 in Android Chrome 9. Repeat Step 1 - 3 in iOS Chrome | F5: 3: Display Pending User Verification Page Properly 4 - 9: Display Pending User Verification Page as Chrome | G5: 8/12/2025 | H5: Jacky | L5: Pass | M5: Pass | N5: Pass | O5: Pass | P5: Pass | Q5: Pass | R5: Pass | S5: Tested | T5: "Quarter" & "Verified" would be stay in align in mobile (fixed) required field with red color (fixed)
A6: =MAX($A$1:A5) +1 -> 2 | C6: Verified User Verification Page in different browser and device | D6: 1. Open Revamped CyberRCC in Chrome 2. Login as BD Admin 3. Select User Verification in Menu 4. Select Verified Tab 5. Repeat Step 1 - 4 in FireFox 6. Repeat Step 1 - 4 in Edge 7. Repeat Step 1 - 4 in Safari 8. Repeat Step 1 - 4 in Tablet Chrome 9. Repeat Step 1 - 4 in Android Chrome 10. Repeat Step 1 - 4 in iOS Chrome | F6: 4: Display Verified User Verification Page Properly 5 - 10: Display Verified User Verification Page as Chrome | G6: 8/12/2025 | H6: Jacky | L6: Pass | M6: Pass | N6: Pass | O6: Pass | P6: Pass | Q6: Pass | R6: Pass | S6: Tested
A7: =MAX($A$1:A6) +1 -> 3 | C7: Pending User Verification Page in different language | D7: 1. Open Revamped CyberRCC in English 2. Login as BD Admin 3. Select User Verification in Menu 4. Select Trandition Chinese 5. Select Simplified Chinese | F7: 3: Display Correct Label in English 4: Display Correct Label in TC 5: Display Correct Label in SC | G7: 8/12/2025 | H7: Jacky | I7: Pass | J7: Pass | K7: Pass | S7: Tested
A8: =MAX($A$1:A7) +1 -> 4 | C8: Verified User Verification Page in different language | D8: 1. Open Revamped CyberRCC in English 2. Login as BD Admin 3. Select User Verification in Menu 4. Select Verified Tab 5. Select Trandition Chinese 6. Select Simplified Chinese | F8: 4: Display Correct Label in English 5: Display Correct Label in TC 6: Display Correct Label in SC | G8: 8/12/2025 | H8: Jacky | I8: Pass | J8: Pass | K8: Pass | S8: Tested | T8: effective date, status tab, button, and so on is not able to change with other language (fixed)
A9: =MAX($A$1:A8) +1 -> 5 | C9: Pending User Detail in different browser and device | D9: 1. Open Revamped CyberRCC in Chrome 2. Login as BD Admin 3. Select User Verification in Menu 4. Double Click a User Record 5. Repeat Step 1 - 4 in FireFox 6. Repeat Step 1 - 4 in Edge 7. Repeat Step 1 - 4 in Safari 8. Repeat Step 1 - 4 in Tablet Chrome 9. Repeat Step 1 - 4 in Android Chrome 10. Repeat Step 1 - 4 in iOS Chrome | F9: 4: Display Pending User Detail Pop Up Properly 5 - 10: Display Pending User Detail Pop Up Properlye as Chrome | G9: 8/12/2025 | H9: Jacky | L9: Pass | M9: Pass | N9: Pass | O9: Pass | P9: Pass | Q9: Pass | R9: Pass | S9: Tested
A10: =MAX($A$1:A9) +1 -> 6 | C10: Verified User Detail in different browser and device | D10: 1. Open Revamped CyberRCC in Chrome 2. Login as BD Admin 3. Select User Verification in Menu 4. Select Verified Tab 5. Double Click a User Record 6. Repeat Step 1 - 5 in FireFox 7. Repeat Step 1 - 5 in Edge 8. Repeat Step 1 - 5 in Safari 9. Repeat Step 1 - 5 in Tablet Chrome 10. Repeat Step 1 - 5 in Android Chrome 11. Repeat Step 1 - 5 in iOS Chrome | F10: 5: Display Verified User Detail Pop Up Properly 6 - 11: Display Verified User Detail Pop Up Properlye as Chrome | G10: 8/12/2025 | H10: Jacky | L10: Pass | M10: Pass | N10: Pass | O10: Pass | P10: Pass | Q10: Pass | R10: Pass | S10: Tested | T10: "Add New Address" tag, when error message will not disappeared, after the close button was clicked before. (fixed) Other desceiption set the length if >255 (fixed) date picker would not be closed, when second click on the input box (fixed)
A11: =MAX($A$1:A10) +1 -> 7 | C11: Pending User Detail in different language | D11: 1. Open Revamped CyberRCC in English 2. Login as BD Admin 3. Select User Verification in Menu 4. Double Click a User Record 5. Back to Pending List and Select Tradtional Chinese for language 6. Double Click a User Record 7. Back to Pending List and Select Simplified Chinese for language 8. Double Click a User Record | F11: 4: Show Correct English Label 6: Show Correct TC Label 8: Show Correct SC Label | G11: 8/12/2025 | H11: Jacky | I11: Pass | J11: Pass | K11: Pass | S11: Tested
A12: =MAX($A$1:A11) +1 -> 8 | C12: Verified User Detail in different language | D12: 1. Open Revamped CyberRCC in English 2. Login as BD Admin 3. Select User Verification in Menu 4. Select Verified Tab 5. Double Click a User Record 6. Back to Verified List and Select Tradtional Chinese for language 7. Double Click a User Record 8. Back to Verified List and Select Simplified Chinese for language 9. Double Click a User Record | F12: 5: Show Correct English Label 7: Show Correct TC Label 9: Show Correct SC Label | G12: 8/12/2025 | H12: Jacky | I12: Pass | J12: Pass | K12: Pass | S12: Tested
A13: Scenario 2: | B13: User Invitation UI
A14: =MAX($A$1:A13) +1 -> 9 | C14: Account Invitation Page in different browser and device | D14: 1. Open Revamped CyberRCC in Chrome 2. Login as BD Admin 3. Select Acccount Invitation in Menu 4. Repeat Step 1 - 3 in FireFox 5. Repeat Step 1 - 3 in Edge 6. Repeat Step 1 - 3 in Safari 7. Repeat Step 1 - 3 in Tablet Chrome 8. Repeat Step 1 - 3 in Android Chrome 9. Repeat Step 1 - 3 in iOS Chrome | F14: 3: Display Account Invitation Page Properly 4 - 9: Display Account Invitation Page as Chrome | G14: 8/12/2025 | H14: Jacky | L14: Pass | M14: Pass | N14: Pass | O14: Pass | P14: Pass | Q14: Pass | R14: Pass | S14: Tested
A15: =MAX($A$1:A14) +1 -> 10 | C15: Account Creation Page in different browser and device | D15: 1. Open Revamped CyberRCC in Chrome 2. Login as BD Admin 3. Select Account Invitation in Menu 4. Select Account Creation Tab 5. Repeat Step 1 - 4 in FireFox 6. Repeat Step 1 - 4 in Edge 7. Repeat Step 1 - 4 in Safari 8. Repeat Step 1 - 4 in Tablet Chrome 9. Repeat Step 1 - 4 in Android Chrome 10. Repeat Step 1 - 4 in iOS Chrome | F15: 4: Display Account Creation Page Properly 5 - 10: Display Account Creation as Chrome | G15: 8/12/2025 | H15: Jacky | L15: Pass | M15: Pass | N15: Pass | O15: Pass | P15: Pass | Q15: Pass | R15: Pass | S15: Tested | T15: "Add New Address" tag, when error message will not disappeared, after the close button was clicked before. (fixed) Other desceiption set the length if >255 (fixed) date picker would not be closed, when second click on the input box (fixed) can scroll on table version on new address tag (fixed) | U15: fix by Jacky, please do re-test by someone update: 2026/1/5
A16: =MAX($A$1:A15) +1 -> 11 | C16: Account Invitation Page in different language | D16: 1. Open Revamped CyberRCC in English 2. Login as BD Admin 3. Select Acccount Invitation in Menu 4. Select Trandition Chinese 5. Select Simplified Chinese | F16: 3: Display Correct Label in English 4: Display Correct Label in TC 5: Display Correct Label in SC | G16: 8/12/2025 | H16: Jacky | I16: Pass | J16: Pass | K16: Pass | S16: Tested
A17: =MAX($A$1:A16) +1 -> 12 | C17: Account Creation Page in different language | D17: 1. Open Revamped CyberRCC in English 2. Login as BD Admin 3. Select Acccount Invitation in Menu 4. Select Account Creation Tab 5. Select Trandition Chinese 6. Select Simplified Chinese | F17: 4: Display Correct Label in English 5: Display Correct Label in TC 6: Display Correct Label in SC | G17: 8/12/2025 | H17: Jacky | I17: Pass | J17: Pass | K17: Pass | S17: Tested
A18: Scenario 3: | B18: User Verification Function
A19: =MAX($A$1:A18) +1 -> 13 | C19: B/D Admin default display for pending user list | D19: 1. Open Revamped CyberRCC in Chrome 2. Login as BD Admin 3. Select User Verification in Menu | F19: 3: Pending and Partial Verified BD User will be shown | G19: 45987 | H19: Vincent | L19: Pass | M19: Pass | N19: Pass | O19: Pass | S19: Tested
A20: =MAX($A$1:A19) +1 -> 14 | C20: B/D Admin default display for verified user list | D20: 1. Open Revamped CyberRCC in Chrome 2. Login as BD Admin 3. Select User Verification in Menu 4. Select Verified User Tab | F20: 4: Verified BD User will be shown | G20: 45987 | H20: Vincent | L20: Pass | M20: Pass | N20: Pass | O20: Pass | S20: Tested
A21: =MAX($A$1:A20) +1 -> 15 | C21: B/D Group Admin default display for pending user list | D21: 1. Open Revamped CyberRCC in Chrome 2. Login as BD Group Admin 3. Select User Verification in Menu | F21: 3: Pending and Partial Verified BD User or BD User does not have Group but in same department Under the Group will be shown | G21: 45987 | H21: Vincent | L21: Pass | M21: Pass | N21: Pass | O21: Pass | S21: Tested
A22: =MAX($A$1:A21) +1 -> 16 | C22: B/D Group Admin default display for verified user list | D22: 1. Open Revamped CyberRCC in Chrome 2. Login as BD Group Admin 3. Select User Verification in Menu 4. Select Verified User Tab | F22: 4: Verified BD User Under the Group or BD User does not have Group but in same department will be shown | G22: 45987 | H22: Vincent | L22: Pass | M22: Pass | N22: Pass | O22: Pass | S22: Tested
A23: =MAX($A$1:A22) +1 -> 17 | C23: RCC Admin default display for pending user list | D23: 1. Open Revamped CyberRCC in Chrome 2. Login as RCC Admin 3. Select User Verification in Menu | F23: 3: All Pending and Partial Verified User will be shown | G23: 45987 | H23: Vincent | L23: Pass | M23: Pass | N23: Pass | O23: Pass | S23: Tested
A24: =MAX($A$1:A23) +1 -> 18 | C24: RCC Admin default display for verified user list | D24: 1. Open Revamped CyberRCC in Chrome 2. Login as RCC Admin 3. Select User Verification in Menu 4. Select Verified User Tab | F24: 4: All Verified User Under the Group will be shown | G24: 45987 | H24: Vincent | L24: Pass | M24: Pass | N24: Pass | O24: Pass | S24: Tested
A25: =MAX($A$1:A24) +1 -> 19 | C25: Simple Filter for pending user list | D25: 1. Open Revamped CyberRCC in Chrome 2. Login as BD Admin 3. Select User Verification in Menu 4. Enter Test in Search Criteria and click search icon | F25: 4: Only Pending Or Partial Verified User with Test in Name will be shown | G25: 45987 | H25: Vincent | L25: Pass | M25: Pass | N25: Pass | O25: Pass | S25: Tested
A26: =MAX($A$1:A25) +1 -> 20 | C26: Simple Filter for verified user list | D26: 1. Open Revamped CyberRCC in Chrome 2. Login as BD Admin 3. Select User Verification in Menu 4. Select Verified User Tab 5. Enter Test in Search Criteria and click search icon | F26: 5: Only Verified User with Test in Name will be shown | G26: 45987 | H26: Vincent | L26: Pass | M26: Pass | N26: Pass | O26: Pass | S26: Tested
A27: =MAX($A$1:A26) +1 -> 21 | C27: Advance Filter for pending user list | D27: 1. Open Revamped CyberRCC in Chrome 2. Login as BD Admin 3. Select User Verification in Menu 4. Enter Morse in Address and click Search 5. Click Reset, then Enter Test in Email and click Search 6. Click Reset, then Enter 99999999 in Contact No and click Search 7. Click Reset, then Select a Group in Group and click Search 8. Click Reset, then Select Pending in Status and click Search | F27: 4: User with Address contains Morse will be shown 5: User with Email contains Test will be shown 6: User with Contact 99999999 will be shown 7: User in the Group will be shown 8: Pending User will be shown | G27: 45987 | H27: Vincent | L27: Pass | M27: Pass | N27: Pass | O27: Pass | S27: Tested
A28: =MAX($A$1:A27) +1 -> 22 | C28: Advance Filter for verified user list | D28: 1. Open Revamped CyberRCC in Chrome 2. Login as BD Admin 3. Select User Verification in Menu 4. Select Verified User Tab 5. Enter Morse in Address and click Search 6. Click Reset, then Enter Test in Email and click Search 7. Click Reset, then Enter 99999999 in Contact No and click Search 8. Click Reset, then Select a Group in Group and click Search 9. Click Reset, then Select Inactive in Status and click Search | F28: 5: User with Address contains Morse will be shown 6: User with Email contains Test will be shown 7: User with Contact 99999999 will be shown 8: User in the Group will be shown 9: Inactive User will be shown | G28: 45987 | H28: Vincent | L28: Pass | M28: Pass | N28: Pass | O28: Pass | S28: Tested
A29: =MAX($A$1:A28) +1 -> 23 | C29: Verify User and address | D29: 1. Open Revamped CyberRCC in Chrome 2. Login as BD Admin 3. Select User Verification in Menu 4. Multiselect user account 5. Click Verify button | F29: 5: Those user and address is verified | G29: 45987 | H29: Vincent | L29: Pass | M29: Pass | N29: Pass | O29: Pass | S29: Tested
A30: =MAX($A$1:A29) +1 -> 24 | C30: Verify Non Group User by BD Group Admin | D30: 1. Open Revamped CyberRCC in Chrome 2. Login as BD Group Admin 3. Select User Verification in Menu 4. Select User Account without Group 5. Click Verify Button | F30: 5: The user cannot be verified since group admin does not have the right to verify | G30: 45987 | H30: Vincent | L30: Pass | M30: Pass | N30: Pass | O30: Pass | S30: Tested
... A47: =MAX($A$1:A46) +1 -> 41 | C47: Export Verified User List | D47: 1. Open Revamped CyberRCC in Chrome 2. Login as BD Admin 3. Select User Verification in Menu 4. Select Verified User Tab 5. Click Export Full List | F47: 5: Verified User List will be exported as excel. The List should be same as displayed in revamped CyberRCC | G47: 45987 | H47: Vincent | L47: Pass | M47: Pass | N47: Pass | O47: Pass | S47: Tested
A48: Scenario 4: | B48: User Invitation Function
A49: =MAX($A$1:A48) +1 -> 42 | C49: B/D Admin Send Invitation Email | D49: 1. Open Revamped CyberRCC in Chrome 2. Login as BD Admin 3. Select Account Invitation in Menu 4. Input Email Address and click Send Invitation | F49: 4: Email is sent with Revamped CyberRCC sign up link | G49: 45992 | H49: Vincent | L49: Pass | M49: Pass | N49: Pass | O49: Pass | S49: Tested
A50: =MAX($A$1:A49) +1 -> 43 | C50: RCC Admin Send Invitation Email | D50: 1. Open Revamped CyberRCC in Chrome 2. Login as RCC Admin 3. Select Account Invitation in Menu 4. Input Email Address and click Send Invitation | F50: 4: Email is sent with Revamped CyberRCC sign up link | G50: 45992 | H50: Vincent | L50: Pass | M50: Pass | N50: Pass | O50: Pass | S50: Tested
A51: =MAX($A$1:A50) +1 -> 44 | C51: B/D Group Admin Send Invitation Email | D51: 1. Open Revamped CyberRCC in Chrome 2. Login as BD Group Admin 3. Select Account Invitation in Menu 4. Input Email Address and click Send Invitation | F51: 4: Email is sent with Revamped CyberRCC sign up link | G51: 45992 | H51: Vincent | L51: Pass | M51: Pass | N51: Pass | O51: Pass | S51: Tested
A52: =MAX($A$1:A51) +1 -> 45 | C52: Validation on Sending Invitation Email | D52: 1. Open Revamped CyberRCC in Chrome 2. Login as BD Admin 3. Select Account Invitation in Menu 4. Input a wrong format Email Address, i.e. without @ and click Send Invitation | F52: 4:Error Message - Wrong Email Format will be shown | G52: 45992 | H52: Vincent | L52: Pass | M52: Pass | N52: Pass | O52: Pass | S52: Tested
A53: =MAX($A$1:A52) +1 -> 46 | C53: Account Registration by Invitation Email | D53: 1. Open Revamped CyberRCC in Chrome 2. Login as BD Admin 3. Select Account Invitation in Menu 4. Input Email Address and click Send Invitation 5. Open the email and click on the link 6. Fill in the Sign Up Form with non gov email and submit (Refer to SignUp+MyAccount Case 12) | F53: 5: Sign Up Page will be poped 6: Account Create Successfully | G53: 45994 | H53: Vincent | L53: Pass | M53: Pass | N53: Pass | O53: Pass | S53: Tested
A54: =MAX($A$1:A53) +1 -> 47 | C54: B/D Admin Batch Upload Account Creation | D54: 1. Open Revamped CyberRCC in Chrome 2. Login as B/D Admin 3. Select Account Invitation in Menu 4. Select Account Creation Tab 5. Select Group 6. Click Upload File and select Upload excel file with correct input record 7. Select User Verification and Select Verified User Tab | F54: 4: Burea/Department is disabled and locked with admin's B/D 5: Show all Groups under B/D 6: Create multiple account successfully 7: Can find the account record created in step 6 | G54: 45994 | H54: Vincent | L54: Pass | M54: Pass | N54: Pass | O54: Pass | S54: Tested
A55: =MAX($A$1:A54) +1 -> 48 | C55: RCC Admin Batch Upload Account Creation | D55: 1. Open Revamped CyberRCC in Chrome 2. Login as RCC Admin 3. Select Account Invitation in Menu 4. Select Account Creation Tab 5. Select a Department 6. Select Group 7. Click Upload File and select Upload excel file with correct input record 8. Select User Verification and Select Verified User Tab | F55: 4: Burea/Department is not disabled 6: Show all Groups under B/D 7: Create multiple account successfully 8: Can find the account record created in step 6 | G55: 45994 | H55: Vincent | L55: Pass | M55: Pass | N55: Pass | O55: Pass | S55: Tested
A56: =MAX($A$1:A55) +1 -> 49 | C56: B/D Group Admin Batch Upload Account Creation | D56: 1. Open Revamped CyberRCC in Chrome 2. Login as B/D Group Admin 3. Select Account Invitation in Menu 4. Select Account Creation Tab 5. Select Group 6. Click Upload File and select Upload excel file with correct input record 7. Select User Verification and Select Verified User Tab | F56: 4: Burea/Department is disabled and locked with admin's B/D 5: Show the Groups under the B/D Group Admin 6: Create multiple account successfully 7: Can find the account record created in step 6 | G56: 45994 | H56: Vincent | L56: Pass | M56: Pass | N56: Pass | O56: Pass | S56: Tested
A57: =MAX($A$1:A56) +1 -> 50 | C57: Validation on Batch Upload Account Creation | D57: 1. Open Revamped CyberRCC in Chrome 2. Login as B/D Admin 3. Select Account Invitation in Menu 4. Select Account Creation Tab 5. Select Group 6. Prepare a Excel with following Record: a) Missing Login Email b) Missing title c) Missing Last Name Eng d) Missing First Name Eng e) Missing Post f) Missing Primary Contact Number g) Missing Prefered Language h) Invalid Email Format i) Invalid Phone Format for Primary Contact j) Invalid Phone Format for Secondary Contact k) duplicate email in account l) duplicate email in excel | F57: 6: Row of the those records will shown with error message, cannot insert those record with error. | G57: 46022 | H57: Vincent | L57: Pass | M57: Pass | N57: Pass | O57: Pass | S57: Tested
A58: =MAX($A$1:A57) +1 -> 51 | C58: Validation on Record in Batch Upload Excel | D58: 1. Open Revamped CyberRCC in Chrome 2. Login as B/D Admin 3. Select Account Invitation in Menu 4. Select Account Creation Tab 5. Select Group 6. Click Upload File and Select a non excel file | F58: 6: Error Message for wrong file format will be shown | G58: 45994 | H58: Vincent | L58: Pass | M58: Pass | N58: Pass | O58: Pass | S58: Tested
A59: =MAX($A$1:A58) +1 -> 52 | C59: Download Batch Upload Excel Template | D59: 1. Open Revamped CyberRCC in Chrome 2. Login as B/D Admin 3. Select Account Invitation in Menu 4. Select Account Creation Tab 5. Click Download Template | F59: 5: Batch Upload Account Excel Template is exported | G59: 45992 | H59: Vincent | L59: Pass | M59: Pass | N59: Pass | O59: Pass | S59: Tested
A60: =MAX($A$1:A59) +1 -> 53 | C60: B/D Admin Manually Create Single Account | D60: 1. Open Revamped CyberRCC in Chrome 2. Login as B/D Admin 3. Select Account Invitation in Menu 4. Select Account Creation Tab 5. Enter all compulsory information and click Next 6. Click Create | F60: 4: Bureau/Department is disabled and auto selected B/D, the Group list will be all groups under B/D 5: Redirect to Preview Account Page 6: Account is created, email is sent to login email with account creation success and password | G60: 45992 | H60: Vincent | L60: Pass | M60: Pass | N60: Pass | O60: Pass | S60: Tested
... A65: =MAX($A$1:A64) +1 -> 58 | C65: Validation on adding Address on creating Single Account | D65: 1. Open Revamped CyberRCC in Chrome 2. Login as B/D Group Admin 3. Select Account Invitation in Menu 4. Select Account Creation Tab 5. Enter all compulsory information 6. Click Add New under Address 7. Leave all the fields empty and click Confirm 8. Enter all compulsory address information and enter invalid date for effective start date and effective end date 9. Enter valid date for effective start date and effective end date but end date is earlier than start date | F65: 7: Error Message for mandatory field will be shown, including: - District - Area - Effective Start Date - Street/Estate/Village/Building 8: Error Message for incorrect format of effective start date and end date 9: Error Message for end date cannot be earlier than start date | G65: 45994 | H65: Vincent | L65: Pass | M65: Pass | N65: Pass | O65: Pass | S65: Tested

Sheet Group Maintenance
A1: Case No | B1: Seg. | C1: Description | D1: Test Procedure | E1: Test Data | F1: Expected Result | G1: Date | H1: Tester | I1: Result | S1: Status | T1: Remarks
I2: Language | L2: Desktop | P2: Tablet | Q2: Mobile
I3: English | J3: Trad Chi | K3: Simp Chi | L3: Chrome | M3: FireFox | N3: Edge | O3: Safari | P3: Pad | Q3: Android | R3: IOS
A4: Scenario 1: | B4: Group Maintenance UI
A5: =MAX($A$1:A4) + 1 -> 1 | C5: Group Maintenance Page in different browser and device | D5: 1. Open Revamped CyberRCC in Chrome Browser 2. Login as BD Admin 3. Click Group Setting 4. Click Add Group 5. Repeat Step1-4 in FireFox Browser 6. Repeat Step1-4 in Edge Browser 7. Repeat Step1-4 in Safari Browser 8. Repeat Step1-4 in tablet Chrome Browser 9. Repeat Step1-4 in Andoid Chrome Browser 10. Repeat Step1-4 in iOS Safari Browser | F5: 3: Show Group Setting Page Properly 4: Show Add Group Pop Up Properly 5 - 10: Similar Layout as Result 3 & 4 in Chrome | G5: 8/12/2025 | H5: Jacky | L5: Pass | M5: Pass | N5: Pass | O5: Pass | P5: Pass | Q5: Pass | R5: Pass | S5: Tested
A6: =MAX($A$1:A5) + 1 -> 2 | C6: Group Maintenance Page in different language | D6: 1. Open Revamped CyberRCC in English 2. Login as BD Admin 3. Click Group Setting 4. Click Add Group 5. Click Cancel and Select Traditional Chinese 6. Click Add Group again 7. Click Cancel and Select Simplfied Chinese 8. Click Add Group | F6: 3 - 4: Display correct label in English 5 - 6: Display correct label in Traditional Chinese 7 - 8: Display correct label in Simplified Chinese | G6: 8/12/2025 | H6: Jacky | I6: Pass | J6: Pass | K6: Pass | S6: Tested | T6: 群組 vs 組&分組 搜尋 vs 搜尋&搜索 member name showing null or underfined
A7: Scenario 2: | B7: Group Maintenance Function
A8: =MAX($A$1:A7) + 1 -> 3 | C8: Default B/D Admin Display for Group List | D8: 1. Open Revamped CyberRCC in Chrome Browser 2. Login as BD Admin 3. Click Group Setting | F8: 3: Only show B/D's own group list and filtering of B/D is default value as B/D and disabled | G8: 45980 | H8: Ivan | L8: PASS | M8: PASS | N8: PASS | O8: PASS | S8: Tested | T8: default value is Agricuiture, Fisheries and Conservation Department, Not B/D. (Agricuiture, Fisheries and Conservation Department is correct B/D name)
A9: =MAX($A$1:A8) + 1 -> 4 | C9: Default RCC Admin Display for Group List | D9: 1. Open Revamped CyberRCC in Chrome Browser 2. Login as RCC Admin 3. Click Group Setting | F9: 3: Show All Group List and filtering of B/D is default empty and enabled | G9: 45980 | H9: Ivan | L9: PASS | M9: PASS | N9: PASS | O9: PASS | S9: Tested | T9: default value is not empty and cannot select the list of B/D
A10: =MAX($A$1:A9) + 1 -> 5 | C10: Filtering of Group List | D10: 1. Open Revamped CyberRCC in Chrome Browser 2. Login as BD Admin 3. Click Group Setting 4. Enter "Acc" in Search Group | F10: 4: Only Group or Sub Group contain "Acc" will be shown | G10: 45980 | H10: Ivan | L10: PASS | M10: PASS | N10: PASS | O10: PASS | S10: Tested
A11: =MAX($A$1:A10) + 1 -> 6 | C11: Add new group successfully | D11: 1. Open Revamped CyberRCC in Chrome Browser 2. Login as BD Admin 3. Click Group Setting 4. Click Add Group 5. Select Parent Group and Input Group Name 6. Click Confirm | F11: 6: Group create successfully | G11: 45980 | H11: Ivan | L11: PASS | M11: PASS | N11: PASS | O11: PASS | S11: Tested
A12: =MAX($A$1:A11) + 1 -> 7 | C12: Edit group successfully | D12: 1. Open Revamped CyberRCC in Chrome Browser 2. Login as BD Admin 3. Click Group Setting 4. Click Edit Icon of a Group 5. Update Group Name 6. Click Confirm | F12: 6: Update Group Successfully | G12: 45980 | H12: Ivan | L12: PASS | M12: PASS | N12: PASS | O12: PASS | S12: Tested
A13: =MAX($A$1:A12) + 1 -> 8 | C13: Validation for adding new group | D13: 1. Open Revamped CyberRCC in Chrome Browser 2. Login as BD Admin 3. Click Group Setting 4. Click Add Group 5. Click Confirm | F13: 4: Error Message - Missing Group Name will be shown | G13: 45980 | H13: Ivan | L13: PASS | M13: PASS | N13: PASS | O13: PASS | S13: Tested
A14: =MAX($A$1:A13) + 1 -> 9 | C14: Assign admin for group | D14: 1. Open Revamped CyberRCC in Chrome Browser 2. Login as BD Admin 3. Click Group Setting 4. Click Edit Icon of a Group 5. Input Test in Search Admin under Group Admin 6. Select a User Account 7. Click Confirm | F14: 5: Show all User under B/D with "Test in email / name" 6: Seleted User will be shown under Group Admin 7: Group Admin List is saved and updated in database | G14: 45980 | H14: Ivan | L14: PASS | M14: PASS | N14: PASS | O14: PASS | S14: Tested | T14: after confirm, selected User have not in the Group Admin list even using RCC admin 1 Dec 25 Ivan: Tested OK
A15: =MAX($A$1:A14) + 1 -> 10 | C15: Remove admin for group | D15: 1. Open Revamped CyberRCC in Chrome Browser 2. Login as BD Admin 3. Click Group Setting 4. Click Edit Icon of a Group 5. click delete icon of the user under Group Admin 6. Click Confirm | F15: 6: The user will be removed from the list under Group Admin 7: Group Admin List is saved and updated in database | G15: 45980 | H15: Ivan | L15: PASS | M15: PASS | N15: PASS | O15: PASS | S15: Tested
A16: =MAX($A$1:A15) + 1 -> 11 | C16: Assign member for group | D16: 1. Open Revamped CyberRCC in Chrome Browser 2. Login as BD Admin 3. Click Group Setting 4. Click Edit Icon of a Group 5. Input Test in Search Member under Group Member 6. Select a User Account 7. Click Confirm | F16: 5: Show all User under B/D with "Test in email / name" 6: Seleted User will be shown under Group Member 7: Group Member List is saved and updated in database, Total Number of Group Members will be updated and shown on the right of the group name | G16: 45980 | H16: Ivan | L16: PASS | M16: PASS | N16: PASS | O16: PASS | S16: Tested
A17: =MAX($A$1:A16) + 1 -> 12 | C17: Remove member for group | D17: 1. Open Revamped CyberRCC in Chrome Browser 2. Login as BD Admin 3. Click Group Setting 4. Click Edit Icon of a Group 5. click delete icon of the user under Group Member 6. Click Confirm | F17: 6: The user will be removed from the list under Group Member 7: Group Member List is saved and updated in database, Total Number of Group Members will be updated and shown on the right of the group name | G17: 45980 | H17: Ivan | L17: PASS | M17: PASS | N17: PASS | O17: PASS | S17: Tested
A18: =MAX($A$1:A17) + 1 -> 13 | C18: Delete Group Successfully | D18: 1. Open Revamped CyberRCC in Chrome Browser 2. Login as BD Admin 3. Click Group Setting 4. Click Delete Icon of a Group that does not have members or sub group | F18: 4: Group successfully deleted in BD and updated in database | G18: 45980 | H18: Ivan | L18: PASS | M18: PASS | N18: PASS | O18: PASS | S18: Tested
A19: =MAX($A$1:A18) + 1 -> 14 | C19: Validation for deleting group | D19: 1. Open Revamped CyberRCC in Chrome Browser 2. Login as BD Admin 3. Click Group Setting 4. Click Delete Icon of a Group that have members 5. Click Delete Icon of a Group that have sub groups | F19: 4: Error Message - Have Group Member cannot delete will be shown 5: Error Message - Have Sub Group cannot delete will be shown | G19: 45980 | H19: Ivan | L19: PASS | M19: PASS | N19: PASS | O19: PASS | S19: Tested | T19: error message always showing there are still member in group when a group have a support group only. 1 Dec 25 Ivan: Tested OK

Sheet BD Report Download
A1: Case No | B1: Seg. | C1: Description | D1: Test Procedure | E1: Test Data | F1: Expected Result | G1: Date | H1: Tester | I1: Result | S1: Status | T1: Remarks
I2: Language | L2: Desktop | P2: Tablet | Q2: Mobile
I3: English | J3: Trad Chi | K3: Simp Chi | L3: Chrome | M3: FireFox | N3: Edge | O3: Safari | P3: Pad | Q3: Android | R3: IOS
A4: Scenario 1: | B4: Monthly BD Report Download UI
A5: =MAX($A$1:A4) + 1 -> 1 | C5: Monthly BD Report Download UI in different browser and device | D5: 1. Open Revamped CyberRCC in Chrome 2. Login as BD User with Report Viewer 3. Click Monthly Report 4. Repeat Step 1 - 3 in FireFox 5. Repeat Step 1 - 3 in Edge 6. Repeat Step 1 - 3 in Safari 7. Repeat Step 1 - 3 in Tablet Chrome 8. Repeat Step 1 - 3 in Android Chrome 9. Repeat Step 1 - 3 in iOS Chrome | F5: 3: Display Monthly Report Page Properly 4 - 9: Display Monthly Report Page as Chrome | H5: Oscar | L5: Pass | M5: Pass | N5: Pass | O5: Pass | P5: Pass | Q5: Pass | R5: Pass | S5: Tested
A6: =MAX($A$1:A5) + 1 -> 2 | C6: Monthly BD Report Download UI in different language | D6: 1. Open Revamped CyberRCC in English 2. Login as BD User with Report Viewer 3. Click Monthly Report 4. Select Tradition Chinese as language 5. Select Simplified Chinese as language | F6: 3: Display Label in English 4: Display Label in Tradition Chinese 5: Display Label in Simplified Chinese | H6: Oscar | I6: Pass | J6: Pass | K6: Pass | S6: Tested
A7: Scenario 2: | B7: Monthly BD Report
A8: =MAX($A$1:A7) + 1 -> 3 | C8: Download Monthly Report through revamped CyberRCC | D8: 1. Open Revamped CyberRCC in English 2. Login as BD User with Report Viewer 3. Click Monthly Report 4. Click Download under July | F8: 4. July Monthly BD Report will be downloaded | G8: 46015 | H8: Derek | L8: Fail | S8: To Be Fixed | T8: When click download monthly report, error occur can't open file location. Setting not change. When click download annual report, 502 bad Gateway error
A9: =MAX($A$1:A8) + 1 -> 4 | C9: Download Whole Year Report | D9: 1. Open Revamped CyberRCC in English 2. Login as BD User with Report Viewer 3. Click Monthly Report 4. Click Download 2025 Reports | F9: 4. Whole Year BD Report will be downloaded as zip | G9: 46015 | H9: Derek | L9: Fail | S9: To Be Fixed
A10: =MAX($A$1:A9) + 1 -> 5 | C10: RCC Supervisors upload the monthly report settings in DA | D10: 1. Login DA as RCC Supervisor 2. Click Monthly Report Setting 3. Click Upload and select correct excel | F10: 3. Monthly Report Setting will be updated | G10: 46021 | H10: Derek | L10: Fail | S10: To Be Fixed
A11: =MAX($A$1:A10) + 1 -> 6 | C11: RCC Supervisors download the monthly report settings in DA | D11: 1. Login DA as RCC Supervisor 2. Click Monthly Report Setting 3. Click Download | F11: 3: Existing Monthly Report Setting will be downloaded | G11: 46015 | H11: Derek | L11: Fail | S11: To Be Fixed | T11: A JSONArray text must start with '[' at 1 [character 2 line 1]
A12: =MAX($A$1:A11) + 1 -> 7 | C12: Auto Generate B/D Reports by System | D12: 1. Run the schedule program for monthly generate report | F12: 1: All B/D Report will be automatically generated and move to destination folder | G12: 46021 | H12: Derek | L12: Pass | S12: Tested
A13: =MAX($A$1:A12) + 1 -> 8 | C13: Send B/D Reports to corresponding email by email list | D13: 1. Run the schedule program for monthly generate report | F13: 1: All B/D Report will be automatically generated and move to destination folder, email will be sent to email configured in email setting | G13: 46021 | H13: Derek | L13: Pass | S13: Tested

Sheet Search RRF (DS)
A1: Case No | B1: Seg. | C1: Description | D1: Test Procedure | E1: Test Data | F1: Expected Result | G1: Date | H1: Tester | I1: Result | S1: Status | T1: Remarks
I2: Language | L2: Desktop | P2: Tablet | Q2: Mobile
I3: English | J3: Trad Chi | K3: Simp Chi | L3: Chrome | M3: FireFox | N3: Edge | O3: Safari | P3: Pad | Q3: Android | R3: IOS
A4: Scenario 1: | B4: Search RRF UI
A5: =MAX($A$1:A4) + 1 -> 1 | C5: Search RRF UI in different browser and device | D5: 1. Open External DA 2. Login as DS and select CyberRCC 3. Select Search RRF 4. Enter a date ramge and click search 5. Repeat Step 1 - 4 in FireFox 6. Repeat Step 1 - 4 in Edge 7. Repeat Step 1 - 4 in Safari 8. Repeat Step 1 - 4 in Tablet Chrome 9. Repeat Step 1 - 4 in Android Chrome 10. Repeat Step 1 - 4 in iOS Chrome | F5: 3 & 4: Display Search RRF Panel and Result Properly 5 - 10: Same display as Chrome browser | G5: 46013 | H5: Oscar | L5: Pass | M5: Pass | N5: Pass | O5: Pass | P5: Pass | Q5: Pass | R5: Pass | S5: Tested
A6: =MAX($A$1:A5) + 1 -> 2 | C6: Form I RRF Detail UI in different browser and device | D6: 1. Open External DA 2. Login as DS and select CyberRCC 3. Select Search RRF 4. Enter a date ramge and click search 5. Open a Form I RRF 6. Repeat Step 1 - 5 in FireFox 7. Repeat Step 1 - 5 in Edge 8. Repeat Step 1 - 5 in Safari 9. Repeat Step 1 - 5 in Tablet Chrome 10. Repeat Step 1 - 5 in Android Chrome 11. Repeat Step 1 - 5 in iOS Chrome | F6: 5: Display Form I RRF Detail Properly 6 - 11: Same display as Chrome browser | G6: 46013 | H6: Oscar | L6: Pass | M6: Pass | N6: Pass | O6: Pass | P6: Pass | Q6: Pass | R6: Pass | S6: Tested
A7: =MAX($A$1:A6) + 1 -> 3 | C7: Form III RRF Detail UI in different browser and device | D7: 1. Open External DA 2. Login as DS and select CyberRCC 3. Select Search RRF 4. Enter a date ramge and click search 5. Open a Form III RRF 6. Repeat Step 1 - 5 in FireFox 7. Repeat Step 1 - 5 in Edge 8. Repeat Step 1 - 5 in Safari 9. Repeat Step 1 - 5 in Tablet Chrome 10. Repeat Step 1 - 5 in Android Chrome 11. Repeat Step 1 - 5 in iOS Chrome | F7: 5: Display Form III RRF Detail Properly 6 - 11: Same display as Chrome browser | G7: 46013 | H7: Oscar | L7: Pass | M7: Pass | N7: Pass | O7: Pass | P7: Pass | Q7: Pass | R7: Pass | S7: Tested
A8: Scenario 2: | B8: Search RRF Function
A9: =MAX($A$1:A8) + 1 -> 4 | C9: Simple Search RRF - CRN | D9: 1. Open External DA 2. Login as DS and select CyberRCC 3. Select Search RRF 4. Enter CRN 5. Click Search | E9: CRN: 80929400 | F9: 5: RRF with the CRN will be shown | G9: 45980 | H9: Ivan | L9: PASS | M9: PASS | N9: PASS | O9: PASS | S9: Tested | T9: 1. The Search RRF webpage keep on loading when using RCC Supervisor Login (itapps2) 2. RRF with the CRN will be shown at the first searching or reloading the webpage but 0 result found of changing other number. 1 Dec 25 Ivan: ALL CRN, RRF and MWO cannot use and show "Please insert properly CRK / RRI ID / CRN" 17 Dec 25 Ivan: Tested
A10: =MAX($A$1:A9) + 1 -> 5 | C10: Simple Search RRF - RRI ID | D10: 1. Open External DA 2. Login as DS and select CyberRCC 3. Select Search RRF 4. Enter RRI 5. Click Search | E10: RRI: 8097785001 | F10: 5: RRF with the RRI will be shown | G10: 45982 | H10: Ivan | L10: PASS | M10: PASS | N10: PASS | O10: PASS | S10: Tested | T10: 0 result found but can search by Quick Search RRF 17 Dec 25 Ivan: Tested
A11: =MAX($A$1:A10) + 1 -> 6 | C11: Simple Search RRF - MWO | D11: 1. Open External DA 2. Login as DS and select CyberRCC 3. Select Search RRF 4. Enter MWO 5. Click Search | E11: MWO: A7287160 A1100157 | F11: 5: RRF with the MWO will be shown | G11: 45982 | H11: Ivan | L11: PASS | M11: PASS | N11: PASS | O11: PASS | S11: Tested | T11: 1. MWO: A7426900 searching have not result even Qucik Search RRF 27 Dec 25 Ivan: Tested
A12: =MAX($A$1:A11) + 1 -> 7 | C12: Simple Search RRF - WO | D12: 1. Open External DA 2. Login as DS and select CyberRCC 3. Select Search RRF 4. Enter WO 5. Click Search | E12: WO: B8890310 | F12: 5: RRF with the WO will be shown | G12: 45982 | H12: Ivan | L12: PASS | M12: PASS | N12: PASS | O12: PASS | S12: Tested | T12: RRF with the WO will be shown at the first searching or reloading the webpage but 0 result found of changing other number.
A13: =MAX($A$1:A12) + 1 -> 8 | C13: My RRF Search | D13: 1. Open External DA 2. Login as DS that belongs to 22 Area and select CyberRCC 3. Select Search RRF 4. Enter date range for callindatetime 5. Enable My RRF Only 6. Click Search | E13: DA: wongcw5 / itapps | F13: 3: My RRF Only will be enabled 6: Only DS's RRF will be shown | G13: 46027 | H13: Ivan | N13: FAIL | O13: FAIL | S13: To Be Retested | T13: No DS account with Area 10 (Assigned DA account to test) 1/ 5 Ivan: Result are same when my rrf only enable or not. | U13: update:2026/1/5
A14: =MAX($A$1:A13) + 1 -> 9 | C14: Disable My RRF Search | D14: 1. Open External DA 2. Login as DS that not belong to 22 Area and select CyberRCC 3. Select Search RRF | E14: DA: wongcw5 / itapps | F14: 3: My RRF Only will be disabled | G14: 45982 | H14: Ivan | L14: PASS | M14: PASS | N14: PASS | O14: PASS | S14: Tested | T14: No DS account with Area 10 (Assigned DA account to test) 1 Dec 25 Ivan: Tested
A15: =MAX($A$1:A14) + 1 -> 10 | C15: Search RRF - Callin Date | D15: 1. Open External DA 2. Login as DS and select CyberRCC 3. Select Search RRF 4. Select 7 days for Call-in Date 5. Click Search | E15: Area 51 | F15: 4: Default past 7 days are shown 5: RRF within 7 days call-in will be shown | G15: 45982 | H15: Ivan | L15: PASS | M15: PASS | N15: PASS | O15: PASS | S15: Tested
A16: =MAX($A$1:A15) + 1 -> 11 | C16: Search RRF - RRF Create Date | D16: 1. Open External DA 2. Login as DS and select CyberRCC 3. Select Search RRF 4. Select 14 days for RRF Create Date 5. Click Search | E16: Area 51 | F16: 4: Default past 14 days are shown 5: RRF within 14 days creation will be shown | G16: 45982 | H16: Ivan | L16: PASS | M16: PASS | N16: PASS | O16: PASS | S16: Tested
A17: =MAX($A$1:A16) + 1 -> 12 | C17: Search RRF - Location (And) | D17: 1. Open External DA 2. Login as DS and select CyberRCC 3. Select Search RRF 4. Enter Locations and Select And for operator 5. Click Search | E17: Chai Wan Fire Station | F17: 5: RRF with the location contains both word will be shown | G17: 46027 | H17: Ivan | N17: FAIL | S17: To Be Retested | T17: Result are same when input or no input 1/ 5 Dec Ivan: cannot filter Localtion for seaching | U17: update:2026/1/9 fix
A18: =MAX($A$1:A17) + 1 -> 13 | C18: Search RRF - Location (Or) | D18: 1. Open External DA 2. Login as DS and select CyberRCC 3. Select Search RRF 4. Enter Locations and Select And for operator 5. Click Search | E18: POLICE MARRIED QUARTERS AT 18 TSUI WAN STREET, CHAI WAN. BLOCK 2, FLAT 23F | F18: 5: RRF with the location contains either words will be shown | G18: 46027 | H18: Ivan | N18: FAIL | S18: To Be Retested | T18: Result are same when input or no input 1/ 5 Dec Ivan: cannot filter Localtion for seaching | U18: update:2026/1/9 fix
A19: =MAX($A$1:A18) + 1 -> 14 | C19: Search RRF - Area | D19: 1. Open External DA 2. Login as DS and select CyberRCC 3. Select Search RRF 4. Select 11 for Area 5. Click Search | E19: 11 | F19: 5: RRF with the area code will be shown | G19: 45982 | H19: Ivan | L19: PASS | M19: PASS | N19: PASS | O19: PASS | S19: Tested
A20: =MAX($A$1:A19) + 1 -> 15 | C20: Search RRF - Location Code | D20: 1. Open External DA 2. Login as DS and select CyberRCC 3. Select Search RRF 4. Enter Location Code 5. Click Search | E20: DB04400253000 2024/04/01 - 2024/04/21 | F20: 5: RRF with the location code will be shown | G20: 45982 | H20: Ivan | L20: PASS | M20: PASS | N20: PASS | O20: PASS | S20: Tested
A21: =MAX($A$1:A20) + 1 -> 16 | C21: Search RRF - Position | D21: 1. Open External DA 2. Login as DS and select CyberRCC 3. Select Search RRF 4. Enter Position 5. Click Search | E21: G/F, female toilet, cub. #6 G/F, Male toilet , whb#1 2024/04/01 - 2024/04/21 | F21: 5: RRF with the position will be shown | G21: 45982 | H21: Ivan | L21: PASS | M21: PASS | N21: PASS | O21: PASS | S21: Tested | T21: female result included when searching male (execpted result)
A22: =MAX($A$1:A21) + 1 -> 17 | C22: Search RRF - Phone | D22: 1. Open External DA 2. Login as DS and select CyberRCC 3. Select Search RRF 4. Enter Phone 5. Click Search | E22: 25704682 | F22: 5: RRF with the phone will be shown | G22: 45982 | H22: Ivan | L22: PASS | M22: PASS | N22: PASS | O22: PASS | S22: Tested
A23: =MAX($A$1:A22) + 1 -> 18 | C23: Search RRF - Day Shift | D23: 1. Open External DA 2. Login as DS and select CyberRCC 3. Select Search RRF 4. Select Day Shift 5. Click Search | E23: Day | F23: 5: RRF in day shift will be shown | G23: 45982 | H23: Ivan | L23: PASS | M23: PASS | N23: PASS | O23: PASS | S23: Tested
A24: =MAX($A$1:A23) + 1 -> 19 | C24: Search RRF - Night Shift | D24: 1. Open External DA 2. Login as DS and select CyberRCC 3. Select Search RRF 4. Select Night Shift 5. Click Search | E24: Night | F24: 5: RRF in Night shift will be shown | G24: 45982 | H24: Ivan | L24: PASS | M24: PASS | N24: PASS | O24: PASS | S24: Tested
A25: =MAX($A$1:A24) + 1 -> 20 | C25: Search RRF - RRF Type I | D25: 1. Open External DA 2. Login as DS and select CyberRCC 3. Select Search RRF 4. Select I for RRF Type 5. Click Search | E25: RRF Type I | F25: 5: Form I RRF will be shown | G25: 45982 | H25: Ivan | L25: PASS | M25: PASS | N25: PASS | O25: PASS | S25: Tested
A26: =MAX($A$1:A25) + 1 -> 21 | C26: Search RRF - RRF Type III | D26: 1. Open External DA 2. Login as DS and select CyberRCC 3. Select Search RRF 4. Select III for RRF Type 5. Click Search | E26: RRF Type III | F26: 5: Form III RRF will be shown | G26: 45982 | H26: Ivan | L26: PASS | M26: PASS | N26: PASS | O26: PASS | S26: Tested
A27: =MAX($A$1:A26) + 1 -> 22 | C27: Search RRF - ACTION Site Completion Date | D27: 1. Open External DA 2. Login as DS and select CyberRCC 3. Select Search RRF 4. Enter Yes for ACTION Site Completion Date 5. Click Search | E27: ACTION Site Completion Date: Yes | F27: 5: RRF with Site Completion Date will be shown | G27: 46031 | H27: Ivan | L27: PASS | M27: PASS | N27: PASS | O27: PASS | S27: Tested | T27: Internal Server Error when press search 1/5 Ivan: No result found for ACTION Site Completion Data. have data info for searching? 1/9 Ivan: Test OK | U27: update:2026/1/9 fix, sampled data is too small (new field) search RRF in callindate:2026-01-07, when select yes/no, the total count will be difference
A28: =MAX($A$1:A27) + 1 -> 23 | C28: Search RRF - RRF Status Active | D28: 1. Open External DA 2. Login as DS and select CyberRCC 3. Select Search RRF 4. Select Active for RRF Status 5. Click Search | E28: RRF Status : Active | F28: 5: RRF with Active Status will be shown | G28: 45982 | H28: Ivan | L28: PASS | M28: PASS | N28: PASS | O28: PASS | S28: Tested
A29: =MAX($A$1:A28) + 1 -> 24 | C29: Search RRF - RRF Status Converted | D29: 1. Open External DA 2. Login as DS and select CyberRCC 3. Select Search RRF 4. Select Converted for RRF Status 5. Click Search | E29: Callin date: 2023/11/25 - 2023/11/27 Area: 11 RRF Status: Converted | F29: 5: RRF with Converted Status will be shown | G29: 45982 | H29: Ivan | L29: PASS | M29: PASS | N29: PASS | O29: PASS | S29: Tested | T29: 0 result found (Provided test data) 1 Dec 25 Ivan: tested ok
A30: =MAX($A$1:A29) + 1 -> 25 | C30: Search RRF - RRF Status To Be Converted | D30: 1. Open External DA 2. Login as DS and select CyberRCC 3. Select Search RRF 4. Select To Be Converted for RRF Status 5. Click Search | E30: Callin date: 2023/11/25 - 2023/11/27 Area: 11 RRF Status: To Be Converted | F30: 5: RRF with To Be Converted Status will be shown | G30: 45982 | H30: Ivan | L30: PASS | M30: PASS | N30: PASS | O30: PASS | S30: Tested | T30: 0 result found (Provided test data) 1 Dec 25 Ivan: tested ok
A31: =MAX($A$1:A30) + 1 -> 26 | C31: Search RRF - RRF Status To Be Converted* | D31: 1. Open External DA 2. Login as DS and select CyberRCC 3. Select Search RRF 4. Select To Be Converted* for RRF Status 5. Click Search | E31: Callin date: 2023/11/25 - 2023/11/27 Area: 11 RRF Status: To Be Converted* | F31: 5: RRF with To Be Converted* Status will be shown | G31: 45982 | H31: Ivan | L31: PASS | M31: PASS | N31: PASS | O31: PASS | S31: Tested | T31: 0 result found (Provided test data) 1 Dec 25 Ivan: tested ok
A32: =MAX($A$1:A31) + 1 -> 27 | C32: Search RRF - RRF Status Cancelled | D32: 1. Open External DA 2. Login as DS and select CyberRCC 3. Select Search RRF 4. Select Cancelled for RRF Status 5. Click Search | E32: Callin date: 2023/11/25 - 2023/11/27 Area: 11 RRF Status: Cancelled | F32: 5: RRF with Cancelled Status will be shown | G32: 45982 | H32: Ivan | L32: PASS | M32: PASS | N32: PASS | O32: PASS | S32: Tested | T32: 0 result found (Provided test data) 1 Dec 25 Ivan: tested ok
A33: =MAX($A$1:A32) + 1 -> 28 | C33: Search RRF - RRF Status Batch for Audit | D33: 1. Open External DA 2. Login as DS and select CyberRCC 3. Select Search RRF 4. Select Batch for Audit for RRF Status 5. Click Search | E33: Callin date: 2023/11/17 - 2023/11/27 Area: 11 RRF Status: Batch for Audit | F33: 5: RRF with Batch for Audit Status will be shown | G33: 45982 | H33: Ivan | L33: PASS | M33: PASS | N33: PASS | O33: PASS | S33: Tested | T33: 0 result found (Provided test data) 1 Dec 25 Ivan: tested ok
A34: =MAX($A$1:A33) + 1 -> 29 | C34: Search RRF - RRF Status Claimed | D34: 1. Open External DA 2. Login as DS and select CyberRCC 3. Select Search RRF 4. Select Claimed for RRF Status 5. Click Search | E34: Callin date: 2024/02/29 - 2024/02/29 Area: 11 RRF Status: Claimed | F34: 5: RRF with Claimed Status will be shown | G34: 45982 | H34: Ivan | L34: PASS | M34: PASS | N34: PASS | O34: PASS | S34: Tested | T34: 0 result found (Provided test data) 1 Dec 25 Ivan: tested ok
A35: =MAX($A$1:A34) + 1 -> 30 | C35: Search RRF - RRF Status Accepted | D35: 1. Open External DA 2. Login as DS and select CyberRCC 3. Select Search RRF 4. Select Accepted for RRF Status 5. Click Search | E35: Callin date: 2023/12/01 - 2023/12/07 Area: 11 RRF Status: Accepted | F35: 5: RRF with Accepted Status will be shown | G35: 45982 | H35: Ivan | L35: PASS | M35: PASS | N35: PASS | O35: PASS | S35: Tested | T35: 0 result found (Provided test data) 1 Dec 25 Ivan: tested ok
A36: =MAX($A$1:A35) + 1 -> 31 | C36: Search RRF - RRF Status Rejected | D36: 1. Open External DA 2. Login as DS and select CyberRCC 3. Select Search RRF 4. Select Rejected for RRF Status 5. Click Search | E36: Callin date: 2023/12/01 - 2023/12/29 Area: 12 RRF Status: Rejected | F36: 5: RRF with Rejected Status will be shown | G36: 45982 | H36: Ivan | L36: PASS | M36: PASS | N36: PASS | O36: PASS | S36: Tested | T36: 0 result found (Provided test data) 1 Dec 25 Ivan: tested ok
A37: =MAX($A$1:A36) + 1 -> 32 | C37: Search RRF - RRF Status Resubmited | D37: 1. Open External DA 2. Login as DS and select CyberRCC 3. Select Search RRF 4. Select Resubmited for RRF Status 5. Click Search | E37: Callin date: 2023/10/25 - 2023/10/25 Area: 12 RRF Status: Re-submitted | F37: 5: RRF with Resubmited Status will be shown | G37: 45982 | H37: Ivan | L37: PASS | M37: PASS | N37: PASS | O37: PASS | S37: Tested | T37: 0 result found (Provided test data) 1 Dec 25 Ivan: 0 result found 17 Dec 25 Ivan: Tested
A38: =MAX($A$1:A37) + 1 -> 33 | C38: Search RRF - RRF Status Grouped At | D38: 1. Open External DA 2. Login as DS and select CyberRCC 3. Select Search RRF 4. Select Grouped At for RRF Status 5. Click Search | E38: Callin date: 2024/03/01 - 2024/03/30 Area: 52 RRF Status: Grouped At | F38: 5: RRF with Grouped At Status will be shown | G38: 45982 | H38: Ivan | L38: PASS | M38: PASS | N38: PASS | O38: PASS | S38: Tested | T38: 0 result found (Provided test data) 1 Dec 25 Ivan: seem some data grouped at xxxx but 0 result found 17 Dec 25 Ivan: Tested
A39: =MAX($A$1:A38) + 1 -> 34 | C39: Search RRF - Cancelled RRF? | D39: 1. Open External DA 2. Login as DS and select CyberRCC 3. Select Search RRF 4. Select Yes for Cancelled RRF? 5. Click Search | F39: 5: Only RCC Cancelled RRF will be shown | G39: 45982 | H39: Ivan | L39: PASS | M39: PASS | N39: PASS | O39: PASS | S39: Tested
A40: =MAX($A$1:A39) + 1 -> 35 | C40: Search RRF - Voice Channel | D40: 1. Open External DA 2. Login as DS and select CyberRCC 3. Select Search RRF 4. Select Voice for Channel 5. Click Search | E40: Callin date: 2023/11/01 - 2023/11/27 Area: 32 | F40: 5: Only RRF from voice channel will be shown | G40: 45982 | H40: Ivan | L40: PASS | M40: PASS | N40: PASS | O40: PASS | S40: Tested
A41: =MAX($A$1:A40) + 1 -> 36 | C41: Search RRF - Web Channel | D41: 1. Open External DA 2. Login as DS and select CyberRCC 3. Select Search RRF 4. Select Web for Channel 5. Click Search | E41: Callin date: 2023/11/01 - 2023/11/27 Area: 32 | F41: 5: Only RRF from web channel will be shown | G41: 45982 | H41: Ivan | L41: PASS | M41: PASS | N41: PASS | O41: PASS | S41: Tested
A42: =MAX($A$1:A41) + 1 -> 37 | C42: Search RRF - FEHD App Channel | D42: 1. Open External DA 2. Login as DS and select CyberRCC 3. Select Search RRF 4. Select FEHD App for Channel 5. Click Search | E42: Callin date: 2023/11/01 - 2023/11/27 Area: 32 | F42: 5: Only RRF from FEHD App channel will be shown | G42: 45982 | H42: Ivan | L42: PASS | M42: PASS | N42: PASS | O42: PASS | S42: Tested
A43: =MAX($A$1:A42) + 1 -> 38 | C43: Search RRF - High Risk | D43: 1. Open External DA 2. Login as DS and select CyberRCC 3. Select Search RRF 4. Enter Yes for High Risk 5. Click Search | E43: Callin date: 2023/11/25 - 2023/11/27 Area: 11 | F43: 5: Only High Risk RRF will be shown | G43: 45982 | H43: Ivan | L43: PASS | M43: PASS | N43: PASS | O43: PASS | S43: Tested | T43: 0 result found (Provided test data) 1 Dec 25 Ivan: 0 result found 17 Dec 25 Ivan: Tested
A44: =MAX($A$1:A43) + 1 -> 39 | C44: Search RRF - Urgecy Emergency | D44: 1. Open External DA 2. Login as DS and select CyberRCC 3. Select Search RRF 4. Select Emergency for Urgency 5. Click Search | E44: Callin date: 2023/11/01 - 2023/11/27 Area: 32 | F44: 5: Only Emergency RRF will be shown | G44: 45982 | H44: Ivan | L44: PASS | M44: PASS | N44: PASS | O44: PASS | S44: Tested
A45: =MAX($A$1:A44) + 1 -> 40 | C45: Search RRF - Urgecy Urgent | D45: 1. Open External DA 2. Login as DS and select CyberRCC 3. Select Search RRF 4. Select Urgent for Urgency 5. Click Search | E45: Callin date: 2023/11/01 - 2023/11/27 Area: 32 | F45: 5: Only Urgent RRF will be shown | G45: 45982 | H45: Ivan | L45: PASS | M45: PASS | N45: PASS | O45: PASS | S45: Tested
A46: =MAX($A$1:A45) + 1 -> 41 | C46: Search RRF - Urgecy Normal | D46: 1. Open External DA 2. Login as DS and select CyberRCC 3. Select Search RRF 4. Select Normal for Urgency 5. Click Search | E46: Callin date: 2023/11/01 - 2023/11/27 Area: 32 | F46: 5: Only Normal RRF will be shown | G46: 45982 | H46: Ivan | L46: PASS | M46: PASS | N46: PASS | O46: PASS | S46: Tested
A47: =MAX($A$1:A46) + 1 -> 42 | C47: Search RRF - Without Site Completion Date | D47: 1. Open External DA 2. Login as DS and select CyberRCC 3. Select Search RRF 4. Check Without Site Completion Date 5. Click Search | E47: Callin date: 2023/11/25 - 2023/11/27 Area: 11 | F47: 5: Only RRF without MTC site completion date will be shown | G47: 45982 | H47: Ivan | L47: PASS | M47: PASS | N47: PASS | O47: PASS | S47: Tested | T47: 1 Dec 25 Ivan: result are same when check or uncheck Without Site Completion Date 17 Dec 25 Ivan: Tested
A48: =MAX($A$1:A47) + 1 -> 43 | C48: Search RRF - Without Site Completion Date (IC) | D48: 1. Open External DA 2. Login as DS and select CyberRCC 3. Select Search RRF 4. Check Without Site Completion Date(IC) 5. Click Search | E48: Callin date: 2023/11/25 - 2023/11/27 Area: 11 | F48: 5: Only RRF without IC site completion date will be shown | G48: 45982 | H48: Ivan | L48: PASS | M48: PASS | N48: PASS | O48: PASS | S48: Tested | T48: 0 result found (Provided test data) 1 Dec 25 Ivan: can find the date of Site Completeion Date (from IC) if check or uncheck Without Site Completeion Date (IC) 17 Dec 25 Ivan: Tested
A49: =MAX($A$1:A48) + 1 -> 44 | C49: Sort RRF Result List | D49: 1. Open External DA 2. Login as DS and select CyberRCC 3. Select Search RRF 4. Select 30 Days for Call-in Datetime 5. Click Search 6: Select Oldest for sorting | E49: 2024/04/01 - 2024/04/30 | F49: 4: past 30 days will be shown 5: default sorting should be newest 6: sorting will change to oldest | G49: 45982 | H49: Ivan | L49: PASS | M49: PASS | N49: PASS | O49: PASS | S49: Tested
A50: =MAX($A$1:A49) + 1 -> 45 | C50: Download Full RRF Result List | D50: 1. Open External DA 2. Login as DS and select CyberRCC 3. Select Search RRF 4. Enter Callindatetime 5. Click Search 6. Click Download Full List | F50: 6: An Excel will be exported and the list of RRF should be same as search result. The last column will be CyberRCC hyperlink of RRF | G50: 46027 | H50: Ivan | L50: PASS | M50: PASS | N50: PASS | O50: PASS | S50: Tested | T50: Nothing when click Download Full List 1/5 Ivan: Test Ok | U50: update:2026/1/5
A51: =MAX($A$1:A50) + 1 -> 46 | C51: Page Switching for RRF result List | D51: 1. Open External DA 2. Login as DS and select CyberRCC 3. Select Search RRF 4. Enter 30 Days for Call-in Datetime 5. Click Search 5. Click 2 in Page Navigation 6. Click Left Arrow in Page Navigation | F51: 4: Default in first page and show first 10 records 5: switch to second page of records and show next 10 records 6: Switch back to first page and show first 10 records | G51: 45982 | H51: Ivan | L51: PASS | M51: PASS | N51: PASS | O51: PASS | S51: Tested
A52: =MAX($A$1:A51) + 1 -> 47 | C52: Call the Client Phone number in RRF Result List | D52: 1. Open External DA 2. Login as DS and select CyberRCC 3. Select Search RRF 4. Enter Callindatetime 5. Click Search 6. Click phone number of the RRF | F52: 6: Direct call the phone number by phone | G52: 46012 | H52: Oscar | Q52: Pass | R52: Pass | S52: Tested | T52: No action when click the phone no. in the list (fixed) | U52: update:2026/1/5
A53: =MAX($A$1:A52) + 1 -> 48 | C53: RRF I Detail | D53: 1. Open External DA 2. Login as DS and select CyberRCC 3. Select Search RRF 4. Select I for RRF Type 5. Click Search 6. Double click one Form I RRF | E53: 2024/04/01 - 2024/04/30 CRN: 79446410 | F53: 6: RRF Detail will be opened. The information should be same as DA | G53: 46027 | H53: Ivan | L53: FAIL | M53: PASS | N53: PASS | O53: PASS | S53: To Be Retested | T53: 1/5 Ivan: , is it no Location Alert info for Detail, Audit and IC infomration for Follow? | U53: update:2026/1/5 ??
A54: =MAX($A$1:A53) + 1 -> 49 | C54: RRF I Follow Up | D54: 1. Open External DA 2. Login as DS and select CyberRCC 3. Select Search RRF 4. Select I for RRF Type 5. Click Search 6. Double click one Form I RRF 7. Click Follow Up | E54: 2024/04/01 - 2024/04/30 RRI ID: 8095322001 | F54: 7: Follow Up Tab will be shown. The information should be same as DA | G54: 45992 | H54: Ivan | L54: PASS | M54: PASS | N54: PASS | O54: PASS | S54: Tested
A55: =MAX($A$1:A54) + 1 -> 50 | C55: RRF I Draft Complaint | D55: 1. Open External DA 2. Login as DS and select CyberRCC 3. Select Search RRF 4. Select I for RRF Type 5. Click Search 6. Double click one Form I RRF 7. Click Draft Complaint | E55: RRI ID: 8095322001 | F55: 7: Draft Complaint Tab will be shown. The information should be same as DA | G55: 45992 | H55: Ivan | L55: PASS | M55: PASS | N55: PASS | O55: PASS | S55: Tested
A56: =MAX($A$1:A55) + 1 -> 51 | C56: RRF I Draft Complaint Detail | D56: 1. Open External DA 2. Login as DS and select CyberRCC 3. Select Search RRF 4. Select I for RRF Type 5. Click Search 6. Double click one Form I RRF 7. Click Draft Complaint 8. Double click a draft complaint | E56: RRI ID: 8095322001 | F56: 8: Draft Complaint Detail will be shown. The information should be same as DA | G56: 45992 | H56: Ivan | L56: PASS | M56: PASS | N56: PASS | O56: PASS | S56: Tested | T56: Nothing when Double click a draft complaint 17-Dec IvanTested.
A57: =MAX($A$1:A56) + 1 -> 52 | C57: RRF I Redirect to DA Page | D57: 1. Open External DA 2. Login as DS and select CyberRCC 3. Select Search RRF 4. Select I for RRF Type 5. Click Search 6. Double click one Form I RRF 7. Click DA Button | E57: RRI ID: 8095322001 | F57: 7: Redirect to DA RRF Record | G57: 45992 | H57: Ivan | L57: PASS | M57: PASS | N57: PASS | O57: PASS | S57: Tested
A58: =MAX($A$1:A57) + 1 -> 53 | C58: Call the Client Phone number in Form I RRF Detail | D58: 1. Open External DA 2. Login as DS and select CyberRCC 3. Select Search RRF 4. Select I for RRF Type 5. Click Search 6. Double click one Form I RRF 7. Click phone number of the RRF | F58: 7: Direct call the phone number by phone | G58: 46014 | H58: Oscar | Q58: Pass | R58: Pass | S58: Tested
A59: =MAX($A$1:A58) + 1 -> 54 | C59: RRF I MWO/WO | D59: 1. Open External DA 2. Login as DS and select CyberRCC 3. Select Search RRF 4. Select I for RRF Type 5. Click Search 6. Double click one Form I RRF 7. Click MWO/WO | E59: RRI ID: 8095322001 | F59: 7: Mwo/WO Tab will be shown. The information should be same as DA | G59: 45992 | H59: Ivan | L59: PASS | M59: PASS | N59: PASS | O59: PASS | S59: Tested
A60: =MAX($A$1:A59) + 1 -> 55 | C60: RRF I Request History | D60: 1. Open External DA 2. Login as DS and select CyberRCC 3. Select Search RRF 4. Select I for RRF Type 5. Click Search 6. Double click one Form I RRF 7. Click Request History | E60: RRI ID: 8095322001 | F60: 7: Request History Tab will be shown. The information should be same as DA | G60: 45992 | H60: Ivan | L60: PASS | M60: PASS | N60: PASS | O60: PASS | S60: Tested | T60: Pass, but not find data with Request History
A61: =MAX($A$1:A60) + 1 -> 56 | C61: RRF I Default Notice | D61: 1. Open External DA 2. Login as DS and select CyberRCC 3. Select Search RRF 4. Select I for RRF Type 5. Click Search 6. Double click one Form I RRF 7. Click Default Notice | E61: RRI ID: 8095322001 | F61: 7: Default Notice Tab will be shown. The information should be same as DA | G61: 45992 | H61: Ivan | L61: PASS | M61: PASS | N61: PASS | O61: PASS | S61: Tested | T61: Pass, but not find data with Default Notice
A62: =MAX($A$1:A61) + 1 -> 57 | C62: RRF I Default Notice Detail | D62: 1. Open External DA 2. Login as DS and select CyberRCC 3. Select Search RRF 4. Select I for RRF Type 5. Click Search 6. Double click one Form I RRF 7. Click Default Notice 8. Double click a default notice | F62: 8: Dedault Notice Detail will be shown. The information should be same as DA | G62: 46031 | H62: Ivan | L62: PASS | M62: PASS | N62: PASS | O62: PASS | S62: Tested | T62: 1/5 Ivan: Not data found with Default Notice. Can proivde info for Default Notice? 1/9 Ivan: Test OK | U62: update:2026/1/9 crn = 67328460
A63: =MAX($A$1:A62) + 1 -> 58 | C63: RRF III Detail | D63: 1. Open External DA 2. Login as DS and select CyberRCC 3. Select Search RRF 4. Select III for RRF Type 5. Click Search 6. Double click one Form III RRF | E63: 2024/04/02 - 2024/04/30 | F63: 6: RRF Detail will be opened. The information should be same as DA | G63: 46027 | H63: Ivan | L63: FAIL | M63: PASS | N63: PASS | O63: PASS | S63: To Be Retested | T63: 1/5 Ivan: Is it no Location Alert and No Complicated Repair Description. | U63: update:2026/1/5 ??
A64: =MAX($A$1:A63) + 1 -> 59 | C64: RRF III MWO/WO | D64: 1. Open External DA 2. Login as DS and select CyberRCC 3. Select Search RRF 4. Select III for RRF Type 5. Click Search 6. Double click one Form III RRF 7. Click MWO/WO | F64: 7: Mwo/WO Tab will be shown. The information should be same as DA | G64: 45992 | H64: Ivan | L64: PASS | M64: PASS | N64: PASS | O64: PASS | S64: Tested | T64: Pass, but not find data with MVO/WO
A65: =MAX($A$1:A64) + 1 -> 60 | C65: RRF III Request History | D65: 1. Open External DA 2. Login as DS and select CyberRCC 3. Select Search RRF 4. Select III for RRF Type 5. Click Search 6. Double click one Form III RRF 7. Click Request History | F65: 7: Request History Tab will be shown. The information should be same as DA | G65: 45992 | H65: Ivan | L65: PASS | M65: PASS | N65: PASS | O65: PASS | S65: Tested | T65: Pass, but not find data with Request History
A66: =MAX($A$1:A65) + 1 -> 61 | C66: RRF III Redirect to DA Page | D66: 1. Open External DA 2. Login as DS and select CyberRCC 3. Select Search RRF 4. Select III for RRF Type 5. Click Search 6. Double click one Form III RRF 7. Click DA Button | F66: 7: Redirect to DA RRF Record | G66: 45992 | H66: Ivan | L66: PASS | M66: PASS | N66: PASS | O66: PASS | S66: Tested
A67: =MAX($A$1:A66) + 1 -> 62 | C67: Call the Client Phone number in Form III RRF Detail | D67: 1. Open External DA 2. Login as DS and select CyberRCC 3. Select Search RRF 4. Select III for RRF Type 5. Click Search 6. Double click one Form III RRF 7. Click phone number of the RRF | F67: 7: Direct call the phone number by phone | G67: 46015 | H67: Oscar | Q67: Pass | R67: Pass | S67: Tested | T67: 17 Dec 25 Ivan: No testing phone number for calling | U67: update:2026/1/5

Sheet Monitor Screen (DS)
A1: Case No | B1: Seg. | C1: Description | D1: Test Procedure | E1: Test Data | F1: Expected Result | G1: Date | H1: Tester | I1: Result | S1: Status | T1: Remarks
I2: Language | L2: Desktop | P2: Tablet | Q2: Mobile
I3: English | J3: Trad Chi | K3: Simp Chi | L3: Chrome | M3: FireFox | N3: Edge | O3: Safari | P3: Pad | Q3: Android | R3: IOS
A4: Scenario 1: | B4: Flag Up Monitor UI
A5: =MAX($A$1:A4) + 1 -> 1 | C5: Flag Up Monitor Screen UI in different browser and device | D5: 1. Open Extranet DA in Chrome 2. Login with DS account in DA 3. Select the post and "CyberRCC" for destination 4. Select Flag Up in Revamped CyberRCC menu 5. Repeat Step 1 - 4 in FireFox 6. Repeat Step 1 - 4 in Edge 7. Repeat Step 1 - 4 in Safari 8. Repeat Step 1 - 4 in Tablet Chrome 9. Repeat Step 1 - 4 in Android Chrome 10. Repeat Step 1 - 4 in iOS Chrome | F5: 4: Display Flag Up Monitor Screen Properly 5 - 10: Same display as Chrome browser | G5: 46013 | H5: Oscar | L5: Pass | M5: Pass | N5: Pass | O5: Pass | P5: Pass | Q5: Pass | R5: Pass | S5: Tested | T5: (Pad) icon is not align (fixed)
A6: Scenario 2: | B6: Form III Monitor UI
A7: =MAX($A$1:A6) + 1 -> 2 | C7: Form III Monitor Screen UI in different browser and device | D7: 1. Open Extranet DA in Chrome 2. Login with DS account in DA 3. Select the post and "CyberRCC" for destination 4. Select Monitor Screen (RRF III) in Revamped CyberRCC menu 5. Repeat Step 1 - 4 in FireFox 6. Repeat Step 1 - 4 in Edge 7. Repeat Step 1 - 4 in Safari 8. Repeat Step 1 - 4 in Tablet Chrome 9. Repeat Step 1 - 4 in Android Chrome 10. Repeat Step 1 - 4 in iOS Chrome | F7: 4: Display Form III Montor Monitor Screen Properly 5 - 10: Same display as Chrome browser | G7: 46013 | H7: Oscar | L7: Pass | M7: Pass | N7: Pass | O7: Pass | P7: Pass | Q7: Pass | R7: Pass | S7: Tested | T7: Description no wrap (fixed)
A8: Scenario 3: | B8: Inbox Monitor UI
A9: =MAX($A$1:A8) + 1 -> 3 | C9: Inbox Screen UI in different browser and device | D9: 1. Open Extranet DA in Chrome 2. Login with DS account in DA 3. Select the post and "CyberRCC" for destination 4. Select Inbox in Revamped CyberRCC menu 5. Repeat Step 1 - 4 in FireFox 6. Repeat Step 1 - 4 in Edge 7. Repeat Step 1 - 4 in Safari 8. Repeat Step 1 - 4 in Tablet Chrome 9. Repeat Step 1 - 4 in Android Chrome 10. Repeat Step 1 - 4 in iOS Chrome | F9: 4: Display Inbox Monitor Screen Properly 5 - 10: Same display as Chrome browser | G9: 46013 | H9: Oscar | L9: Pass | M9: Pass | N9: Pass | O9: Pass | P9: Pass | Q9: Pass | R9: Pass | S9: Tested
A10: Scenario 4: | B10: Alert Monitor UI
A11: =MAX($A$1:A10) + 1 -> 4 | C11: Alert Screen UI in different browser and device | D11: 1. Open Extranet DA in Chrome 2. Login with DS account in DA 3. Select the post and "CyberRCC" for destination 4. Select Alert in Revamped CyberRCC Navigation Plate 5. Repeat Step 1 - 4 in FireFox 6. Repeat Step 1 - 4 in Edge 7. Repeat Step 1 - 4 in Safari 8. Repeat Step 1 - 4 in Tablet Chrome 9. Repeat Step 1 - 4 in Android Chrome 10. Repeat Step 1 - 4 in iOS Chrome | F11: 4: Display Alert Monitor Screen Properly 5 - 10: Same display as Chrome browser | G11: 46013 | H11: Oscar | L11: Pass | M11: Pass | N11: Pass | O11: Pass | P11: Pass | Q11: Pass | R11: Pass | S11: Tested | T11: (Pad) phone number in the left (fixed)
A12: Scenario 5: | B12: Flag Up Monitor Function
A13: =MAX($A$1:A12) + 1 -> 5 | C13: Display DS Flag Up Monitor | D13: 1. Open Extranet DA in Chrome 2. Login with DS account in DA 3. Select the post and "CyberRCC" for destination 4. Select Flag Up in Revamped CyberRCC menu | E13: CRN: 80929400 and 80704060 | F13: 4: Compared the result with DA RRF With Flag | G13: 45980 | H13: Ivan | L13: PASS | M13: PASS | N13: PASS | O13: PASS | S13: Tested
A14: =MAX($A$1:A13) + 1 -> 6 | C14: Display RCC Admin Flag Up Monitor | D14: 1. Open Revamped CyberRCC 2. Login with RCC Admin account 3. Select Flag Up in Revamped CyberRCC menu | F14: 3: Show all Flag Up RRF with correct information in monitor Screen | G14: 45980 | H14: Ivan | L14: PASS | M14: PASS | N14: PASS | O14: PASS | S14: Tested
A15: =MAX($A$1:A14) + 1 -> 7 | C15: Sorting Flag Up List | D15: 1. Open Extranet DA in Chrome 2. Login with DS account in DA 3. Select the post and "CyberRCC" for destination 4. Select Flag Up in Revamped CyberRCC menu 5. Change Sorting Oldest to Newest | F15: 4: Default sorting in newest 5: change sorting to oldest | G15: 45980 | H15: Ivan | L15: PASS | M15: PASS | N15: PASS | O15: PASS | S15: Tested
A16: =MAX($A$1:A15) + 1 -> 8 | C16: Page Switching for Flag Up List | D16: 1. Open Revamped CyberRCC 2. Login with RCC Admin account 3. Select Flag Up in Revamped CyberRCC menu 4. Click 2 in Page Navigation 5. Click Left Arrow in Page Navigation | F16: 3: Default in first page and show first 10 records 4: switch to second page of records and show next 10 records 5: Switch back to first page and show first 10 records | G16: 45980 | H16: Ivan | L16: PASS | M16: PASS | N16: PASS | O16: PASS | S16: Tested | T16: have not more 10 records
A17: =MAX($A$1:A16) + 1 -> 9 | C17: Export for Flag Up List | D17: 1. Open Extranet DA in Chrome 2. Login with DS account in DA 3. Select the post and "CyberRCC" for destination 4. Select Flag Up in Revamped CyberRCC menu 5. Click Download Full List Button | F17: 5: A Excel with Flag Up List will be automatically downloaded. The result list should be same as flag up monitor screen. The columns of excel will be same as in DA RRF With Flag Screen | G17: 45980 | H17: Ivan | L17: PASS | M17: PASS | N17: PASS | O17: PASS | S17: Tested | T17: Nothing when Click Download Full List Button" 1 Dec 2025 Ivan: Tested Ok
A18: =MAX($A$1:A17) + 1 -> 10 | C18: Redirect RRF Detail Page | D18: 1. Open Extranet DA in Chrome 2. Login with DS account in DA 3. Select the post and "CyberRCC" for destination 4. Select Flag Up in Revamped CyberRCC menu 5. Click the CRN 6. Select Flag Up again 7. Click Navigation Icon in the record | E18: 80929400 | F18: 5 & 7: Redirect to RRF Detail Page for the RRF | G18: 46027 | H18: Ivan | L18: FAIL | O18: FAIL | S18: To Be Retested | T18: 1 Dec 25 Ivan: It cannot redirect to RRF Detail Page. it will open a new tab with Flag Up again if click all or CRN number. 1/5 Ivan: In the CRN, only RRFIII can click Navigation Icon to RRF Detail Page, RRFI cannot click the Navigation Icon. | U18: update:2026/1/5
A19: 11 | C19: Call Client of RRF | D19: 1. Open Extranet DA in Chrome 2. Login with DS account in DA 3. Select the post and "CyberRCC" for destination 4. Select Flag Up in Revamped CyberRCC menu 5. Click the phone number in client contact | F19: 5: Directly Call the Phone number in mobile | G19: 46015 | H19: Oscar | Q19: Pass | R19: Pass | S19: Tested | T19: Get into detail instead of calling | U19: update:2026/1/5
A20: Scenario 6: | B20: Form III Monitor Function
A21: =MAX($A$1:A20) + 1 -> 12 | C21: Display DS Form III Monitor | D21: 1. Open Extranet DA in Chrome 2. Login with DS account in DA 3. Select the post and "CyberRCC" for destination 4. Select Form III Monitor in Revamped CyberRCC menu | F21: 4: Compared the result with DA RRF III Waiting for Acknowledgement (DS) | G21: 46027 | H21: Ivan | O21: FAIL | S21: To Be Retested | T21: 1/5 Ivan: Missing one record, CRN80709160 cannot show on Revamped CyberRCC menu
A22: =MAX($A$1:A21) + 1 -> 13 | C22: Display RCC Admin Form III Monitor | D22: 1. Open Revamped CyberRCC 2. Login with RCC Admin account 3. Select Form III Monitor in Revamped CyberRCC menu | F22: 3: Show all Form III RRF with correct information in monitor Screen | G22: 45980 | H22: Ivan | L22: PASS | M22: PASS | N22: PASS | O22: PASS | S22: Tested
A23: =MAX($A$1:A22) + 1 -> 14 | C23: Sorting Form III List | D23: 1. Open Extranet DA in Chrome 2. Login with DS account in DA 3. Select the post and "CyberRCC" for destination 4. Select Form III Monitor in Revamped CyberRCC menu 5. Change Sorting Oldest to Newest | F23: 4: Default sorting in newest 5: change sorting to oldest | G23: 45980 | H23: Ivan | L23: PASS | M23: PASS | N23: PASS | O23: PASS | S23: Tested
A24: =MAX($A$1:A23) + 1 -> 15 | C24: Page Switching for Form III List | D24: 1. Open Revamped CyberRCC 2. Login with RCC Admin account 3. Select Form III Monitor in Revamped CyberRCC menu 4. Click 2 in Page Navigation 5. Click Left Arrow in Page Navigation | F24: 3: Default in first page and show first 10 records 4: switch to second page of records and show next 10 records 5: Switch back to first page and show first 10 records | G24: 45980 | H24: Ivan | L24: PASS | M24: PASS | N24: PASS | O24: PASS | S24: Tested
A25: =MAX($A$1:A24) + 1 -> 16 | C25: Export for Form III List | D25: 1. Open Extranet DA in Chrome 2. Login with DS account in DA 3. Select the post and "CyberRCC" for destination 4. Select Form III Monitor in Revamped CyberRCC menu 5. Click Download Full List Button | F25: 5: A Excel with New Form III Monitor List will be automatically downloaded. The result list should be same as flag up monitor screen. The columns of excel will be same as in DA RRF III Waiting for Acknowledgement (DS) Screen | G25: 45980 | H25: Ivan | L25: PASS | M25: PASS | N25: PASS | O25: PASS | S25: Tested | T25: Nothing when Click Download Full List Button" 1 Dec 2025 Ivan: Tested Ok
A26: =MAX($A$1:A25) + 1 -> 17 | C26: Redirect RRF Detail Page | D26: 1. Open Extranet DA in Chrome 2. Login with DS account in DA 3. Select the post and "CyberRCC" for destination 4. Select Form III Monitor in Revamped CyberRCC menu 5. Click the CRN 6. Select Form III Monitor again 7. Click Navigation Icon in the record | F26: 5 & 7: Redirect to RRF Detail Page for the RRF | G26: 46027 | H26: Ivan | L26: FAIL | O26: FAIL | S26: To Be Retested | T26: 1 Dec 25 Ivan: It cannot redirect to RRF Detail Page. it will open a new tab for Form III Monitor again if click all or CRN number. 1/5 Ivan: click Navigation Icon nothing, it cannot go RRF Detail Page.
A27: =MAX($A$1:A26) + 1 -> 18 | C27: Call Client of RRF | D27: 1. Open Extranet DA in Chrome 2. Login with DS account in DA 3. Select the post and "CyberRCC" for destination 4. Select Form III Monitor in Revamped CyberRCC menu 5. Click the phone number in client contact | F27: 5: Directly Call the Phone number in mobile | H27: Oscar | Q27: Pass | R27: Pass | S27: Tested
A28: Scenario 7: | B28: Inbox Monitor Function
A29: =MAX($A$1:A28) + 1 -> 19 | C29: Display DS Inbox Monitor | D29: 1. Open Extranet DA in Chrome 2. Login with DS account in DA 3. Select the post and "CyberRCC" for destination 4. Select Inbox in Revamped CyberRCC menu | E29: CRN: 71516900 | F29: 4: Display same as DA Inbox Page. Readed Inbox mark as Grey. Default Sorting Unread first, then sort by message date time | G29: 46028 | H29: Ivan | L29: FAIL | O29: FAIL | S29: To Be Retested | T29: 1/6 Ivan: the Sorting show Grey message fisrt , then unreaded message.
A30: =MAX($A$1:A29) + 1 -> 20 | C30: Display RCC Admin Inbox Monitor | D30: 1. Open Revamped CyberRCC 2. Login with RCC Admin account 3. Select Inbox in Revamped CyberRCC menu | F30: 3: Display all Inbox in the screen | G30: 45980 | H30: Ivan | L30: PASS | M30: PASS | N30: PASS | O30: PASS | S30: Tested
A31: =MAX($A$1:A30) + 1 -> 21 | C31: Filtering Inbox List | D31: 1. Open Revamped CyberRCC 2. Login with RCC Admin account 3. Select Inbox in Revamped CyberRCC menu 4. Select RRF I 5. Select RRF III | F31: 3: All Inbox will be shown 4: Only Inbox of RRF I will be shown 5: Only Inbox of RRF III will be shown | G31: 45980 | H31: Ivan | L31: PASS | M31: PASS | N31: PASS | O31: PASS | S31: Tested
A32: =MAX($A$1:A31) + 1 -> 22 | C32: Page Switching for Inbox List | D32: 1. Open Revamped CyberRCC 2. Login with RCC Admin account 3. Select Inbox in Revamped CyberRCC menu 4. Click 2 in Page Navigation 5. Click Left Arrow in Page Navigation | F32: 3: Default in first page and show first 10 records 4: switch to second page of records and show next 10 records 5: Switch back to first page and show first 10 records | G32: 45980 | H32: Ivan | L32: PASS | M32: PASS | N32: PASS | O32: PASS | S32: Tested
A33: =MAX($A$1:A32) + 1 -> 23 | C33: Mark Inbox as read | D33: 1. Open Extranet DA in Chrome 2. Login with DS account in DA 3. Select the post and "CyberRCC" for destination 4. Select Inbox in Revamped CyberRCC menu 5. Click Non Grey Inbox Record 6. Back to Inbox Page | E33: CRN:68910710 | F33: 5: Redirect to RRF Detail Page 6: The selected inbox record marked in grey | G33: 46028 | H33: Ivan | L33: FAIL | O33: FAIL | S33: To Be Retested | T33: 1 Dec 25 Ivan: It cannot redirect to RRF Detail Page, it will open a new tab for Inbox again if click all or CRN number. 1/6 Ivan: the selected inbox record cannot mark in grey.
A34: Scenario 8: | B34: Alert Function
A35: =MAX($A$1:A34) + 1 -> 24 | C35: RCC Supervisor send alert to DS | D35: 1. Login DA as RCC Supervisor 2. Open a Form I RRF 3. Click Alert DS Button 4. Input the alert message 5. Click Alert Button | E35: CRN: 80214120 Account: ITApps CRN:80373060 Account: ITApps1 & lauyf2 | F35: 3: A Pop up will show for RCC Supervisor to input alert message 5: Alert Message will be created to corresponding DS list, including PSM based on DGUS. Audit log will be inserted | G35: 46014 | H35: Derek | L35: Pass | S35: Tested | T35: a) When click New Alert after inputing alert message, it through javax/mail/Address Retested in 23/12/2025
A36: =MAX($A$1:A35) + 1 -> 25 | C36: DS View alert unread message in DA | D36: 1. Login DA as DS 2. Open a RRF with unread alert message | E36: Send Alert Message from RCC Supervisor and not read by DS | F36: 2: Alert Message show in purple background at the notification bar. The alert message will be marked as read | G36: 23/12/2025 2/1/2026 | H36: Derek | L36: Pass | S36: Tested | T36: Not Purple Background
A37: =MAX($A$1:A36) + 1 -> 26 | C37: DS View all alert messages in DA | D37: 1. Login DA as DS 2. Open a RRF with unread alert message 3. Click Request History | F37: 3: A list of Alert Messages of the RRF will be shown | G37: 46014 | H37: Derek | L37: Pass | S37: Tested
A38: =MAX($A$1:A37) + 1 -> 27 | C38: DS View alert message in CyberRCC | D38: 1. Open Extranet DA in Chrome 2. Login with DS account in DA 3. Select the post and "CyberRCC" for destination 4. Select Alert in Revamped CyberRCC Navigation Plate | F38: 4: Display all alerts of DS's RRF | H38: Oscar | L38: Pass
A39: =MAX($A$1:A38) + 1 -> 28 | C39: RCC Admin View alert message in CyberRCC | D39: 1. Open Revamped CyberRCC 2. Login with RCC Admin account 3. Select Alert in Revamped CyberRCC Navigation Plate | F39: 3: Display all alerts | H39: Oscar | L39: Pass
A40: =MAX($A$1:A39) + 1 -> 29 | C40: Sort Alert Message in CyberRCC | D40: 1. Open Extranet DA in Chrome 2. Login with DS account in DA 3. Select the post and "CyberRCC" for destination 4. Select Alert in Revamped CyberRCC Navigation Plate 5. Change Sorting Oldest to Newest | F40: 4: Default sorting in newest 5: change sorting to oldest | H40: Oscar | L40: Pass
A41: =MAX($A$1:A40) + 1 -> 30 | C41: Page Switching Alert Message in CyberRCC | D41: 1. Open Revamped CyberRCC 2. Login with RCC Admin account 3. Select Alert in Revamped CyberRCC Navigation Plate 4. Click 2 in Page Navigation 5. Click Left Arrow in Page Navigation | F41: 3: Default in first page and show first 10 records 4: switch to second page of records and show next 10 records 5: Switch back to first page and show first 10 records | H41: Oscar | L41: Pass
A42: =MAX($A$1:A41) + 1 -> 31 | C42: Redirect RRF Detail Page in CyberRCC | D42: 1. Open Extranet DA in Chrome 2. Login with DS account in DA 3. Select the post and "CyberRCC" for destination 4. Select Alert in Revamped CyberRCC Navigation Plate 5. Click the CRN 6. Select Alert in Revamped CyberRCC Homepage Navigation Plate 7. Click Navigation Icon in the record | F42: 5 & 7: Redirect to RRF Detail Page for the RRF | H42: Oscar | L42: Fail | S42: To Be Fixed | T42: No Alert in Navigation Plate
A43: =MAX($A$1:A42) + 1 -> 32 | C43: Export for Alert List in CyberRCC | D43: 1. Open Extranet DA in Chrome 2. Login with DS account in DA 3. Select the post and "CyberRCC" for destination 4. Select Alert in Revamped CyberRCC Navigation Plate 5. Click Download Full List Button | F43: 5: A Excel Alert List will be automatically downloaded. The result list should be same as alert monitor screen. The columns of excel will be follow: - CRN - From User - To User - Alert Message - Sent Alert Datetime - Is Read - Read Alert Datetime | G43: 46029 | H43: Oscar | L43: Pass | S43: Tested
A44: =MAX($A$1:A43) + 1 -> 33 | C44: Call Client of RRF | D44: 1. Open Extranet DA in Chrome 2. Login with DS account in DA 3. Select the post and "CyberRCC" for destination 4. Select Alert in Revamped CyberRCC Navigation Plate 5. Click the phone number in client contact | F44: 5: Directly Call the Phone number in mobile | G44: 46014 | H44: Oscar | Q44: Pass | R44: Pass | S44: Tested
A45: =MAX($A$1:A44) + 1 -> 34 | C45: RCC Supervisor update SPSM email list in DA | D45: 1. Login as RCC Supervisor 2. Select SPSM Email List 3. Double Click one of the area, update the email address 4. Click OK | F45: 4: Email list will be updated for SPSM | G45: 46014 | H45: Derek | L45: Pass | S45: Tested
A46: =MAX($A$1:A45) + 1 -> 35 | C46: Send email to SPSM if RRF issued with VIP Location and emergency repair item | D46: 1. Login DA as RCC CSO 2. Created a Form I RRI with VIP Location Code and emergency repair item 3. Logout RCC CSO and Login DA as RCC BEO 4. Enter MTC Attend datetime 5. Confirm Appointment and submit as RRF | E46: Assume SPSM email has configured for the Area | F46: 5: Send email with pdf attachement to SPSM based on the SPSM email list configuration | H46: Jacky

Sheet Dashboard
A1: Case No | B1: Seg. | C1: Description | D1: Test Procedure | E1: Test Data | F1: Expected Result | G1: Date | H1: Tester | I1: Result | S1: Status | T1: Remarks
I2: Language | L2: Desktop | P2: Tablet | Q2: Mobile
I3: English | J3: Trad Chi | K3: Simp Chi | L3: Chrome | M3: FireFox | N3: Edge | O3: Safari | P3: Pad | Q3: Android | R3: IOS
A4: Scenario 1: | B4: Statistic UI
A5: =MAX($A$1:A4) + 1 -> 1 | C5: DA Monitoring in different browser and device | D5: 1. Open External DA in Chrome 2. Login as DS and select CyberRCC 3. Select Statistic 4. Repeat Step 1 - 3 in FireFox 5. Repeat Step 1 - 3 in Edge 6. Repeat Step 1 - 3 in Safari 7. Repeat Step 1 - 3 in Tablet Chrome 8. Repeat Step 1 - 3 in Android Chrome 9. Repeat Step 1 - 3 in iOS Chrome | F5: 3: Display Statistic Page in Chrome Properly 4 - 9: Display Statistic Page as Chrome | H5: Jacky | L5: Fail | S5: To Be Fixed | T5: <Contract No.> & <Date Range> ui bug, when change font size
A6: =MAX($A$1:A5) + 1 -> 2 | C6: RCC Statistic in different browser and device | D6: 1. Open External DA in Chrome 2. Login as DS and select CyberRCC 3. Select Statistic 4. Select RCC Statistics in Tab 5. Repeat Step 1 - 4 in FireFox 6. Repeat Step 1 - 4 in Edge 7. Repeat Step 1 - 4 in Safari 8. Repeat Step 1 - 4 in Tablet Chrome 9. Repeat Step 1 - 4 in Android Chrome 10. Repeat Step 1 - 4 in iOS Chrome | F6: 4: Display RCC Statistic Page in Chrome Properly 5 - 10: Display RCC Statistic Page as Chrome | H6: Jacky | L6: Fail | S6: To Be Fixed | T6: when screen become smaller width, the subtitle can not display all. (tablet size)
A7: Scenario 2:
A8: =MAX($A$1:A7) + 1 -> 3 | C8: Display Data for DA Monitoring | D8: 1. Open External DA 2. Login as DS and select CyberRCC 3. Select Statistic | F8: 3: Display RRF I Status, RRF III Status and DA Monitoring Correctly
A9: =MAX($A$1:A8) + 1 -> 4 | C9: Filter for DA Monitoring | D9: 1. Open External DA 2. Login as DS and select CyberRCC 3. Select Statistic 4. Enter Contract No and Click Search 5. Click Reset, select date range amd enter date range and click Search 6. Click Reset, check High-risk and click Search 7. Click Reset, check FEHD-Related and click Search 8. Click Reset, select Area and click Search 9. Click Reset, select Location Prefix and click Search 10. Click Reset, enter Issuing Officer Post and click Search | F9: 4: Data display for that contract no 5: Data display for that date range 6: Data display for that High Risk RRF 7: Data display for that FEHD-Related RRF 8: Data display for that area 9: Data display for that location prefix 10: Data display for that issuing officer post
A10: =MAX($A$1:A9) + 1 -> 5 | C10: Export Data for DA Monitoring | D10: 1. Open External DA 2. Login as DS and select CyberRCC 3. Select Statistic 4. Click Export XLS File | F10: 4: Excel with statistic information will be exported
A11: =MAX($A$1:A10) + 1 -> 6 | C11: Search Data for Client Satisfaction Survey Result | D11: 1. Open External DA 2. Login as DS and select CyberRCC 3. Select Statistic 4. Select RCC Statistics 5. Select Client Satisfaction Survey 6. Enter date range, area. Location prefix and click search | F11: 6: Show Client Satisfaction Survey Result base on search criteria
A12: =MAX($A$1:A11) + 1 -> 7 | C12: Export Data for Client Satisfaction Survey Result | D12: 1. Open External DA 2. Login as DS and select CyberRCC 3. Select Statistic 4. Select RCC Statistics 5. Select Client Satisfaction Survey 6. Enter date range, area. Location prefix 7. Click Export XLS file | F12: 7: Excel with client satisfaction survey information will be exported
